BEGIN:VCALENDAR
VERSION:2.0
PRODID:-//Mentoring Mondays - ECPv6.15.20//NONSGML v1.0//EN
CALSCALE:GREGORIAN
METHOD:PUBLISH
X-WR-CALNAME:Mentoring Mondays
X-ORIGINAL-URL:https://mentoringmondays.xyz
X-WR-CALDESC:Events for Mentoring Mondays
REFRESH-INTERVAL;VALUE=DURATION:PT1H
X-Robots-Tag:noindex
X-PUBLISHED-TTL:PT1H
BEGIN:VTIMEZONE
TZID:UTC
BEGIN:STANDARD
TZOFFSETFROM:+0000
TZOFFSETTO:+0000
TZNAME:UTC
DTSTART:20230101T000000
END:STANDARD
END:VTIMEZONE
BEGIN:VEVENT
DTSTART;VALUE=DATE:20241212
DTEND;VALUE=DATE:20241214
DTSTAMP:20260424T110534
CREATED:20240801T181023Z
LAST-MODIFIED:20240801T181023Z
UID:5916-1733961600-1734134399@mentoringmondays.xyz
SUMMARY:69th Annual PSCA Conference
DESCRIPTION:PSCA will have a block of rooms available for the conference dates at the discounted rate of $149 plus tax per night. Attendees can begin making reservations once registration opens. \n​ \nAdditional questions can be directed to PSCA Staff at info@paschoolcounselor.org.
URL:https://mentoringmondays.xyz/event/69th-annual-psca-conference/
CATEGORIES:American School Counselor Association (ASCA)
END:VEVENT
BEGIN:VEVENT
DTSTART;VALUE=DATE:20241207
DTEND;VALUE=DATE:20241208
DTSTAMP:20260424T110534
CREATED:20241119T142954Z
LAST-MODIFIED:20241119T142954Z
UID:6021-1733529600-1733615999@mentoringmondays.xyz
SUMMARY:KAPS Fall Seminar Hosted by Jackson Purchase Chapter
DESCRIPTION:When12/07/2024 \nTime: 8:00 AM – 5:00 PM (CST) \nLocationKentucky Dam Village Inn\, 166 Upper Village Dr\, Gilbertsville\, KY 42044 \n\nThe Jackson Purchase Chapter of KAPS will be hosting an in-person fall seminar taught by Stephen Chino\, Jr\, PLS (Bio)\, and Jon Payne\, PLS (Bio) on December 7th\, 2024 at the Kentucky Dam Village Inn. 
URL:https://mentoringmondays.xyz/event/kaps-fall-seminar-hosted-by-jackson-purchase-chapter/
CATEGORIES:Kentucky
END:VEVENT
BEGIN:VEVENT
DTSTART;VALUE=DATE:20241205
DTEND;VALUE=DATE:20241207
DTSTAMP:20260424T110534
CREATED:20241119T212247Z
LAST-MODIFIED:20241119T212247Z
UID:6052-1733356800-1733529599@mentoringmondays.xyz
SUMMARY:TSPS SEFT (Surveying Education Foundation of Texas\, Inc.) Seminar
DESCRIPTION: \n12/5/2024 to 12/6/2024\n\n\nWhen:\nDecember 5-6\, 2024\n1:00 PM\n\n\nWhere:\nTyler Junior College – West Campus\n1530 SSW Loop 323\nTyler\, Texas  75701\nUnited States\n\n\nContact:\nseftregistration@hotmail.com\n903-258-3686 (TEXT ONLY)
URL:https://mentoringmondays.xyz/event/tsps-seft-surveying-education-foundation-of-texas-inc-seminar/
CATEGORIES:Texas
END:VEVENT
BEGIN:VEVENT
DTSTART;VALUE=DATE:20241205
DTEND;VALUE=DATE:20241206
DTSTAMP:20260424T110534
CREATED:20241119T153715Z
LAST-MODIFIED:20241119T153715Z
UID:6036-1733356800-1733443199@mentoringmondays.xyz
SUMMARY:NHLSA 55th Annual Meeting & Equipment Show
DESCRIPTION:Breakfast and Breaks – Thursday is in the Assembly\, and Friday is in the Armory. Some members were unsure last year of where the coffee was on Friday.\nOvernight rooms – The deadline to register for an overnight room is November 13th\, there is also a link for ease of registering. See page 19.\nAlso on page 19\, is hopefully better clarification on Parking.\nThe CST exam will be held on Friday from 8am-noon. The deadline to register for this is November 29th. For full details\, see page 10.\nThe Past Presidents Breakfast group photo will be taken at 7:50am SHARP! See page 9.\nDES has been generous in approving our sessions this year. See page 8.\nThe cash bar will open at 4pm (in the Penstock room) with the beginning of the Annual Business Meeting in the Pemigewasset room\, and the reception with the Live Auction will be held from 6-7pm in the Penstock room.\nPlease consider donating an item to our Live and Silent auctions\, which benefits the Foundation Scholarship Fund. We appreciate your support!\nWe’re looking forward to hearing from some of our members with the Live Entertainment\, JD and the Stonemasons.\nPlease review the two-page registration carefully as there is a lot of information there. Thursday & Friday Lunch tickets (includes breakfast and breaks) are for those who are not registered and attend to network and/or attend the Equipment Show. Banquet tickets are for those who are not registered for the day\, or a guest of a registered member.\nIf you don’t plan to attend any of the meals\, please note N/A on which one(s).
URL:https://mentoringmondays.xyz/event/nhlsa-55th-annual-meeting-equipment-show/
CATEGORIES:New Hampshire
END:VEVENT
BEGIN:VEVENT
DTSTART;VALUE=DATE:20241203
DTEND;VALUE=DATE:20241206
DTSTAMP:20260424T110534
CREATED:20240729T170912Z
LAST-MODIFIED:20240729T170912Z
UID:5856-1733184000-1733443199@mentoringmondays.xyz
SUMMARY:MSPS - 2024 Winter Seminar
DESCRIPTION:When:\nDecember 3 & 5\, 2024\n\n\nWhere:\nOnline – Zoom\nUnited States\n\n\nPresenter:\nChuck Karayan\, LS\n\n\nContact:\nMSPS\ninfo@mnsurveyor.com\n952-479-4204\n\n\n\n  \nAgenda  (sessions will NOT be recorded)\nDecember 3 & 5 – Evidence\, Exhibits and Testimony – Boundaries and Beyond  (12:00pm- 4:00pm each day | 8 total PDH’s) \nPresenter: Chuck Karayan\, LS \nThis intermediate–to–advanced level seminar provides an overview of the Law of Evidence\, civil lawsuits\, trial processes\, and professional practices. Legal concepts and terminology are discussed within the context that they arise. The seminar can be thought of as having three parts: \n\nBasic concepts and the Rules of Evidence\nApplication of the concepts and rules within the context of our profession\, and\nForensic Surveying practice.\n\nThe course discusses and explores areas of professional practice that can help to increase productivity and reduce potential liability\, as well as improve service to the client. The goal is to provide practical tools to assist participants in being a more effective witness/surveyor. \nThis seminar is based on the Federal Rules of Evidence.
URL:https://mentoringmondays.xyz/event/msps-2024-winter-seminar/
CATEGORIES:Minnesota
END:VEVENT
BEGIN:VEVENT
DTSTART;VALUE=DATE:20241122
DTEND;VALUE=DATE:20241123
DTSTAMP:20260424T110534
CREATED:20241119T143947Z
LAST-MODIFIED:20241119T143947Z
UID:6025-1732233600-1732319999@mentoringmondays.xyz
SUMMARY:RISPLS 54th Annual Meeting & Conference
DESCRIPTION:RHODE ISLAND SOCIETY OF PROFESSIONAL LAND SURVEYORS Presents: 54th Annual Meeting & Conference\nWHEN: Friday – November 22\, 2024\nWHERE: Crowne Plaza Hotel\, 801 Greenwich Avenue\, Warwick\, RI 02886\nRIGISTRATION FORM: Nov 22\, 2024 CONVENTION INVITATION & REGISTATION FORM \nNOTE: Registration Deadline is November 14\, 2024. A Late Fee of $10 will be added if received after 11/14/24 \nThis is an All Day Seminar. Guest Speaker Gary Kent\, PS Presents The Art of Retracement at the RISPLS 54th Annual Meeting & Conference:
URL:https://mentoringmondays.xyz/event/rispls-54th-annual-meeting-conference/
CATEGORIES:Rhode Island
END:VEVENT
BEGIN:VEVENT
DTSTART;VALUE=DATE:20241121
DTEND;VALUE=DATE:20241124
DTSTAMP:20260424T110534
CREATED:20240801T175617Z
LAST-MODIFIED:20240801T175617Z
UID:5905-1732147200-1732406399@mentoringmondays.xyz
SUMMARY:NYSSCA 2024 Annual Conference-The Drive Behind Thrive-Save The Date
DESCRIPTION:November 21 – November 23\n 
URL:https://mentoringmondays.xyz/event/nyssca-2024-annual-conference-the-drive-behind-thrive-save-the-date/
CATEGORIES:American School Counselor Association (ASCA)
END:VEVENT
BEGIN:VEVENT
DTSTART;VALUE=DATE:20241121
DTEND;VALUE=DATE:20241123
DTSTAMP:20260424T110534
CREATED:20240730T150821Z
LAST-MODIFIED:20240730T150821Z
UID:5877-1732147200-1732319999@mentoringmondays.xyz
SUMMARY:Vendor & Exhibitor Registration - 2024 AkSCA Conference: Stronger Together
DESCRIPTION:We are excited to have your presence at this year’s Alaska School Counselor Association Conference! Your exhibit and participation will enhance our goal to provide an inspiring professional development event for all our attendees.   \nDetails of the exhibitor/vendor contract can be viewed {HERE} \nIf you have any questions\, please contact:  \nSarah Swanson\, (907) 934-3021\, Email: sswanson@bssd.org\, \nor Kristen McDonald\, (907) 232-1923\, Email: kristen.mcdonald@matsuk12.us. \nWe look forward to seeing you soon!
URL:https://mentoringmondays.xyz/event/vendor-exhibitor-registration-2024-aksca-conference-stronger-together/
CATEGORIES:American School Counselor Association (ASCA)
END:VEVENT
BEGIN:VEVENT
DTSTART;VALUE=DATE:20241120
DTEND;VALUE=DATE:20241122
DTSTAMP:20260424T110534
CREATED:20240730T125526Z
LAST-MODIFIED:20240730T125526Z
UID:5860-1732060800-1732233599@mentoringmondays.xyz
SUMMARY:NDSPLS - 2024 Fall Seminar
DESCRIPTION:November 20-21\, 2024\n2024 Fall Seminar\nBSC Energy Center |  Bismarck\, ND
URL:https://mentoringmondays.xyz/event/ndspls-2024-fall-seminar/
CATEGORIES:North Dakota
END:VEVENT
BEGIN:VEVENT
DTSTART;VALUE=DATE:20241113
DTEND;VALUE=DATE:20241115
DTSTAMP:20260424T110534
CREATED:20240918T173621Z
LAST-MODIFIED:20240918T173621Z
UID:5949-1731456000-1731628799@mentoringmondays.xyz
SUMMARY:Delaware - Survey Conference & Expo
DESCRIPTION:Wednesday – Thursday\nNovember 13 & 14\, 2024\nAtlantic Sands Hotel & Conference Center Rehoboth Beach\, D \nSurvey 2024 will be held at the Atlantic Sands Hotel & Conference Center in Rehoboth Beach\, DE. The two-day conference\nwill once again be filled with informative sessions\, lunches and breaks\, and a cocktail reception on Wednesday\, all held in and around\nthe Exhibit Hall. Each class this year will be two hours\, giving registrants 2 pdh credits per course.. The category listing\, “Unlicensed\nTechnician” will again be available for anyone in the surveying field\, who is not licensed in any state and therefore will not require PDH\ncredits. Attending two (2) of Jeff Lucas’s legal-related sessions satisfies Maryland COMAR Regulation 09.13.08.03.\nThe conference opens at 7:30 am on Wednesday with a continental breakfast in the Exhibit Hall. The morning session begins\npromptly at 8:00 am and ends at noon. Lunch will be served from noon until 1:00 pm. The afternoon session begins at 1:00 pm and will\nconclude at 5:00 pm. There will be two breaks\, one in the morning and one in the afternoon\, held in the Exhibit Hall to provide\nregistrants and exhibitors several chances to network. At the conclusion of the day on Wednesday\, there will be a cocktail reception\nheld in the Exhibit Hall.
URL:https://mentoringmondays.xyz/event/delaware-survey-conference-expo/
CATEGORIES:Delaware
END:VEVENT
BEGIN:VEVENT
DTSTART;VALUE=DATE:20241113
DTEND;VALUE=DATE:20241115
DTSTAMP:20260424T110534
CREATED:20240729T131757Z
LAST-MODIFIED:20240729T131757Z
UID:5840-1731456000-1731628799@mentoringmondays.xyz
SUMMARY:DAS 2024 Survey Conference
DESCRIPTION:Survey 2024 will be held at the Atlantic Sands Hotel & Conference Center in Rehoboth Beach\, DE. The two-day conference\nwill once again be filled with informative sessions\, lunches and breaks\, and a cocktail reception on Wednesday\, all held in and around\nthe Exhibit Hall. \nEach class this year will be two hours\, giving registrants 2 pdh credits per course.. The category listing\, “Unlicensed\nTechnician” will again be available for anyone in the surveying field\, who is not licensed in any state and therefore will not require PDH\ncredits. Attending two (2) of Jeff Lucas’s legal-related sessions satisfies Maryland COMAR Regulation 09.13.08.03.\nThe conference opens at 7:30 am on Wednesday with a continental breakfast in the Exhibit Hall. The morning session begins\npromptly at 8:00 am and ends at noon. Lunch will be served from noon until 1:00 pm. The afternoon session begins at 1:00 pm and will\nconclude at 5:00 pm. There will be two breaks\, one in the morning and one in the afternoon\, held in the Exhibit Hall to provide\nregistrants and exhibitors several chances to network. At the conclusion of the day on Wednesday\, there will be a cocktail reception\nheld in the Exhibit Hall. \nThursday begins again at 7:30 am with a continental breakfast in the Exhibit Hall. The format for the day is the same as\nWednesday with the morning session beginning at 8:00 am and ending at noon\, and the afternoon session beginning at 1:00 pm and\nending at 5:00 pm. Lunch will be served at noon. The conference concludes with the end of the afternoon classes at 5:00 pm. Continuing\nEducation Units (CEU) will be computed from signatures on sign-in sheets in each of the classrooms and certificates will be formulated\nfrom those sheets and mailed to the registrants.
URL:https://mentoringmondays.xyz/event/das-2024-survey-conference/
CATEGORIES:Delaware
END:VEVENT
BEGIN:VEVENT
DTSTART;VALUE=DATE:20241106
DTEND;VALUE=DATE:20241109
DTSTAMP:20260424T110534
CREATED:20240801T182412Z
LAST-MODIFIED:20240801T182412Z
UID:5924-1730851200-1731110399@mentoringmondays.xyz
SUMMARY:WSCA Annual Conference 2024
DESCRIPTION:November 6-8\, 2024\nKalahari Resort & Convention Center ● Wisconsin Dells\, WI
URL:https://mentoringmondays.xyz/event/wsca-annual-conference-2024/
CATEGORIES:American School Counselor Association (ASCA)
END:VEVENT
BEGIN:VEVENT
DTSTART;VALUE=DATE:20241106
DTEND;VALUE=DATE:20241109
DTSTAMP:20260424T110534
CREATED:20240801T175731Z
LAST-MODIFIED:20240801T175731Z
UID:5907-1730851200-1731110399@mentoringmondays.xyz
SUMMARY:NCSCA 2024 Fall Conference
DESCRIPTION:Start\n06 Nov 2024\n\nEnd\n08 Nov 2024\n\nLocation\nEmbassy Suites ~ Charlotte-Concord
URL:https://mentoringmondays.xyz/event/ncsca-2024-fall-conference/
CATEGORIES:American School Counselor Association (ASCA)
END:VEVENT
BEGIN:VEVENT
DTSTART;VALUE=DATE:20241106
DTEND;VALUE=DATE:20241109
DTSTAMP:20260424T110534
CREATED:20240801T154639Z
LAST-MODIFIED:20240801T154639Z
UID:5897-1730851200-1731110399@mentoringmondays.xyz
SUMMARY:2024 MCA Fall Conference
DESCRIPTION:MS Coast Convention Center\, Biloxi\, MS \nNovember 6-8\, 2024
URL:https://mentoringmondays.xyz/event/2024-mca-fall-conference/
CATEGORIES:American School Counselor Association (ASCA)
END:VEVENT
BEGIN:VEVENT
DTSTART;VALUE=DATE:20241106
DTEND;VALUE=DATE:20241107
DTSTAMP:20260424T110534
CREATED:20240730T171023Z
LAST-MODIFIED:20240730T171023Z
UID:5885-1730851200-1730937599@mentoringmondays.xyz
SUMMARY:GSCA 2024 Conference
DESCRIPTION:Wednesday\, November 6\, 2024 to Friday\, November 8\, 2024\n\n\nHyatt Regency Savannah \n2 West Bay Street\nSavannah\, GA 31401-1107\nUnited States\n\n* Registration open until 11/8/24 at 12:00 AM (EST)
URL:https://mentoringmondays.xyz/event/gsca-2024-conference/
CATEGORIES:American School Counselor Association (ASCA)
END:VEVENT
BEGIN:VEVENT
DTSTART;VALUE=DATE:20241104
DTEND;VALUE=DATE:20241105
DTSTAMP:20260424T110534
CREATED:20240801T182129Z
LAST-MODIFIED:20240801T182129Z
UID:5922-1730678400-1730764799@mentoringmondays.xyz
SUMMARY:VTSCA Annual Conference 2024
DESCRIPTION:When\n04 Nov 2024\n\n\n7:30 AM – 4:00 PM\n\nLocation\nStoweflake Mountain Resort & Spa
URL:https://mentoringmondays.xyz/event/vtsca-annual-conference-2024/
CATEGORIES:American School Counselor Association (ASCA)
END:VEVENT
BEGIN:VEVENT
DTSTART;VALUE=DATE:20241103
DTEND;VALUE=DATE:20241106
DTSTAMP:20260424T110534
CREATED:20240801T171631Z
LAST-MODIFIED:20240801T171631Z
UID:5901-1730592000-1730851199@mentoringmondays.xyz
SUMMARY:Missouri School Counselor 2024 Fall Conference
DESCRIPTION:Location: Tan-Tar-A Conference Center\, Osage Beach\, MO \nDate: November 3rd-5th\, 2024
URL:https://mentoringmondays.xyz/event/missouri-school-counselor-2024-fall-conference/
CATEGORIES:American School Counselor Association (ASCA)
END:VEVENT
BEGIN:VEVENT
DTSTART;VALUE=DATE:20241103
DTEND;VALUE=DATE:20241106
DTSTAMP:20260424T110534
CREATED:20240730T193115Z
LAST-MODIFIED:20240730T193115Z
UID:5889-1730592000-1730851199@mentoringmondays.xyz
SUMMARY:Iowa School Counselor Association 2024 Conference
DESCRIPTION:November 3rd-5th\, 2024 \nDES Moines\, IA
URL:https://mentoringmondays.xyz/event/iowa-school-counselor-association-2024-conference/
CATEGORIES:American School Counselor Association (ASCA)
END:VEVENT
BEGIN:VEVENT
DTSTART;VALUE=DATE:20241028
DTEND;VALUE=DATE:20241029
DTSTAMP:20260424T110534
CREATED:20240801T181302Z
LAST-MODIFIED:20240801T181302Z
UID:5918-1730073600-1730159999@mentoringmondays.xyz
SUMMARY:2024 RISCA Fall Conference
DESCRIPTION:When\n28 Oct 2024\n\n \n7:00 AM – 3:00 PM\n\nLocation\nCrowne Plaza (Warwick)
URL:https://mentoringmondays.xyz/event/2024-risca-fall-conference/
CATEGORIES:American School Counselor Association (ASCA)
END:VEVENT
BEGIN:VEVENT
DTSTART;VALUE=DATE:20241028
DTEND;VALUE=DATE:20241031
DTSTAMP:20260424T110534
CREATED:20240801T180345Z
LAST-MODIFIED:20240801T180345Z
UID:5910-1730073600-1730332799@mentoringmondays.xyz
SUMMARY:2024 AOCC Conference
DESCRIPTION:The All Ohio Counselors Conference (AOCC) kicks off with a spectacular day of Pre-Conference Workshops\, available at an a la carte fee when you register. We offer Half-Day Workshops\, both in the afternoon and evening\, that provide 3 Continuing Education Hours each\, with hands-on instruction from top-notch leaders across the counseling profession.
URL:https://mentoringmondays.xyz/event/2024-aocc-conference/
CATEGORIES:American School Counselor Association (ASCA)
END:VEVENT
BEGIN:VEVENT
DTSTART;VALUE=DATE:20241025
DTEND;VALUE=DATE:20241026
DTSTAMP:20260424T110534
CREATED:20240801T180738Z
LAST-MODIFIED:20240801T180738Z
UID:5914-1729814400-1729900799@mentoringmondays.xyz
SUMMARY:2024 Oregon SCA Annual Conference
DESCRIPTION:Join us on Friday\, October 25\, 2024 at the University of Oregon in Eugene. \nRegistration is now open! To take advantage of members-only early bird registration rates (available until August 31\, 2024)\, become a member. You can also register at the standard non-member rate. \nFor more information about the conference\, visit our Annual Conference info page.
URL:https://mentoringmondays.xyz/event/2024-oregon-sca-annual-conference/
CATEGORIES:American School Counselor Association (ASCA)
END:VEVENT
BEGIN:VEVENT
DTSTART;VALUE=DATE:20241024
DTEND;VALUE=DATE:20241026
DTSTAMP:20260424T110534
CREATED:20240729T130246Z
LAST-MODIFIED:20240729T130246Z
UID:5838-1729728000-1729900799@mentoringmondays.xyz
SUMMARY:2024 ASPS Fall Conference
DESCRIPTION:When:\nOctober 24 & 25\, 2024\n\n\nWhere:\nMount Magazine Lodge\n577 Lodge Drive\nParis\, Arkansas  72855\nUnited States\n\n\nContact:\nS. Amber Weida\narsurv@sbcglobal.net\n501-321-0958
URL:https://mentoringmondays.xyz/event/2024-asps-fall-conference/
CATEGORIES:Arkansas
END:VEVENT
BEGIN:VEVENT
DTSTART;VALUE=DATE:20241024
DTEND;VALUE=DATE:20241026
DTSTAMP:20260424T110534
CREATED:20230428T165808Z
LAST-MODIFIED:20230428T165808Z
UID:4998-1729728000-1729900799@mentoringmondays.xyz
SUMMARY:PLSO- 2024 Fall Seminar
DESCRIPTION:Maumee Bay Lodge & Conference Center\, 1750 State Park Rd\, Oregon\, OH 43616
URL:https://mentoringmondays.xyz/event/plso-2024-fall-seminar/
CATEGORIES:Ohio
END:VEVENT
BEGIN:VEVENT
DTSTART;VALUE=DATE:20241023
DTEND;VALUE=DATE:20241024
DTSTAMP:20260424T110534
CREATED:20240730T165045Z
LAST-MODIFIED:20240730T165045Z
UID:5883-1729641600-1729727999@mentoringmondays.xyz
SUMMARY:DSCA's Fall College & Career Fair 2024
DESCRIPTION:The Delaware School Counselor Association is hosting their Fall College & Career Fair for students and families on Wednesday\, October 23rd\, 2024 at the Bob Carpenter Center on the campus of the University of Delaware in Newark\, DE. 
URL:https://mentoringmondays.xyz/event/dscas-fall-college-career-fair-2024/
CATEGORIES:American School Counselor Association (ASCA)
END:VEVENT
BEGIN:VEVENT
DTSTART;VALUE=DATE:20241023
DTEND;VALUE=DATE:20241026
DTSTAMP:20260424T110534
CREATED:20240730T154250Z
LAST-MODIFIED:20240730T154250Z
UID:5879-1729641600-1729900799@mentoringmondays.xyz
SUMMARY:CASC 2024 CONFERENCE & EXPO
DESCRIPTION:Start Date: 10/23/2024 1:30 PM PDT\n\nEnd Date: 10/25/2024 5:00 PM PDT \nVenue Name: Riverside Convention Center \nLocation: \nRiverside\, CA  United States\nOrganization Name: CASC \nContact: \nLinda Hudson\nEmail: linda.hudson@schoolcounselor-ca.org\nPhone: (909) 815-5222\nJoin us October 23 – 25\, 2024 for the 24th Annual CASC Conference & Expo!
URL:https://mentoringmondays.xyz/event/casc-2024-conference-expo/
CATEGORIES:American School Counselor Association (ASCA)
END:VEVENT
BEGIN:VEVENT
DTSTART;VALUE=DATE:20241016
DTEND;VALUE=DATE:20241020
DTSTAMP:20260424T110534
CREATED:20240729T141836Z
LAST-MODIFIED:20240729T141836Z
UID:5848-1729036800-1729382399@mentoringmondays.xyz
SUMMARY:MSS - 57th ANNUAL FALL CONFERENCE & EXHIBITION
DESCRIPTION:What\n\n\n57th Annual Fall Conference & Exhibition \n\n\nWhen\n\n\nOctober 16-19\, 2024 \n\n\nWhere\n\n\nAshore Resort & Beach Club \n10100 Coastal Highway \nOcean City\, Maryland  21842
URL:https://mentoringmondays.xyz/event/mss-57th-annual-fall-conference-exhibition/
CATEGORIES:Maryland
END:VEVENT
BEGIN:VEVENT
DTSTART;VALUE=DATE:20241014
DTEND;VALUE=DATE:20241018
DTSTAMP:20260424T110534
CREATED:20240202T183559Z
LAST-MODIFIED:20240202T183559Z
UID:5645-1728864000-1729209599@mentoringmondays.xyz
SUMMARY:ASPLS 2024 Fall Conference
DESCRIPTION:Save the Date for the annual Fall Conference and Tech Expo\, October 14-17\, 2024 at the Lake Guntersville State Park Lodge. Schedule and registration details will be posted later this year.
URL:https://mentoringmondays.xyz/event/aspls-2024-fall-conference/
CATEGORIES:Alabama
END:VEVENT
BEGIN:VEVENT
DTSTART;VALUE=DATE:20241013
DTEND;VALUE=DATE:20241017
DTSTAMP:20260424T110534
CREATED:20240801T145521Z
LAST-MODIFIED:20240801T145521Z
UID:5895-1728777600-1729123199@mentoringmondays.xyz
SUMMARY:2024 LCA Annual Conference
DESCRIPTION:The LCA Conference will be available by October 1.   Changes are being made to make it more participant-friendly.   As LCA sends information concerning using the information\, PLEASE READ THE INFORMATION.  Registration at the conference will be different (and we hope easier). \nTHE LCA CONFERENCE WILL BE SUBMITTED FOR CE CLOCK APPROVAL  FOR LAC\, CAC\, RAC\, SOCIAL WORKERS\, LMFTs\, LPCs\, PLPCs\, and PLMFTs.  HOURS WILL ALSO BE AVAILABLE FOR PROFESSIONAL SCHOOL COUNSELORS and FOR NBCC CERTIFIED. \nLouisiana Counseling Association has been approved by NBCC as an Approved Continuing Education Provider\, ACEP No. 2019.  Programs that do not qualify for NBCC credit are clearly identified.  LCA is solely responsible for all aspects of the program.
URL:https://mentoringmondays.xyz/event/2024-lca-annual-conference/
CATEGORIES:American School Counselor Association (ASCA)
END:VEVENT
BEGIN:VEVENT
DTSTART;VALUE=DATE:20241010
DTEND;VALUE=DATE:20241012
DTSTAMP:20260424T110534
CREATED:20240801T172425Z
LAST-MODIFIED:20240801T172425Z
UID:5903-1728518400-1728691199@mentoringmondays.xyz
SUMMARY:The Power Of Us New Jersey SCA Conference
DESCRIPTION:OCTOBER 10-11\, 2024\nPINES MANOR\, EDISON\, NJ
URL:https://mentoringmondays.xyz/event/the-power-of-us-new-jersey-sca-conference/
CATEGORIES:American School Counselor Association (ASCA)
END:VEVENT
BEGIN:VEVENT
DTSTART;VALUE=DATE:20241009
DTEND;VALUE=DATE:20241010
DTSTAMP:20260424T110534
CREATED:20240730T162213Z
LAST-MODIFIED:20240730T162213Z
UID:5881-1728432000-1728518399@mentoringmondays.xyz
SUMMARY:CSCA 2024 Pre-conference: Career and Technical Education in Colorado
DESCRIPTION:Feel like you want to dive into the world of Career & Technical Education (CTE) in Colorado? \nWant to be a champion for CTE for your students\, families and communities? \nWanting to add an Endorsement to your SSP license? \nBecome a CTE Specialist Endorsed School Counselor! \nJoin for this four-hour course: CTE in Colorado\, that will be tailored specifically for School Counselors (typically this course is 8 hours or 3 months in length). This is a special opportunity to complete this engaging and info-packed requirement for endorsement! \nComplete a few ‘homework’ items that will be relevant to work you do with students and Career Development including topics like: Work Based Learning\, Equity and Inclusion\, Meaningful Career Conversations\, Messaging & Perceptions. \nFeel readied to submit for endorsement with CDE after earning the completion certificate AND ready to be the biggest champion of CTE for your school/district! Details will be provided during the course for this process.
URL:https://mentoringmondays.xyz/event/csca-2024-pre-conference-career-and-technical-education-in-colorado/
CATEGORIES:American School Counselor Association (ASCA)
END:VEVENT
END:VCALENDAR