BEGIN:VCALENDAR
VERSION:2.0
PRODID:-//Mentoring Mondays - ECPv6.15.20//NONSGML v1.0//EN
CALSCALE:GREGORIAN
METHOD:PUBLISH
X-WR-CALNAME:Mentoring Mondays
X-ORIGINAL-URL:https://mentoringmondays.xyz
X-WR-CALDESC:Events for Mentoring Mondays
REFRESH-INTERVAL;VALUE=DURATION:PT1H
X-Robots-Tag:noindex
X-PUBLISHED-TTL:PT1H
BEGIN:VTIMEZONE
TZID:UTC
BEGIN:STANDARD
TZOFFSETFROM:+0000
TZOFFSETTO:+0000
TZNAME:UTC
DTSTART:20220101T000000
END:STANDARD
END:VTIMEZONE
BEGIN:VEVENT
DTSTART;VALUE=DATE:20240208
DTEND;VALUE=DATE:20240211
DTSTAMP:20260425T034041
CREATED:20231024T214909Z
LAST-MODIFIED:20231024T214909Z
UID:5507-1707350400-1707609599@mentoringmondays.xyz
SUMMARY:WVSPS 2024 Annual Conference
DESCRIPTION: February 8th – 10th\, 2024 Stonewall Resort\, Roanoke\, West Virginia
URL:https://mentoringmondays.xyz/event/wvsps-2024-annual-conference/
CATEGORIES:West Virgina
END:VEVENT
BEGIN:VEVENT
DTSTART;VALUE=DATE:20240208
DTEND;VALUE=DATE:20240211
DTSTAMP:20260425T034041
CREATED:20231024T202554Z
LAST-MODIFIED:20231024T202554Z
UID:5480-1707350400-1707609599@mentoringmondays.xyz
SUMMARY:NCSS - 2024 Conference & Trade Show
DESCRIPTION:Date\nThursday\, February 8\, 2024 – Saturday\, February 10\, 2024\n\n\nAddress\n4700 Emperor Blvd\, I-40 at Exit 282 (Page Road)\nDurham\, NC 27703\n\n\n\n  \nIn 2024 we will be in North Carolina’s Capital City for our annual conference and Trade Show. Mark your calendar now to join us at the Sheraton Imperial Hotel Raleigh-Durham\, 4700 Emperor Blvd\, I-40 at Exit 282 (Page Road)\, Durham\, NC 27703. Registration for vendors and attendees will open in late November. Click Here for Details
URL:https://mentoringmondays.xyz/event/ncss-2024-conference-trade-show/
CATEGORIES:North Carolina
END:VEVENT
BEGIN:VEVENT
DTSTART;VALUE=DATE:20240208
DTEND;VALUE=DATE:20240210
DTSTAMP:20260425T034041
CREATED:20230718T144830Z
LAST-MODIFIED:20230718T144830Z
UID:5153-1707350400-1707523199@mentoringmondays.xyz
SUMMARY:PSAN-Winter Conference 2024
DESCRIPTION:February 8-9\, 2024
URL:https://mentoringmondays.xyz/event/psan-winter-conference-2024/
CATEGORIES:Nebraska
END:VEVENT
BEGIN:VEVENT
DTSTART;VALUE=DATE:20240208
DTEND;VALUE=DATE:20240210
DTSTAMP:20260425T034041
CREATED:20230428T134307Z
LAST-MODIFIED:20230428T134307Z
UID:4981-1707350400-1707523199@mentoringmondays.xyz
SUMMARY:MAPS 2024 Annual Convention
DESCRIPTION:Annual Convention\, February 8 & 9\, 2024 with Wendy Lathrop as the Speaker. \nHotel Details\nPlease mention you are with: the Mississippi Association of\nProfessional Surveyors or MAP for special group rate.\nYou will need to make your reservation by January 20\,\n2024\nHampton Inn\n601- 636-6100\n3330 Clay Street\nVicksburg\, MS 39180
URL:https://mentoringmondays.xyz/event/maps-2024-annual-convention/
CATEGORIES:Mississippi
END:VEVENT
BEGIN:VEVENT
DTSTART;VALUE=DATE:20240207
DTEND;VALUE=DATE:20240210
DTSTAMP:20260425T034041
CREATED:20231220T203535Z
LAST-MODIFIED:20231220T203548Z
UID:5578-1707264000-1707523199@mentoringmondays.xyz
SUMMARY:2024 IPLSA Annual Conference
DESCRIPTION:Student Registration:\nEarly bird full registration: $100\nEarly bird one-day registration: $60\nRegular full registration: $150\nRegular one-day registration: $110 \nPlease note:\n– If you must register on-site\, there will be an additional $75 charge per registration.\n– Registration tickets include all meals and events for the selected days. If you have a guest who is not attending the conference\, please purchase separate meal tickets for them.  \nTo register via mail\, please fill out this form and send to the IPLSA Office. Forms must be received in the IPLSA Office by January 31\, 2024 at 5 p.m.  \nPre-Conference Program Add On – Implementing Davis-Bacon Requirements In Your Firm\nWHAT: Join us for a deep dive into preparing your surveying or engineering firm to comply with new Davis Bacon regulations. Learn about best practices from our legal experts\, and hear from firms who have already implemented these changes.\nWHO: Firm representatives responsible for ensuring compliance with Davis Bacon Regulations\nTechnician Track\nIPLSA is partnering with the Seiler Geospatial Division to offer a new half-day session track on Wednesday\, February 7! These sessions will cover technical topics ideal for technical support personnel but relevant to licensed surveyors as well. This track is included in the conference registration fee but is also being offered at no charge to technicians or field staff who are not able to attend the full conference. Please select this free item while registering. Technicians are also welcome to attend the Wednesday night Preview Party. \nCancellation Policy\nCancellations must be made in writing by 5 PM on January 5\, 2024 to be eligible for a refund\, less a processing fee of $50 for each registered attendee. \nHotel Information\nCrowne Plaza Springfield\n3000 S Dirksen Pkwy\, Springfield\, IL 62703 \nThere is a hotel block available at the Crowne Plaza\, please call the hotel at 217-529-7777 – be sure to indicate you are with IPLSA. The conference rate is $125 plus tax. The cut-off date for discounted hotel reservations is Friday\, January 12\, 2024 (or until the room block sells out).
URL:https://mentoringmondays.xyz/event/2024-iplsa-annual-conference-2/
CATEGORIES:Illinois
END:VEVENT
BEGIN:VEVENT
DTSTART;VALUE=DATE:20240207
DTEND;VALUE=DATE:20240210
DTSTAMP:20260425T034041
CREATED:20230816T142155Z
LAST-MODIFIED:20230816T142155Z
UID:5284-1707264000-1707523199@mentoringmondays.xyz
SUMMARY:2024 IPLSA Annual Conference
DESCRIPTION:Wednesday\, February 7\, 2024 8:00 AM – Friday\, February 9\, 2024 4:00 PM CST\n\n\nCrowne Plaze – Springfield\, IL\n3000 South Dirksen Parkway\nSpringfield\, IL 62703\n\n\n\n\n\n\n\n\nThe 2024 IPLSA Annual Conference will take place February 7-9 at the Crowne Plaza in Springfield.
URL:https://mentoringmondays.xyz/event/2024-iplsa-annual-conference/
CATEGORIES:Illinois
END:VEVENT
BEGIN:VEVENT
DTSTART;VALUE=DATE:20240204
DTEND;VALUE=DATE:20240207
DTSTAMP:20260425T034041
CREATED:20230720T200726Z
LAST-MODIFIED:20230720T200726Z
UID:5253-1707004800-1707263999@mentoringmondays.xyz
SUMMARY:Texas (ASCA) 19th Annual Conference
DESCRIPTION:The 19th Annual Professional School Counselor Conference offers three days of virtual comprehensive CE programming and regularly draws more than 2\,000 attendees. Intended for school counselors across the education spectrum\, this conference is an extraordinary opportunity to learn innovative and proven techniques for effective school counseling practices as well as explore new trends and issues related to student growth and development. \nThe conference is co-hosted by the Texas School Counselor Association (TSCA) and the Texas Counseling Association (TCA).
URL:https://mentoringmondays.xyz/event/texas-asca-19th-annual-conference/
CATEGORIES:American School Counselor Association (ASCA)
END:VEVENT
BEGIN:VEVENT
DTSTART;VALUE=DATE:20240204
DTEND;VALUE=DATE:20240207
DTSTAMP:20260425T034041
CREATED:20230718T200430Z
LAST-MODIFIED:20230718T200430Z
UID:5203-1707004800-1707263999@mentoringmondays.xyz
SUMMARY:Arizona (ASCA) 2024 Annual Conference
DESCRIPTION:Starts: Sunday\, February 4th\, 2024\nTime: 4:30 pm – 6:00 pm \n\n\n\nEnds: Tuesday\, February 6th\, 2024\n\n\n Time: 2:10 pm – 3:10 pm
URL:https://mentoringmondays.xyz/event/arizona-asca-2024-annual-conference/
CATEGORIES:American School Counselor Association (ASCA)
END:VEVENT
BEGIN:VEVENT
DTSTART;VALUE=DATE:20240201
DTEND;VALUE=DATE:20240203
DTSTAMP:20260425T034041
CREATED:20231221T181418Z
LAST-MODIFIED:20231221T181418Z
UID:5583-1706745600-1706918399@mentoringmondays.xyz
SUMMARY:MSLS - 2024 Annual Conference
DESCRIPTION:MSLS Annual Conference Slated for February 1&2\nTo Be Held In The Old Port At The Regency Hotel
URL:https://mentoringmondays.xyz/event/msls-2024-annual-conference/
CATEGORIES:Maine
END:VEVENT
BEGIN:VEVENT
DTSTART;VALUE=DATE:20240125
DTEND;VALUE=DATE:20240127
DTSTAMP:20260425T034041
CREATED:20230724T205534Z
LAST-MODIFIED:20230724T205534Z
UID:5262-1706140800-1706313599@mentoringmondays.xyz
SUMMARY:Fresno State 63rd Annual Geomatics Conference
DESCRIPTION:I am excited to announce that our ticket website for the 63rd Annual Geomatics Conference is now officially live! To show our appreciation for your support\, we are offering an EARLY BIRD special until October 1st. Don’t miss out on this opportunity! \nYou can purchase your tickets at the following link: 63rd Annual Geomatics Conference Tickets \n To ensure you stay well-informed about the conference\, I invite you to connect with us on our social media platforms. You can find us on: \nLinkedIn: Sage – Fresno State \nInstagram: Fresno State Sage \nFacebook: CSUF Sage \n By following us on these platforms\, you will gain access to valuable information\, speaker announcements\, ticket sales updates\, and more. We will also actively engage with our audience\, providing a platform for discussions and networking opportunities.
URL:https://mentoringmondays.xyz/event/fresno-state-63rd-annual-geomatics-conference/
CATEGORIES:All Events
END:VEVENT
BEGIN:VEVENT
DTSTART;VALUE=DATE:20240121
DTEND;VALUE=DATE:20240125
DTSTAMP:20260425T034041
CREATED:20231024T204611Z
LAST-MODIFIED:20231024T204611Z
UID:5488-1705795200-1706140799@mentoringmondays.xyz
SUMMARY:PSLS - 2024 Surveyor's Conference
DESCRIPTION:January 21st-24th \nHershey\, PA
URL:https://mentoringmondays.xyz/event/psls-2024-surveyors-conference/
CATEGORIES:Pennsylvania
END:VEVENT
BEGIN:VEVENT
DTSTART;VALUE=DATE:20240118
DTEND;VALUE=DATE:20240120
DTSTAMP:20260425T034041
CREATED:20230605T140420Z
LAST-MODIFIED:20231220T192610Z
UID:5091-1705536000-1705708799@mentoringmondays.xyz
SUMMARY:SAMSOG- Technical Seminar
DESCRIPTION:When:\nThursday\, January 18\, 2024\n\n\nWhere:\nSonesta Gwinnett Place Atlanta Hotel\n1775 Pleasant Hill Road\nDuluth\, Georgia  30096\nUnited States\n\n\nContact:\nGinger Jones\nginger_samsog@att.net\n770-947-1767\n\n\n\n  \nTo make reservations by phone\, call 770-923-1775 and use group code SAMSOG to receive our group rate of $122.00 + tax per night. King and Double rooms are available\, parking included in nightly rate.  CLICK HERE to make your reservations ONLINE.  Reservation deadline is Thursday\, December 31\, 2023.
URL:https://mentoringmondays.xyz/event/samsog-technical-seminar/
CATEGORIES:Georgia
END:VEVENT
BEGIN:VEVENT
DTSTART;VALUE=DATE:20240117
DTEND;VALUE=DATE:20240120
DTSTAMP:20260425T034041
CREATED:20231221T201915Z
LAST-MODIFIED:20231221T201915Z
UID:5589-1705449600-1705708799@mentoringmondays.xyz
SUMMARY:NYSAPLS - 65th Annual Surveyors Conference & Exhibition
DESCRIPTION:NYSAPLS 65th Annual Surveyors Conference & Exhibition\nWednesday – Friday\, January 17-19\, 2024\nTurning Stone Resort & Casino\, Verona\, NY \nJoin NYSAPLS members for their annual conference!
URL:https://mentoringmondays.xyz/event/nysapls-65th-annual-surveyors-conference-exhibition/
CATEGORIES:Massachusetts
END:VEVENT
BEGIN:VEVENT
DTSTART;VALUE=DATE:20240117
DTEND;VALUE=DATE:20240120
DTSTAMP:20260425T034041
CREATED:20231024T204016Z
LAST-MODIFIED:20231024T204016Z
UID:5486-1705449600-1705708799@mentoringmondays.xyz
SUMMARY:PLSO - 2024 Conference
DESCRIPTION:January 17-19\, 2024\n\nVendor Reception: January 17 \nORYsn Networking: January 17 \nAnnual Membership Meeting & Awards Ceremony: January 18\nEducation & Outreach Auction: January 18
URL:https://mentoringmondays.xyz/event/plso-2024-conference/
CATEGORIES:Oregon
END:VEVENT
BEGIN:VEVENT
DTSTART;VALUE=DATE:20240117
DTEND;VALUE=DATE:20240120
DTSTAMP:20260425T034041
CREATED:20231024T201806Z
LAST-MODIFIED:20231024T201806Z
UID:5478-1705449600-1705708799@mentoringmondays.xyz
SUMMARY:NYSAPLS 65th Annual Conference
DESCRIPTION: \n1/17/2024 to 1/19/2024\n\n\nWhere:\nTurning Stone Resort & Casino\, Verona\, NY\nUnited States\n\n\n\n  \n 
URL:https://mentoringmondays.xyz/event/nysapls-65th-annual-conference/
CATEGORIES:New York
END:VEVENT
BEGIN:VEVENT
DTSTART;VALUE=DATE:20240112
DTEND;VALUE=DATE:20240113
DTSTAMP:20260425T034041
CREATED:20231024T212834Z
LAST-MODIFIED:20231024T212835Z
UID:5502-1705017600-1705103999@mentoringmondays.xyz
SUMMARY:VAS - Winter Seminar - Hosted By this TideWater Chapter
DESCRIPTION: \n1/12/2024\n\n\nWhen:\nFriday\, January 12\, 2024\n8:00 AM\n\n\nWhere:\nUnited States\n\n\nContact:\nKhea Sam\nKhea@vasurveyors
URL:https://mentoringmondays.xyz/event/vas-winter-seminar-hosted-by-this-tidewater-chapter/
CATEGORIES:Virginia
END:VEVENT
BEGIN:VEVENT
DTSTART;VALUE=DATE:20240112
DTEND;VALUE=DATE:20240113
DTSTAMP:20260425T034041
CREATED:20231024T160007Z
LAST-MODIFIED:20231024T160007Z
UID:5445-1705017600-1705103999@mentoringmondays.xyz
SUMMARY:SLSI - Workshop 2024
DESCRIPTION:Speaker: Ron Nelms\, PLS – Nelms Surveying\, Inc. \nTopics: Boundary Retracements & Legal Description Writings (Iowa Specific Examples) \nRegistration: 8AM\nProgram Begins: 8:30AM\nLunch: Noon\nAdjourn: 4:30PM
URL:https://mentoringmondays.xyz/event/slsi-workshop-2024/
CATEGORIES:Iowa
END:VEVENT
BEGIN:VEVENT
DTSTART;VALUE=DATE:20240110
DTEND;VALUE=DATE:20240113
DTSTAMP:20260425T034041
CREATED:20231024T153521Z
LAST-MODIFIED:20231024T153521Z
UID:5443-1704844800-1705103999@mentoringmondays.xyz
SUMMARY:Indiana Society of Professional Land Surveyors 72nd Annual Conference
DESCRIPTION:NOBLESVILLE\, IN \n\nJanuary 10-12\, 2024 \nyou’re Invited! Join ISPLS at the upcoming 72nd Annual Convention. \n\nStandard rates for registration will resume on Tuesday\, 12/19/2023. All rates from this point will include a $50 late fee and will be accepted based on available space. A 90% refund will be offered to requests made before Thursday\, 1/4/2024. After 1/4/2024\, no refunds will be made. No pre-registrations will be accepted after 1/4/2024. After that\, registration will beat the door and dependent upon max capacity.
URL:https://mentoringmondays.xyz/event/indiana-society-of-professional-land-surveyors-72nd-annual-conference/
CATEGORIES:Indiana
END:VEVENT
BEGIN:VEVENT
DTSTART;VALUE=DATE:20240103
DTEND;VALUE=DATE:20240307
DTSTAMP:20260425T034041
CREATED:20240102T150647Z
LAST-MODIFIED:20240102T150647Z
UID:5601-1704240000-1709769599@mentoringmondays.xyz
SUMMARY:2024 PLSC Refresher Course
DESCRIPTION:This course offers a review and self-study plan for those taking the National Council of Examiners for Engineering and Surveying (NCEES) Fundamentals of Surveying (FS) and Principles and Practice of Surveying (PS) examinations. The course is designed to aid candidates in developing and expanding exam-taking proficiencies. The Wednesday evening classes will be 3 hours in length\, starting promptly at 6:00 PM. \nThe fee for the entire course is $425 or $75 per individual class. Registration is open beginning November 1\, 2023.
URL:https://mentoringmondays.xyz/event/2024-plsc-refresher-course/
CATEGORIES:Colorado
END:VEVENT
BEGIN:VEVENT
DTSTART;VALUE=DATE:20231215
DTEND;VALUE=DATE:20231216
DTSTAMP:20260425T034041
CREATED:20231024T211616Z
LAST-MODIFIED:20231024T211616Z
UID:5500-1702598400-1702684799@mentoringmondays.xyz
SUMMARY:VSLS - 2023 Winter Webinar
DESCRIPTION:Friday\, December 15\n\n8:00 – 10:00 AM Richard Elgin – 50 Ways to Make your Surveys Better and Life Easier\n10:00 AM – Noon Richard Elgin – Surveyor’s Notes for Plats\nNoon – 1:00 PM Lunch Break\n1:00 – 3:00 PM Davey Edwards
URL:https://mentoringmondays.xyz/event/vsls-2023-winter-webinar/
CATEGORIES:Vermont
END:VEVENT
BEGIN:VEVENT
DTSTART;VALUE=DATE:20231207
DTEND;VALUE=DATE:20231208
DTSTAMP:20260425T034041
CREATED:20231024T195631Z
LAST-MODIFIED:20231024T200710Z
UID:5476-1701907200-1701993599@mentoringmondays.xyz
SUMMARY:NHLSA 53rd Annual Meeting and Equipment Show
DESCRIPTION:Date: December 7th\, 2023 \nTime: 7:30 AM  – 4:00 PM \nLocation: Double Tree by Hilton – Manchester Downtown\n700 Elm Street\nManchester\, NH 03101 \n 
URL:https://mentoringmondays.xyz/event/nhlsa-53rd-annual-meeting-and-equipment-show/
CATEGORIES:New Hampshire
END:VEVENT
BEGIN:VEVENT
DTSTART;VALUE=DATE:20231207
DTEND;VALUE=DATE:20231209
DTSTAMP:20260425T034041
CREATED:20230720T200015Z
LAST-MODIFIED:20230720T200015Z
UID:5249-1701907200-1702079999@mentoringmondays.xyz
SUMMARY:Pennsylvania (ASCA) 68th Annual Conference
DESCRIPTION:PSCA has reserved a block of rooms at the discounted rate of $149 per night. Access to the waterpark is included with your overnight room for you and your guests. Discounted rate is available until November 5\, 2023. After that date\, rooms will be reserved at the best available rate. \nTo make a reservation\, please use the button below. 
URL:https://mentoringmondays.xyz/event/pennsylvania-asca-68th-annual-conference/
CATEGORIES:American School Counselor Association (ASCA)
END:VEVENT
BEGIN:VEVENT
DTSTART;VALUE=DATE:20231206
DTEND;VALUE=DATE:20231210
DTSTAMP:20260425T034041
CREATED:20230313T142442Z
LAST-MODIFIED:20230313T142442Z
UID:4825-1701820800-1702166399@mentoringmondays.xyz
SUMMARY:68th Annual PSCA Conference & Pre-Conference
DESCRIPTION:We will be hosting the 68th Annual Conference at Kalahari Resorts and Conventions. \nStay tuned for more information!
URL:https://mentoringmondays.xyz/event/68th-annual-psca-conference-pre-conference/
CATEGORIES:American School Counselor Association (ASCA),Pennsylvania
END:VEVENT
BEGIN:VEVENT
DTSTART;VALUE=DATE:20231205
DTEND;VALUE=DATE:20231208
DTSTAMP:20260425T034041
CREATED:20231024T191450Z
LAST-MODIFIED:20231024T191450Z
UID:5468-1701734400-1701993599@mentoringmondays.xyz
SUMMARY:MNS - 2023 Winter Seminar
DESCRIPTION:When:\nDecember 5 & 7\, 2023\n\n\nWhere:\nOnline – Zoom\nUnited States\n\n\nPresenter:\nTim Prindiville\, PRINDIVILLE LAW\, PA and Kit Welchlin\, MA\, CSP\, Welchlin Keynote Presentations\n\n\nContact:\nMSPS\ninfo@mnsurveyor.com\n952-479-4204\n\n\n\n  \n 
URL:https://mentoringmondays.xyz/event/mns-2023-winter-seminar/
CATEGORIES:Minnesota
END:VEVENT
BEGIN:VEVENT
DTSTART;VALUE=DATE:20231202
DTEND;VALUE=DATE:20231203
DTSTAMP:20260425T034041
CREATED:20230718T141219Z
LAST-MODIFIED:20230718T141219Z
UID:5151-1701475200-1701561599@mentoringmondays.xyz
SUMMARY:MAPS-December Workshop
DESCRIPTION:2023 December Workshop\nSaturday\, December 2\, 2023\nOxford Convention Center\n102 Ed Perry Blvd\, Oxford\, MS 39232 \nFull Workshop: 8 am-6 pm 8 PDH $200\nWith Lunch 12-2 on your own \nMorning Session Only: 8 am- 12 4 PDH $ 150\nAfternoon Session Only: 2 pm-6 4 PDH $ 150 \n 
URL:https://mentoringmondays.xyz/event/maps-december-workshop-3/
CATEGORIES:Mississippi
END:VEVENT
BEGIN:VEVENT
DTSTART;VALUE=DATE:20231201
DTEND;VALUE=DATE:20231202
DTSTAMP:20260425T034041
CREATED:20230821T133647Z
LAST-MODIFIED:20230821T133647Z
UID:5321-1701388800-1701475199@mentoringmondays.xyz
SUMMARY:NYSAPLS- FRIDAY WEBINAR - 12/1/23 - NYS WORKER'S COMPENSATION: WHAT YOU NEED TO KNOW!
DESCRIPTION:Friday Webinar Series Join us on a Friday of every month as we present lectures on a variety of business\, project management and surveying subjects. All from the convenience of your office! You can participate by conference call\, by computer-based webinar\, or both! And some courses have been approved for NY CE credit! \n\n\n\n \n12/1/2023\n\n\nWhen:\nDecember 1\, 2023\nFrom 8:30am until 9:30am EST\n\n\nWhere:\nOnline Webinar\nNew York\nUnited States\n\n\nPresenter:\nWalt Peretti\, Associate Workers’ Compensation Examiner\n\n\nContact:\nNYSAPLS Office\ninfo@nysapls.org\n518-432-4046
URL:https://mentoringmondays.xyz/event/nysapls-friday-webinar-12-1-23-nys-workers-compensation-what-you-need-to-know/
CATEGORIES:New York
END:VEVENT
BEGIN:VEVENT
DTSTART;VALUE=DATE:20231129
DTEND;VALUE=DATE:20231203
DTSTAMP:20260425T034041
CREATED:20230120T154726Z
LAST-MODIFIED:20230120T155100Z
UID:4379-1701216000-1701561599@mentoringmondays.xyz
SUMMARY:2023 ACTE’s CareerTech VISION
DESCRIPTION:Happening Nov. 29-Dec. 2 in Phoenix\, Arizona\, VISION features an exciting\, educational and inspirational agenda packed with hundreds of concurrent sessions\, an Expo and Career Pavilion\, awards and recognition programming and a rich array of networking opportunities.
URL:https://mentoringmondays.xyz/event/actes-careertech-vision/
CATEGORIES:Arizona,Association for Career & Technical Education (ACTE)
END:VEVENT
BEGIN:VEVENT
DTSTART;VALUE=DATE:20231129
DTEND;VALUE=DATE:20231201
DTSTAMP:20260425T034041
CREATED:20230118T162646Z
LAST-MODIFIED:20230118T162646Z
UID:4345-1701216000-1701388799@mentoringmondays.xyz
SUMMARY:NDSPLS 2023 Fall Seminar
DESCRIPTION:Location: \nBSC Energy Center\, Bismarck ND
URL:https://mentoringmondays.xyz/event/ndspls-2023-fall-seminar/
CATEGORIES:North Dakota
END:VEVENT
BEGIN:VEVENT
DTSTART;VALUE=DATE:20231117
DTEND;VALUE=DATE:20240101
DTSTAMP:20260425T034041
CREATED:20230420T155317Z
LAST-MODIFIED:20230420T155317Z
UID:4946-1700179200-1704067199@mentoringmondays.xyz
SUMMARY:ASPLS- Right of Way in Alabama
DESCRIPTION:3 Professional Development Hours (PDHs) \nApproved for Alabama\, Florida\, and Tennessee. \nAfter registering\, you will receive an email with instructions for watching the recording and submitting it to receive your PDH Certificate. \nRight of Way: Real-world examples of dedicated ROW\, platted ROW\, vacated ROW\, acquired ROW\, and the process involved. Also more contentious and debated topics such as Prescriptive ROW\, ‘Left Out’ ROW (not included in legal descriptions)\, and even dig into how title is or is not held by individuals or organizations. Also\, new information on City Limits impacts ROW.
URL:https://mentoringmondays.xyz/event/aspls-right-of-way-in-alabama/
CATEGORIES:Alabama,All Events
END:VEVENT
BEGIN:VEVENT
DTSTART;VALUE=DATE:20231117
DTEND;VALUE=DATE:20240101
DTSTAMP:20260425T034041
CREATED:20230420T154221Z
LAST-MODIFIED:20230420T154221Z
UID:4944-1700179200-1704067199@mentoringmondays.xyz
SUMMARY:ASPLS- Affect of the Trail of Tears
DESCRIPTION:3 Professional Development Hours (PDHs) \nApproved for Alabama\, Florida\, and Tennessee. \nAfter registering\, you will receive an email with instructions for watching the recording and submitting to receive your PDH Certificate. \nThe Affect of the Trail of Tears on the Government Land Office Surveys (GLO): Indian lands were like a patchwork quilt on the landscape of the Mississippi Territory. Indian treaties and removal started long before statehood of Mississippi and Alabama. Most of this land belonged to the Five Civilized Tribes. The original GLO surveys were contracted around the Indian lands. After the Indian Removal Act of 1836 the previous Indian lands were surveyed by the government to be sold to immigrants. Who surveyed these lands and purchased them?
URL:https://mentoringmondays.xyz/event/aspls-affect-of-the-trail-of-tears/
CATEGORIES:Alabama,All Events
END:VEVENT
END:VCALENDAR