BEGIN:VCALENDAR
VERSION:2.0
PRODID:-//Mentoring Mondays - ECPv6.15.20//NONSGML v1.0//EN
CALSCALE:GREGORIAN
METHOD:PUBLISH
X-WR-CALNAME:Mentoring Mondays
X-ORIGINAL-URL:https://mentoringmondays.xyz
X-WR-CALDESC:Events for Mentoring Mondays
REFRESH-INTERVAL;VALUE=DURATION:PT1H
X-Robots-Tag:noindex
X-PUBLISHED-TTL:PT1H
BEGIN:VTIMEZONE
TZID:UTC
BEGIN:STANDARD
TZOFFSETFROM:+0000
TZOFFSETTO:+0000
TZNAME:UTC
DTSTART:20230101T000000
END:STANDARD
END:VTIMEZONE
BEGIN:VEVENT
DTSTART;VALUE=DATE:20240911
DTEND;VALUE=DATE:20240912
DTSTAMP:20260424T144346
CREATED:20240730T140155Z
LAST-MODIFIED:20240730T140155Z
UID:5869-1726012800-1726099199@mentoringmondays.xyz
SUMMARY:PSLS - Navigating the Depths: Best Practices for Utility Access in Confined Spaces
DESCRIPTION:Navigating the Depths: Best Practices for Utility Access in Confined Spaces \nPresented by: Bryan Hazelwood \nNoon-1PM \nCost: $45 for PSLS members\, $65 for non-members \n*Eligible for 1 PDH in PA \nSession Description: \nUtility surveys involving the mapping of underground utilities is crucial for construction\, maintenance\, or renovation projects to ensure worker safety and prevent damage to existing infrastructure.  It’s essential to be familiar with\, understand\, and identify potential hazards associated with confined spaces in order keep our crews safe when collecting utility data. \nCovered topics include: \n\nGeneral overview of confined spaces\nDangers of confined space\nMinimum requirements\nRecommended requirements\nProcedures and methods for entry\, and alternate means of data collection.
URL:https://mentoringmondays.xyz/event/psls-navigating-the-depths-best-practices-for-utility-access-in-confined-spaces/
CATEGORIES:Pennsylvania
END:VEVENT
BEGIN:VEVENT
DTSTART;VALUE=DATE:20240831
DTEND;VALUE=DATE:20240908
DTSTAMP:20260424T144346
CREATED:20240730T123255Z
LAST-MODIFIED:20240730T123255Z
UID:5858-1725062400-1725753599@mentoringmondays.xyz
SUMMARY:NHLSA - 2024 "PUTTING IT ALL TOGETHER" WORKSHOP
DESCRIPTION:NHLSA and Eric Mitchell have scheduled the New Hampshire Surveyor’s Legal Aspects Exam preparation class on two Saturdays on August 31st and September 7th. \nThis two-day workshop is designed to assist those taking the NH portion of the Surveyor’s Board Licensure exam. Topics covered include client contact\, research\, boundary interpretation\, subdivisions\, problem solving\, NH statutes and administrative rules. Bring a notebook\, pencils\, and a protractor scale to class. If you haven’t yet purchased NH Statutes Relating to Surveying and Boundaries and NH Case Law Relating to Surveying and Boundaries\, these two books will be available for sale at a discounted cost of $50 for both. \nThe classes will be held from 8:30 a.m. to 4:00 pm. (registration begins at 8:00 a.m.) at the Office of the Department of Natural & Cultural Resources (DNCR)\, 172 Pembroke Road\, Concord NH. We have a limit of 20 students\, and a waiting list will be created. If you’re a member of your state society\, we invite you to attend at the member rate. The cost includes lunch.
URL:https://mentoringmondays.xyz/event/nhlsa-2024-putting-it-all-together-workshop/
CATEGORIES:New Hampshire
END:VEVENT
BEGIN:VEVENT
DTSTART;VALUE=DATE:20240831
DTEND;VALUE=DATE:20240901
DTSTAMP:20260424T144346
CREATED:20240610T140526Z
LAST-MODIFIED:20240610T140526Z
UID:5824-1725062400-1725148799@mentoringmondays.xyz
SUMMARY:Surveyor Olympics
DESCRIPTION:Surveyor Olympics\nPresented by the ISPLS Past Presidents Council \nIndividual\, School\, & Company Teams Welcome \nSaturday\, August 31\, 2024 @ 10:00 AM\nBrown County State Park \nEvents Include:\n“Wiggle in” / “Buck in” on Line\nStiff Leg Tripod Setup\nModern Leg Tripod Setup\nAngle Guess\nPace Distance Guess\nChain Throw
URL:https://mentoringmondays.xyz/event/surveyor-olympics/
CATEGORIES:Indiana
END:VEVENT
BEGIN:VEVENT
DTSTART;VALUE=DATE:20240823
DTEND;VALUE=DATE:20240824
DTSTAMP:20260424T144346
CREATED:20240729T152925Z
LAST-MODIFIED:20240729T152925Z
UID:5852-1724371200-1724457599@mentoringmondays.xyz
SUMMARY:MALSCE - Rising Tides & Changing Waters: NOAA's Plan to Update the National Tidal Datum Epoch
DESCRIPTION:Friday\, August 23\, 2024\n12:00 PM – 1:00 PM\nThis Zoom Video Webinar will be recorded \nMaintained by NOAA’s Center for Operational Oceanographic Products and Services (CO-OPS)\, the National Tidal Datum Epoch (NTDE) is the collection of water level observations over a 19-year period to generate a set of tidal datums. NTDE incorporates data from 2\,000+ coastal water level stations. Updating this reference period will ensure the nation’s tidal datums are based on recent data and provides a common reference frame to account for long-term effects of land movement\, sea level rise and changes in tidal constituents. Accurate tidal datums are critical for federal\, state\, and private-sector coastal zone activities\, including navigation\, storm warning\, and marine boundary determination. \nAfter 2026\, CO-OPS will replace the existing 1983-2001 NTDE. The new 2002-2020 NTDE will include the CO-OPS repository of permanent real-time and historic stations with available data. New datum automation procedures will generate new NTDE products more efficiently to deliver the update on schedule.
URL:https://mentoringmondays.xyz/event/malsce-rising-tides-changing-waters-noaas-plan-to-update-the-national-tidal-datum-epoch/
CATEGORIES:Massachusetts
END:VEVENT
BEGIN:VEVENT
DTSTART;VALUE=DATE:20240823
DTEND;VALUE=DATE:20240824
DTSTAMP:20260424T144346
CREATED:20240729T140310Z
LAST-MODIFIED:20240729T140310Z
UID:5846-1724371200-1724457599@mentoringmondays.xyz
SUMMARY:MALSCE webinar: “Rising Tides & Changing Waters: NOAA’s Plan to Update the National Tidal Datum Epoch.
DESCRIPTION:This webinar is presented by Alexis Sluder\, a communications and outreach specialist with IBSS Corp\, and Katherine Fitzenreiter an oceanographer with NOAA. They will discuss how NOAA plans to replace the existing 1983-2001 National Tidal Datum Epoch (NTDE) with a new and enhanced 2002-2020 NTDE. As always\, MSLS members are invited to register at the MALSCE member rate.
URL:https://mentoringmondays.xyz/event/malsce-webinar-rising-tides-changing-waters-noaas-plan-to-update-the-national-tidal-datum-epoch/
CATEGORIES:Maine
END:VEVENT
BEGIN:VEVENT
DTSTART;VALUE=DATE:20240822
DTEND;VALUE=DATE:20240823
DTSTAMP:20260424T144346
CREATED:20240801T161706Z
LAST-MODIFIED:20240801T161706Z
UID:5899-1724284800-1724371199@mentoringmondays.xyz
SUMMARY:2024 Main School Counselor Association Annual Conference
DESCRIPTION:Location: Augusta Civic Center \nDate: August 22nd\, 2024
URL:https://mentoringmondays.xyz/event/2024-main-school-counselor-association-annual-conference/
CATEGORIES:American School Counselor Association (ASCA)
END:VEVENT
BEGIN:VEVENT
DTSTART;VALUE=DATE:20240814
DTEND;VALUE=DATE:20240815
DTSTAMP:20260424T144346
CREATED:20240730T132819Z
LAST-MODIFIED:20240730T132819Z
UID:5867-1723593600-1723679999@mentoringmondays.xyz
SUMMARY:PSLS - Workforce Development & Outreach – What’s the 411 and What Can You Do?
DESCRIPTION:Workforce Development and Outreach – What’s the 411 and What Can You Do? \nPresented by: Tim Murphy\, PLS \nNoon-1PM \nCost: $45 for PSLS members\, $65 for non-members \n*Eligible for 1 PDH in PA \nSession Description: \nIn this webinar we will provide an overview of the recent activities of NSPS & NCEES and will showcase the free resources that are available to all PSLS members and NSPS members. The end goal is to help members understand what is currently being done\, what resources are available\, and what they can do to ensure that the profession has a strong supply of talent and that our next generation are afforded increased opportunities for development and growth. This discussion will include examples of the latest outreach and development efforts that are impacting the surveying and mapping profession and increasing the number of candidates entering the profession\, as well as increasing the skill of our existing workforce. We want this to be an interactive conversation\, so please bring your questions and/or any ideas that you have for workforce development and outreach.
URL:https://mentoringmondays.xyz/event/psls-workforce-development-outreach-whats-the-411-and-what-can-you-do/
CATEGORIES:Pennsylvania
END:VEVENT
BEGIN:VEVENT
DTSTART;VALUE=DATE:20240809
DTEND;VALUE=DATE:20240810
DTSTAMP:20260424T144346
CREATED:20240729T143500Z
LAST-MODIFIED:20240729T143500Z
UID:5850-1723161600-1723247999@mentoringmondays.xyz
SUMMARY:CALS Webinar: Connecticut State Plane Coordinate System C. 2024
DESCRIPTION:Join members of CALS for a webinar presented by Dr. Thomas H. Meyer about the State Plane Coordinate System. \nClick here to learn more and register.
URL:https://mentoringmondays.xyz/event/cals-webinar-connecticut-state-plane-coordinate-system-c-2024/
CATEGORIES:Massachusetts
END:VEVENT
BEGIN:VEVENT
DTSTART;VALUE=DATE:20240809
DTEND;VALUE=DATE:20240810
DTSTAMP:20260424T144346
CREATED:20240729T134823Z
LAST-MODIFIED:20240729T134837Z
UID:5844-1723161600-1723247999@mentoringmondays.xyz
SUMMARY:ISPLS - 21st Annual Ordell L. Gertsmeier Golf Tournament
DESCRIPTION:The 2024 21st Annual Ordell L. Gertsmeier Tournament is open for registration!!  Play 18 holes at River Pointe Country Club in Hobart for a good cause! \nPlease visit this website to view the tournament details and signup your foursome and sponsorship packages. \nAct fast as early bird registration will only be available through July 12th.  Plenty of Sponsorship packages are available but only 18 Hole Sponsorships are allowable\, so sign up for to get your logo displayed on the course!  100% of all proceeds go to our Ordell L. Gertsmeier Memorial Scholarship\, presented by the Northwest Chapter of the Indiana Society of Professional Land Surveyors\, which is granted every year to help aid scholastic endeavors to those selected individuals pursuing a career in the historic profession of Land Surveying. \n\nTournament Winner Prizes\nRaffle Prizes\nRange Balls\nDrink Tickets\nDoor Gift\nOn-Course games by Dixon Golf and Aurelius Golf\nClosest-To and Longest Drive prizes\nPost Event Buffet\n\nA good time to be had by all and anyone can sign up and play!  Bring your best foursome to win this scramble style tournament and claim the top prize!
URL:https://mentoringmondays.xyz/event/ispls-21st-annual-ordell-l-gertsmeier-golf-tournament/
CATEGORIES:Indiana
END:VEVENT
BEGIN:VEVENT
DTSTART;VALUE=DATE:20240801
DTEND;VALUE=DATE:20240802
DTSTAMP:20260424T144346
CREATED:20240801T181853Z
LAST-MODIFIED:20240801T181853Z
UID:5920-1722470400-1722556799@mentoringmondays.xyz
SUMMARY:TN Counselors Conference
DESCRIPTION:September 22nd-24th\, 2024 at the Embassy Suites Hotel & Convention Center
URL:https://mentoringmondays.xyz/event/tn-counselors-conference/
CATEGORIES:American School Counselor Association (ASCA)
END:VEVENT
BEGIN:VEVENT
DTSTART;VALUE=DATE:20240801
DTEND;VALUE=DATE:20240805
DTSTAMP:20260424T144346
CREATED:20240730T131916Z
LAST-MODIFIED:20240730T131916Z
UID:5865-1722470400-1722815999@mentoringmondays.xyz
SUMMARY:Women Surveyors Summit
DESCRIPTION:LOCATION \nDoubleTree by Hilton – Pittsburgh – Green Tree – Room Block \n500 Mansfield Ave\, Pittsburgh\, PA 15205 \n• Block Room Rate is $127/night. Reservations to receive the Block Rate must be made by July 9th\, 2024. Limited rooms available at this rate\, please book early. \n• After registering\, you will be provided a link for the Block Rates. \nPlease watch for the confirmation email.
URL:https://mentoringmondays.xyz/event/women-surveyors-summit-3/
CATEGORIES:All Events
END:VEVENT
BEGIN:VEVENT
DTSTART;VALUE=DATE:20240730
DTEND;VALUE=DATE:20240731
DTSTAMP:20260424T144346
CREATED:20240730T142049Z
LAST-MODIFIED:20240730T142049Z
UID:5871-1722297600-1722383999@mentoringmondays.xyz
SUMMARY:VSLS - Fall Conference 2024
DESCRIPTION:Thursday-Friday\, September 12-13\, 2024\nFireside Inn\, Lebanon NH\nDay 1 \n\n7:30 AM  Registration opens  | Breakfast\n8:00 AM  The Art of Retracement – Following in the Footsteps\, Gary Kent (4 PDH)\nNoon       Buffet Luncheon\n1:00 PM  The Art of Retracement (continued)\, Gary Kent (4 PDH)\n5:00 PM  Daily Wrap-Up\n5:10 PM  Member/Sponsor Mixer (light appetizers and first drink free)\n\nDay 2 \n\n7:30 AM  Registration opens  | Breakfast\n8:00 AM  The Surveyor in Jeopardy\,  Gary Kent (4 PDH)\nNoon       Buffet Luncheon and Business Meeting\n1:30 PM  Education in Surveying and the Surveying Program at the State University of New York – Alfred State College of Technology\, Richard Carlson (1 PDH)\n2:30 PM   Tech Time Exhibitor Presentations (3 PDH)\n\nCadnet Services\nMaine Technical Source\nTopcon Solutions\nTopoDOT\nWaypoint Technology Group\n\n\n5:30 PM  Concluding Remarks\n\n 
URL:https://mentoringmondays.xyz/event/vsls-fall-conference-2024/
CATEGORIES:Vermont
END:VEVENT
BEGIN:VEVENT
DTSTART;VALUE=DATE:20240725
DTEND;VALUE=DATE:20240727
DTSTAMP:20260424T144346
CREATED:20240227T213530Z
LAST-MODIFIED:20240227T213530Z
UID:5682-1721865600-1722038399@mentoringmondays.xyz
SUMMARY:2024 MNS Summer Meeting
DESCRIPTION:When:\nJuly 25-26\, 2024\n8:30 AM\n\n\nWhere:\nStay tuned for location details!\nFairmont\, Minnesota  56031\nUnited States\n\n\nContact:\nMSPS\ninfo@mnsurveyor.com\n952-479-4204
URL:https://mentoringmondays.xyz/event/2024-mns-summer-meeting/
CATEGORIES:Minnesota
END:VEVENT
BEGIN:VEVENT
DTSTART;VALUE=DATE:20240719
DTEND;VALUE=DATE:20240720
DTSTAMP:20260424T144346
CREATED:20231024T194625Z
LAST-MODIFIED:20231024T194625Z
UID:5474-1721347200-1721433599@mentoringmondays.xyz
SUMMARY:PSAN - Summer Seminar 2024
DESCRIPTION:July 19\, 2024\nMahoney State Park\n28500 W Park Hwy\nAshland\, NE 68003
URL:https://mentoringmondays.xyz/event/psan-summer-seminar-2024/
CATEGORIES:Nebraska
END:VEVENT
BEGIN:VEVENT
DTSTART;VALUE=DATE:20240718
DTEND;VALUE=DATE:20240721
DTSTAMP:20260424T144346
CREATED:20230501T211948Z
LAST-MODIFIED:20230501T211948Z
UID:5007-1721260800-1721519999@mentoringmondays.xyz
SUMMARY:SAMSOG- Annual Meeting & Summer Convention 2024
DESCRIPTION: \n7/18/2024 to 7/20/2024\n\n\nWhen:\nThursday\, July 18\, 2024\n\n\nWhere:\nMap this event »\nJekyll Island Club Hotel\n371 Riverview Drive\nJekyll Island\, Georgia  31527\nUnited States\n\n\nContact:\nGinger Jones\nginger_samsog@att.net\n770-947-1767\n\n\n\n  \nJoin us in celebrating our 75th Anniversary! \n 
URL:https://mentoringmondays.xyz/event/samsog-annual-meeting-summer-convention-2024/
CATEGORIES:Georgia
END:VEVENT
BEGIN:VEVENT
DTSTART;VALUE=DATE:20240701
DTEND;VALUE=DATE:20240704
DTSTAMP:20260424T144346
CREATED:20240202T181227Z
LAST-MODIFIED:20240202T181227Z
UID:5643-1719792000-1720051199@mentoringmondays.xyz
SUMMARY:ASPLS 2024 Summer Conference
DESCRIPTION:July 1-3\, 2024\nPerdido Beach Resort\nOrange Beach\, AL \nRegistration and schedule coming soon! Sessions will be all day on July 2 and 3. \nYou can now reserve your hotel room at the following link: \nhttps://perdidobeachresort.book.pegsbe.com/promo?propertyCode=1888&accessCode=20280
URL:https://mentoringmondays.xyz/event/aspls-2024-summer-conference/
CATEGORIES:Alabama
END:VEVENT
BEGIN:VEVENT
DTSTART;VALUE=DATE:20240624
DTEND;VALUE=DATE:20240628
DTSTAMP:20260424T144346
CREATED:20240227T184103Z
LAST-MODIFIED:20240227T184103Z
UID:5667-1719187200-1719532799@mentoringmondays.xyz
SUMMARY:FSMS- 69th Annual Conference
DESCRIPTION:Doubletree by Hilton Hotel Orlando at SeaWorld – Orlando\, FL\nThe FSMS Annual Conference sets the standard for surveying education excellence by providing well-developed courses and an opportunity to network in a casual learning environment. Come explore the endless possibilities the world of surveying can offer. There are many paths you can choose to enhance your career. There has never been a better time for you to embrace the vast wealth of information and peer support offered at our annual conference. FSMS is a can’t miss family event and we can’t wait to see you there.
URL:https://mentoringmondays.xyz/event/fsms-69th-annual-conference/
CATEGORIES:Flordia,Florida
END:VEVENT
BEGIN:VEVENT
DTSTART;VALUE=DATE:20240614
DTEND;VALUE=DATE:20240615
DTSTAMP:20260424T144346
CREATED:20230718T134952Z
LAST-MODIFIED:20230718T135200Z
UID:5143-1718323200-1718409599@mentoringmondays.xyz
SUMMARY:KAPS-Golf Scramble and Family Picnic
DESCRIPTION:When: 06/14/2024\nTime: 9:30 AM\nLocation\nMy Old Kentucky Home State Park\, 668 Loretto Road\, Bardstown\, KY 40004
URL:https://mentoringmondays.xyz/event/kaps-golf-scramble-and-family-picnic/
CATEGORIES:Kentucky
END:VEVENT
BEGIN:VEVENT
DTSTART;VALUE=DATE:20240614
DTEND;VALUE=DATE:20240615
DTSTAMP:20260424T144346
CREATED:20230626T132210Z
LAST-MODIFIED:20230626T132210Z
UID:5106-1718323200-1718409599@mentoringmondays.xyz
SUMMARY:2024 Golf Scramble and Family Picnic
DESCRIPTION:When\n06/14/2024\n\n\n9:30 AM\n\nLocation\nMy Old Kentucky Home State Park\, 668 Loretto Road\, Bardstown\, KY 40004
URL:https://mentoringmondays.xyz/event/2024-golf-scramble-and-family-picnic/
CATEGORIES:Kentucky
END:VEVENT
BEGIN:VEVENT
DTSTART;VALUE=DATE:20240612
DTEND;VALUE=DATE:20240613
DTSTAMP:20260424T144346
CREATED:20240304T193857Z
LAST-MODIFIED:20240304T193857Z
UID:5710-1718150400-1718236799@mentoringmondays.xyz
SUMMARY:PSLS - Manning's Equation for Stormwater Management Webinar
DESCRIPTION:When:\nWednesday\, June 12\, 2024\n12:00 PM\n\n\nWhere:\nUnited States\n\n\nContact:\nPSLS Office\npsls@psls.org\n(717) 412-1946\n\n\n\n  \nManning’s Equation for Stormwater Management \nPresented by: Thomas Seybert\, PE\, Ph.D. \nNoon-1PM \nCost: $45 for PSLS members\, $65 for non-members \n*Eligible for 1 PDH in PA \nSession Description: \nThis webinar introduces the Manning’s equation for the analysis of open channel flow in streams\, manmade trapezoidal channels\, and circular pipes. Four forms of the equation commonly used in stormwater management will be presented. Several example problems using the equation will be covered. These examples include the analysis of channel flow capacity\, the analysis of runoff travel time in a channel or pipe\, and sizing channels and pipes for runoff conveyance.
URL:https://mentoringmondays.xyz/event/psls-mannings-equation-for-stormwater-management-webinar/
CATEGORIES:Pennsylvania
END:VEVENT
BEGIN:VEVENT
DTSTART;VALUE=DATE:20240609
DTEND;VALUE=DATE:20240610
DTSTAMP:20260424T144346
CREATED:20240415T161051Z
LAST-MODIFIED:20240415T161051Z
UID:5782-1717891200-1717977599@mentoringmondays.xyz
SUMMARY:PLSC- CCPS 5th Annual Gold Tournament
DESCRIPTION:Homestead Golf Course\n11500 W Hampden Ave.\nLakewood\, CO 80227
URL:https://mentoringmondays.xyz/event/plsc-ccps-5th-annual-gold-tournament/
CATEGORIES:Colorado
END:VEVENT
BEGIN:VEVENT
DTSTART;VALUE=DATE:20240607
DTEND;VALUE=DATE:20240608
DTSTAMP:20260424T144346
CREATED:20240415T165844Z
LAST-MODIFIED:20240415T165844Z
UID:5786-1717718400-1717804799@mentoringmondays.xyz
SUMMARY:MSS- CHESAPEAKE COLLEGE SEMINAR
DESCRIPTION:When:\nFriday\, June 7\, 2024\n8:00 AM\n\n\nWhere:\nChesapeake Community College\n1000 College Circle\nWye Mills\, Maryland  21679\nUnited States\n\n\nContact:\nKhea Sam\nKhea@marylandsurveyor.org\n800-303-6770
URL:https://mentoringmondays.xyz/event/mss-chesapeake-college-seminar/
CATEGORIES:Maryland
END:VEVENT
BEGIN:VEVENT
DTSTART;VALUE=DATE:20240530
DTEND;VALUE=DATE:20240531
DTSTAMP:20260424T144346
CREATED:20240415T175643Z
LAST-MODIFIED:20240415T175643Z
UID:5788-1717027200-1717113599@mentoringmondays.xyz
SUMMARY:MALSCE - Engineers and Land Surveyors Day at the State House
DESCRIPTION:5/30/2024 9:00 AM – 5/30/2024 11:45 AM \nMassachusetts State House\nBeacon St\nBoston\, MA 02133
URL:https://mentoringmondays.xyz/event/malsce-engineers-and-land-surveyors-day-at-the-state-house-2/
CATEGORIES:Massachusetts
END:VEVENT
BEGIN:VEVENT
DTSTART;VALUE=DATE:20240516
DTEND;VALUE=DATE:20240517
DTSTAMP:20260424T144346
CREATED:20240327T200639Z
LAST-MODIFIED:20240327T200639Z
UID:5761-1715817600-1715903999@mentoringmondays.xyz
SUMMARY:DAS - 6th Annual Golf Tournament
DESCRIPTION:On Thursday\, May 16\, 2024\, the Delaware Association of Surveyors (DAS) will hold its 6th Annual Chuck Surguy\nMemorial Golf Tournament\, In Honor of Danny Simmons at Jonathan’s Landing in Magnolia\, DE. A 9:00 am start will\nfeature a four-person scramble. The cost\, which includes a cart\, is $100 per person. \nALL PROCEEDS WILL BENEFIT THE DAS EDUCATION FUND.\nThis golf tournament is open to everyone—you do not have to be a DAS member to play!\nSponsorships are available for $100. Names of sponsors will be placed prominently on tee boxes throughout the course.\nIndividuals and businesses are invited to become sponsors of this event! If you would like to be a sponsor\, please\nemail your company logo\, as you would like it displayed on the sign\, preferably in .pdf or .png format to\ndesurveyors@gmail.com as soon as possible\, together with this form and payment.\nWe invite you to join us on May 16th\, either individually or with a foursome. It is a time for good-natured rivalries to be\nsettled\, and new ones are to be formed!!
URL:https://mentoringmondays.xyz/event/das-6th-annual-golf-tournament/
CATEGORIES:Delaware
END:VEVENT
BEGIN:VEVENT
DTSTART;VALUE=DATE:20240513
DTEND;VALUE=DATE:20240518
DTSTAMP:20260424T144346
CREATED:20240227T211348Z
LAST-MODIFIED:20240227T211348Z
UID:5680-1715558400-1715990399@mentoringmondays.xyz
SUMMARY:MSPS - 2024 SURVEYOR BOOT CAMP
DESCRIPTION:When:\nMay 13-17\, 2024\n\n\nWhere:\nHomewood Suites\n2201 Showtime Dr\nLansing\, Michigan  48906\nUnited States\n\n\nContact:\nCentral Office\nCentralOffice@misps.org\n517-484-2413
URL:https://mentoringmondays.xyz/event/msps-2024-surveyor-boot-camp/
CATEGORIES:Michigan
END:VEVENT
BEGIN:VEVENT
DTSTART;VALUE=DATE:20240510
DTEND;VALUE=DATE:20240511
DTSTAMP:20260424T144346
CREATED:20240304T185347Z
LAST-MODIFIED:20240304T185347Z
UID:5698-1715299200-1715385599@mentoringmondays.xyz
SUMMARY:NCSS - 2024 Spring Gold Tournament Registration
DESCRIPTION:Date\nFriday\, May 10\, 2024\n\n\nAddress\nJohnston County Country Club\n694 Country Club Rd.\nSmithfield\, NC 27577\n\n\nTime\n9:00am Registration\, 10:00am Shotgun Start\n\n\nMember Price\n$ 125.00\n\n\nNon-Member Price\n$ 125.00\n\n\n\n  \nSupport NCSS by enjoying a fun day on the golf course on May 10th at the Johnston County Country Club. Registration fee of $125/person includes breakfast(biscuits)\, green fees\, range balls\, cart\, refreshments during play\, and lunch following play. First and second place winners awarded cash!
URL:https://mentoringmondays.xyz/event/ncss-2024-spring-gold-tournament-registration/
CATEGORIES:North Carolina
END:VEVENT
BEGIN:VEVENT
DTSTART;VALUE=DATE:20240508
DTEND;VALUE=DATE:20240509
DTSTAMP:20260424T144346
CREATED:20240304T193608Z
LAST-MODIFIED:20240304T193608Z
UID:5708-1715126400-1715212799@mentoringmondays.xyz
SUMMARY:PSLS - Railroads Webinar
DESCRIPTION:When:\nWednesday\, May 8\, 2024\n12:00 PM\n\n\nWhere:\nUnited States\n\n\nContact:\nPSLS Office\npsls@psls.org\n(717) 412-1946\n\n\n\n  \nRailroads \nPresented by: Michael F. Brinkash\, PLS \nNoon-1PM \nCost: $45 for PSLS members\, $65 for non-members \n*Eligible for 1 PDH in PA \nSession Description: \nTopics covered in this webinar include: \n\nTypes of Title Acquired by Railroads\nRegulation of Abandonment\nDetermining Abandonment\nDiscontinuance of Railroad Rather than Abandonment\nRailbanking\nConstitutionality of Rails to Trails\nPrescriptive Easement vs. Adverse Possession of a Road Crossing\nInterpretation of Documents Creating Railroad’s Original Interest\nMeaning of a Right-of-Way\nRailroad is a Highway\nFences Along Railroad Right-of-Ways\nICC Instruction for Railroad Maps\nRailroad Guage-Distance Between Tracks-Basis of Horizontal and Vertical Datum
URL:https://mentoringmondays.xyz/event/psls-railroads-webinar/
CATEGORIES:Pennsylvania
END:VEVENT
BEGIN:VEVENT
DTSTART;VALUE=DATE:20240503
DTEND;VALUE=DATE:20240504
DTSTAMP:20260424T144346
CREATED:20240415T165350Z
LAST-MODIFIED:20240415T165350Z
UID:5784-1714694400-1714780799@mentoringmondays.xyz
SUMMARY:MSS- MSS Potomac Chapter Golf Tournament
DESCRIPTION:5/3/2024\n\n\nWhen:\nFriday\, May 3\, 2024\n8:00 am\n\n\nWhere:\nEnterprise Golf Course\n2802 Enterprise Rd\nMitchellville\, Maryland  20721\nUnited States\n\n\nContact:\nBill Pugh\nbpugh@cpja.com
URL:https://mentoringmondays.xyz/event/mss-mss-potomac-chapter-golf-tournament/
CATEGORIES:Maryland
END:VEVENT
BEGIN:VEVENT
DTSTART;VALUE=DATE:20240503
DTEND;VALUE=DATE:20240504
DTSTAMP:20260424T144346
CREATED:20240327T213021Z
LAST-MODIFIED:20240327T213021Z
UID:5768-1714694400-1714780799@mentoringmondays.xyz
SUMMARY:MSPS - 2024 FERRIS STATE UNIVERSITY BURT & MULLETT GOLF OUTING
DESCRIPTION: \n5/3/2024\n\n\nWhen:\nFriday\, May 3rd 2024\n9:00 am\n\n\nWhere:\nKatke Golf Course\n1003 Perry Ave\nBig Rapidsd\, Michigan  49307\nUnited States\n\n\nContact:\nMason Powell\npowelm33@Ferris.edu\n\n\n\n  \n2024 Ferris State University Burt & Mullett Golf Outing\nFriday\, May 3rd 2024\, 9:00 am \nKatke Golf Course \nOuting Fee: $50 per player and $35 per student \nHole Sponsors: $100 \nLunch will be provided! \nView the Full Golf Outing Flyer Here
URL:https://mentoringmondays.xyz/event/msps-2024-ferris-state-university-burt-mullett-golf-outing/
CATEGORIES:Michigan
END:VEVENT
BEGIN:VEVENT
DTSTART;VALUE=DATE:20240503
DTEND;VALUE=DATE:20240504
DTSTAMP:20260424T144346
CREATED:20240304T183206Z
LAST-MODIFIED:20240304T183206Z
UID:5695-1714694400-1714780799@mentoringmondays.xyz
SUMMARY:NCSS - CFS Biennial Update
DESCRIPTION:Date\nFriday\, May 3\, 2024\n\n\nAddress\nNCSS Office\n331 S. White Street\nWake Forest\, NC\n\n\nTime\n12:00 pm-4:00 pm\n\n\nPDHs\n4.0\n\n\nMember Price\n$ 100.00\n\n\nNon-Member Price\n$ 100.00\n\n\n\n  \nThis course will be held in person and via the Zoom platform. A camera is required to attend via Zoom. We will assume you are choosing to attend in person when you register unless you notify us of your intentions to attend via Zoom. Please email Anna Culiat if you would like to attend using the Zoom platform. \nThe Certified Floodplain Surveyor Update will be a refresher course that is a condensed version of the full CFS training. We will discuss any processing changes and/or regulatory changes that might have occurred since the first training session. \nThe CFS Update is required every 2 years for Certified Floodplain Surveyors to maintain their certification. \nNo lunch will be provided. Drinks and snacks will be available.
URL:https://mentoringmondays.xyz/event/ncss-cfs-biennial-update-2/
CATEGORIES:North Carolina
END:VEVENT
END:VCALENDAR