BEGIN:VCALENDAR
VERSION:2.0
PRODID:-//Mentoring Mondays - ECPv6.15.20//NONSGML v1.0//EN
CALSCALE:GREGORIAN
METHOD:PUBLISH
X-WR-CALNAME:Mentoring Mondays
X-ORIGINAL-URL:https://mentoringmondays.xyz
X-WR-CALDESC:Events for Mentoring Mondays
REFRESH-INTERVAL;VALUE=DURATION:PT1H
X-Robots-Tag:noindex
X-PUBLISHED-TTL:PT1H
BEGIN:VTIMEZONE
TZID:UTC
BEGIN:STANDARD
TZOFFSETFROM:+0000
TZOFFSETTO:+0000
TZNAME:UTC
DTSTART:20240101T000000
END:STANDARD
END:VTIMEZONE
BEGIN:VEVENT
DTSTART;VALUE=DATE:20260129
DTEND;VALUE=DATE:20260131
DTSTAMP:20260423T231550
CREATED:20260105T195423Z
LAST-MODIFIED:20260105T195423Z
UID:6327-1769644800-1769817599@mentoringmondays.xyz
SUMMARY:2026 MSLS Annual Conference
DESCRIPTION:Thursday\, January 29\, 2026\, to Friday\, January 30\, 2026\n\n\n\nSave the date for the Maine Society of Land Surveyors 2026 Annual Conference featuring Speaker Gary Kent on the 2026 ALTA-NSPS Land Title Survey Standards and the latest in surveying technology and equipment featured by our exhibitors. More details coming!
URL:https://mentoringmondays.xyz/event/2026-msls-annual-conference/
CATEGORIES:Maine
END:VEVENT
BEGIN:VEVENT
DTSTART;VALUE=DATE:20260128
DTEND;VALUE=DATE:20260131
DTSTAMP:20260423T231550
CREATED:20260105T185638Z
LAST-MODIFIED:20260105T185705Z
UID:6317-1769558400-1769817599@mentoringmondays.xyz
SUMMARY:Indiana Society of Professional Land Surveyors 74th Annual Convention
DESCRIPTION:The Indiana Society of Professional Land Surveyors (ISPLS) Annual Convention is the state’s premier event for licensed land surveyors\, offering a dynamic platform for education and networking. Held annually in January\, this gathering attracts professionals from across Indiana for three days of insightful sessions\, industry updates\, and peer engagement. The convention offers a range of continuing education opportunities\, exhibitor showcases\, and opportunities to connect with leaders shaping the future of land surveying in Indiana. Don’t miss the chance to advance your career and build lasting connections in the profession. \nThe 2026 ISPLS Annual Convention will be held on January 28-30\, 2026 at the Embassy Suites in Noblesville\, IN.
URL:https://mentoringmondays.xyz/event/indiana-society-of-professional-land-surveyors-74th-annual-convention/
CATEGORIES:Indiana
END:VEVENT
BEGIN:VEVENT
DTSTART;VALUE=DATE:20260126
DTEND;VALUE=DATE:20260129
DTSTAMP:20260423T231550
CREATED:20260105T211347Z
LAST-MODIFIED:20260105T211347Z
UID:6351-1769385600-1769644799@mentoringmondays.xyz
SUMMARY:67th Annual NYSAPLS Surveyors Conference and Exhibition
DESCRIPTION:Join us for NYSAPLS’ 67th Annual Surveyors Conference & Exhibition hosted by the Eastern New York Society of Land Surveyors.  The event will be held January 26-28\, 2026\, at the Saratoga Springs City Center & Hilton Hotel in beautiful Saratoga Springs\, NY.  \n  
URL:https://mentoringmondays.xyz/event/67th-annual-nysapls-surveyors-conference-and-exhibition/
CATEGORIES:New York
END:VEVENT
BEGIN:VEVENT
DTSTART;VALUE=DATE:20260123
DTEND;VALUE=DATE:20260124
DTSTAMP:20260423T231550
CREATED:20260105T200814Z
LAST-MODIFIED:20260105T200814Z
UID:6333-1769126400-1769212799@mentoringmondays.xyz
SUMMARY:MALSCE 17th Annual Legal Perspectives on Land Surveying Seminar
DESCRIPTION:Don’t miss this popular seminar examining legal issues impacting the land surveying profession! \nThis year’s seminar will feature the same insightful analysis of recent legal interpretations of surveys by Massachusetts courts and related matters that is the hallmark of this program. Attorneys from The Wagner Law Group and other notable land use practitioners will discuss topics that will enable you to create a more effective survey\, which may help parties avoid litigation or prevail on disputed claims. Learn why this is MALSCE’s most popular seminar year after year. \nConfirmed seminar presenters include Edward Englander and Denise Chicoine from The Wagner Law Group\, Melanie Kido from CATIC\, Stephen LaMonica from Massachusetts Land Court\, Kathleen M. O’Donnell\, Esq.\, and Paul Tyrell from HDR.
URL:https://mentoringmondays.xyz/event/malsce-17th-annual-legal-perspectives-on-land-surveying-seminar/
CATEGORIES:Massachusetts
END:VEVENT
BEGIN:VEVENT
DTSTART;VALUE=DATE:20260120
DTEND;VALUE=DATE:20260124
DTSTAMP:20260423T231550
CREATED:20260105T221035Z
LAST-MODIFIED:20260105T221035Z
UID:6379-1768867200-1769212799@mentoringmondays.xyz
SUMMARY:WSLS Annual Institute
DESCRIPTION:Start\n20 Jan 2026\n\nEnd\n23 Jan 2026\n\nLocation\nKalahari\, WI Dells
URL:https://mentoringmondays.xyz/event/wsls-annual-institute/
CATEGORIES:Wisconsin
END:VEVENT
BEGIN:VEVENT
DTSTART;VALUE=DATE:20260115
DTEND;VALUE=DATE:20260117
DTSTAMP:20260423T231550
CREATED:20260105T183521Z
LAST-MODIFIED:20260105T183521Z
UID:6311-1768435200-1768607999@mentoringmondays.xyz
SUMMARY:2026 Technical Seminar
DESCRIPTION:1/15/2026 to 1/16/2026\n\n\nWhen:\nThursday\, January 15\, 2026\n\n\nWhere:\nSonesta Gwinnett Place Atlanta\n1775 Pleasant Hill Road\nDuluth\, Georgia  30096\nUnited States\n\n\nContact:\nGinger Jones\nginger_samsog@att.net\n770-947-1767\n\n\n\n 
URL:https://mentoringmondays.xyz/event/2026-technical-seminar/
CATEGORIES:Georgia
END:VEVENT
BEGIN:VEVENT
DTSTART;VALUE=DATE:20260114
DTEND;VALUE=DATE:20260117
DTSTAMP:20260423T231550
CREATED:20260105T214455Z
LAST-MODIFIED:20260105T214455Z
UID:6361-1768348800-1768607999@mentoringmondays.xyz
SUMMARY:2026 PLSO Conference in Salem
DESCRIPTION:Attend In-Person\nJanuary 14 – 16\, 2026 \nAnnual Membership Meeting & Awards Ceremony: January 15\, 2026
URL:https://mentoringmondays.xyz/event/2026-plso-conference-in-salem/
CATEGORIES:Oregon
END:VEVENT
BEGIN:VEVENT
DTSTART;VALUE=DATE:20260114
DTEND;VALUE=DATE:20260117
DTSTAMP:20260423T231550
CREATED:20260105T182023Z
LAST-MODIFIED:20260105T182023Z
UID:6307-1768348800-1768607999@mentoringmondays.xyz
SUMMARY:NSPS Certified Floodplain Surveyor (CFS) Training and Certification Program
DESCRIPTION: January 14\, 2026 – January 16\, 2026\n 8:00 am – 5:00 pm\n Heritage Hotel\, Golf\, Spa\, Conference Center\, 522 Heritage Road\, Southbury\, CT
URL:https://mentoringmondays.xyz/event/nsps-certified-floodplain-surveyor-cfs-training-and-certification-program/
CATEGORIES:Connecticut
END:VEVENT
BEGIN:VEVENT
DTSTART;VALUE=DATE:20260111
DTEND;VALUE=DATE:20260115
DTSTAMP:20260423T231550
CREATED:20260105T214856Z
LAST-MODIFIED:20260105T214856Z
UID:6363-1768089600-1768435199@mentoringmondays.xyz
SUMMARY:PSLS 2026 Survey Conference
DESCRIPTION:The Pennsylvania Society of Land Surveyors (PSLS)\, a statewide professional organization\, exists for the purpose of supporting\, improving and enhancing the profession\, its members\, and the practice of land surveying. PSLS focuses on providing education\, legislative involvement\, enhancing public awareness\, and the promulgation of the ethics of the profession.
URL:https://mentoringmondays.xyz/event/psls-2026-survey-conference/
CATEGORIES:Pennsylvania
END:VEVENT
BEGIN:VEVENT
DTSTART;VALUE=DATE:20260110
DTEND;VALUE=DATE:20260112
DTSTAMP:20260423T231550
CREATED:20260105T195933Z
LAST-MODIFIED:20260105T195933Z
UID:6331-1768003200-1768175999@mentoringmondays.xyz
SUMMARY:Young Surveyors Golf Social
DESCRIPTION:1/10/2026\n\n\nWhen:\nSaturday\, January 10\, 2026\n7:00 PM\n\n\nWhere:\nWestminster Island Green\n1199 South Pleasant Valley Rd\nWestminster\, Maryland  21158\nUnited States\n\n\nContact:\nNick Alexander\nnalexander@wallacemontgomery.com\n410-828-3846
URL:https://mentoringmondays.xyz/event/young-surveyors-golf-social/
CATEGORIES:Maryland
END:VEVENT
BEGIN:VEVENT
DTSTART;VALUE=DATE:20260106
DTEND;VALUE=DATE:20260109
DTSTAMP:20260423T231550
CREATED:20260105T215421Z
LAST-MODIFIED:20260105T215421Z
UID:6367-1767657600-1767916799@mentoringmondays.xyz
SUMMARY:SDSPLS 43rd Annual Convention
DESCRIPTION:Come join us in Deadwood for the \n43rd Annual SDSPLS Convention!\n \nThe West River Chapter of the South Dakota Society of Professional Land Surveyors has been hard at work planning the 43rd Annual SDSPLS Convention and we think they have put together an excellent line up for this year’s event! \nThe Convention will offer 15 PDH\, an exciting Scholarship Auction and Raffles\, the chance to visit with our industry partners\, plus recognition of our scholarship winners and your award-winning colleagues. And\, of course\, all kinds of opportunities to catch up with friends and colleagues! 
URL:https://mentoringmondays.xyz/event/sdspls-43rd-annual-convention/
CATEGORIES:South Dakota
END:VEVENT
BEGIN:VEVENT
DTSTART;VALUE=DATE:20251113
DTEND;VALUE=DATE:20251115
DTSTAMP:20260423T231550
CREATED:20250508T131434Z
LAST-MODIFIED:20250508T131434Z
UID:6204-1762992000-1763164799@mentoringmondays.xyz
SUMMARY:ISCA Conference 2025
DESCRIPTION:Some areas of need for proposals as shared on last year’s conference evaluations include:  Trauma-Informed Counseling\, Response to Crisis\, Equity in Counseling\, Data Driven Decision Making\, MTSS/MDMTSS\, Specific Classroom Lessons\, Small Group Implementation\, Strategies to Support LGBTQ+ Students\, Improving the Principal/Counselor Relationship\, Chronic Absenteeism and School Refusal\, Best Practices on Parent Communication\, Academic Interventions\, and Engaging Ideas for Successful Programing. \nThe ISCA 2025 Conference will be held at the Westin in Itasca\, Illinois from November 13-14\, 2025.
URL:https://mentoringmondays.xyz/event/isca-conference-2025/
CATEGORIES:American School Counselor Association (ASCA)
END:VEVENT
BEGIN:VEVENT
DTSTART;VALUE=DATE:20251113
DTEND;VALUE=DATE:20251116
DTSTAMP:20260423T231550
CREATED:20250507T195925Z
LAST-MODIFIED:20250507T195944Z
UID:6198-1762992000-1763251199@mentoringmondays.xyz
SUMMARY:Florida School Counselor Association 2025 Convention
DESCRIPTION:The Florida School Counselor Association is soliciting proposals for seventy-five minute break out sessions promoting evidence-based programs highlighting the latest techniques and practices in school counseling. Presentations need to showcase proven programs\, current research\, or skills of value to counselors (pre-K to postsecondary) as well as district personnel\, graduate students\, and school counselor educators.
URL:https://mentoringmondays.xyz/event/florida-school-counselor-association/
CATEGORIES:American School Counselor Association (ASCA)
END:VEVENT
BEGIN:VEVENT
DTSTART;VALUE=DATE:20251112
DTEND;VALUE=DATE:20251114
DTSTAMP:20260423T231550
CREATED:20250707T134441Z
LAST-MODIFIED:20250707T134441Z
UID:6236-1762905600-1763078399@mentoringmondays.xyz
SUMMARY:2025 DAS Conference
DESCRIPTION:The 2025 Conference & Expo will be held on November 12 & 13\nat the Atlantic Sands Hotel & Conference Center\, Rehoboth Beach\, DE \nWe are very excited to have great speakers and courses for the 2025 conference!\nOnce everyone is confirmed\, we will email the DAS membership and then post registration information online. \nVendors – it’s not too early to request a vendor packet and secure your booth. The 2024 Conference saw many new vendors/exhibitors which filled the hall up quickly.  We hope to have them back next year as well as several new businesses
URL:https://mentoringmondays.xyz/event/2025-das-conference/
CATEGORIES:Delaware
END:VEVENT
BEGIN:VEVENT
DTSTART;VALUE=DATE:20251112
DTEND;VALUE=DATE:20251115
DTSTAMP:20260423T231550
CREATED:20250507T210624Z
LAST-MODIFIED:20250507T210624Z
UID:6201-1762905600-1763164799@mentoringmondays.xyz
SUMMARY:Georgia School Counselors Association 2025 Conference
DESCRIPTION:GSCA Annual Conference\nNovember 12-14\, 2025\nMacon\, Georgia\n  \nThe Call for Proposals Is open. The deadline has been extended to May 5th.
URL:https://mentoringmondays.xyz/event/georgia-school-counselors-association-2025-conference/
CATEGORIES:American School Counselor Association (ASCA)
END:VEVENT
BEGIN:VEVENT
DTSTART;VALUE=DATE:20251030
DTEND;VALUE=DATE:20251101
DTSTAMP:20260423T231550
CREATED:20250325T124326Z
LAST-MODIFIED:20250325T124326Z
UID:6146-1761782400-1761955199@mentoringmondays.xyz
SUMMARY:2025 ASPS Fall Conference
DESCRIPTION:When:\nOctober 30 & 31\, 2025\n\n\nWhere:\nMount Magazine Lodge\n577 Lodge Drive\nParis\, Arkansas  72855\nUnited States\n\n\nContact:\nS. Amber Weida\narsurv@sbcglobal.net\n501-321-0958
URL:https://mentoringmondays.xyz/event/2025-asps-fall-conference/
CATEGORIES:Arkansas
END:VEVENT
BEGIN:VEVENT
DTSTART;VALUE=DATE:20251016
DTEND;VALUE=DATE:20251018
DTSTAMP:20260423T231550
CREATED:20250325T171015Z
LAST-MODIFIED:20250325T171015Z
UID:6149-1760572800-1760745599@mentoringmondays.xyz
SUMMARY:KSLS 2025 Annual Meeting & Conference
DESCRIPTION:October 16th – 17th\, 2025 \nKansas Crossing Casino\, Pittsburg\, KS \nMore Information Coming Soon!
URL:https://mentoringmondays.xyz/event/ksls-2025-annual-meeting-conference/
CATEGORIES:Kansas
END:VEVENT
BEGIN:VEVENT
DTSTART;VALUE=DATE:20251015
DTEND;VALUE=DATE:20251018
DTSTAMP:20260423T231550
CREATED:20250507T173308Z
LAST-MODIFIED:20250507T173308Z
UID:6194-1760486400-1760745599@mentoringmondays.xyz
SUMMARY:California Association of School Counselors 2025 Convention
DESCRIPTION:Start Date: 10/15/2025 8:30 AM PDT\nEnd Date: 10/17/2025 4:30 PM PDT \nVenue Name: Riverside Convention Center \nLocation: \n3698 Third Street\nRiverside\, CA\, United States  92501
URL:https://mentoringmondays.xyz/event/california-association-of-school-counselors-2025-convention/
CATEGORIES:American School Counselor Association (ASCA)
END:VEVENT
BEGIN:VEVENT
DTSTART;VALUE=DATE:20251008
DTEND;VALUE=DATE:20251011
DTSTAMP:20260423T231550
CREATED:20250507T175150Z
LAST-MODIFIED:20250507T175150Z
UID:6196-1759881600-1760140799@mentoringmondays.xyz
SUMMARY:Colorado School Counselor Association 2025 Conference
DESCRIPTION:The Colorado School Counselor Association is proud to provide the only school counselor focused conference in the state. The CSCA Conference is a professional conference that provides 50+ quality breakout sessions\, 40+ exhibitors\, networking opportunities and professional recognition. \nKeystone Conference Center\nTennis Club Road 633\nDillon\, Colorado
URL:https://mentoringmondays.xyz/event/colorado-school-counselor-association-2025-conference/
CATEGORIES:American School Counselor Association (ASCA)
END:VEVENT
BEGIN:VEVENT
DTSTART;VALUE=DATE:20250926
DTEND;VALUE=DATE:20250929
DTSTAMP:20260423T231550
CREATED:20250707T132917Z
LAST-MODIFIED:20250707T132917Z
UID:6232-1758844800-1759103999@mentoringmondays.xyz
SUMMARY:AZ Young Surveyors Tombstone Field Trip
DESCRIPTION:Arizona Young Surveyors Network (AZ-YSN) Annual Tombstone Field Trip September 26 – 28
URL:https://mentoringmondays.xyz/event/az-young-surveyors-tombstone-field-trip/
CATEGORIES:Arizona
END:VEVENT
BEGIN:VEVENT
DTSTART;VALUE=DATE:20250920
DTEND;VALUE=DATE:20250921
DTSTAMP:20260423T231550
CREATED:20250707T135249Z
LAST-MODIFIED:20250707T135249Z
UID:6240-1758326400-1758412799@mentoringmondays.xyz
SUMMARY:Hoosier Hills Chapter: Shooting for Scholarships
DESCRIPTION:Shooting for Scholarships: Sporting Clays Tournament\nSaturday\, September 20\, 2025 at 10am \nSugar Creek Sporting Clays & Hunting Preserve in Mitchell\, IN \nProceeds benefits the Hoosier Hills Scholarship Fund \nShooters of all experience levels are welcome to enjoy a day of friendly competition at Sugar Creek Sporting Clays in beautiful southern Indiana. Come hit some birds and have fun! \nAll team and individual shooter registration fees include a 100-clay shoot\, ammunition (12 or 20 gauge only)\, golf cart\, lunch\, beverages\, and an event souvenir. \n\nIndividual Shooter: $225\nTeam of Four Shooters: $800\nShooting Station Sponsor with Recognition $250\nBuy a Bird (extra shot mulligans): $10 each (3 max) (Purchase an extra shot to be used in place of a miss)\nTop shot at Pre-determined Station: $25 (optional) (Compete for the top score at a station)\n\nThe course is walkable\, and a limited number of carts are available on a first-come\, first-served basis. Shooters are encouraged to bring their own golf cart or UTV. \nTrophies for the winning team\, overall top shooter\, and top shot at the optional station competition. \nSchedule of Events (Rain or Shine)\n\n9:00 am : Club Opens for Arrival\n10:00 am : Tournament Starts\n12:30 pm : Lunch & Drinks\n1:30 pm : Awards Ceremony
URL:https://mentoringmondays.xyz/event/hoosier-hills-chapter-shooting-for-scholarships/
CATEGORIES:Indiana
END:VEVENT
BEGIN:VEVENT
DTSTART;VALUE=DATE:20250918
DTEND;VALUE=DATE:20250920
DTSTAMP:20260423T231550
CREATED:20241114T204944Z
LAST-MODIFIED:20241114T204944Z
UID:6011-1758153600-1758326399@mentoringmondays.xyz
SUMMARY:2025 KAPS Conference
DESCRIPTION:Start\n09/18/2025\n\nEnd\n09/19/2025\n\nLocation\nHoliday Inn University Plaza\, 1021 Wilkinson Trace\, Bowling Green\, KY 42103
URL:https://mentoringmondays.xyz/event/2025-kaps-conference/
CATEGORIES:Kentucky
END:VEVENT
BEGIN:VEVENT
DTSTART;VALUE=DATE:20250910
DTEND;VALUE=DATE:20250913
DTSTAMP:20260423T231550
CREATED:20250508T170206Z
LAST-MODIFIED:20250508T170206Z
UID:6208-1757462400-1757721599@mentoringmondays.xyz
SUMMARY:Kentucky School Counselor Association 2025
DESCRIPTION:All events of the conference will be located at the Griffin Gate Marriott Resort & Spa. Standard rooms at the hotel may be reserved at a special conference rate of $170 per night\, plus tax. This rate is valid through August 19\, 2025\, while rooms are still available. \nPlease note that when reserving your stay you will be charged an additional $20.00 daily resort fee on top of the nightly rate of $170 plus taxes. However\, this charge will be modified to $10.00 upon check out. Guests are not charged when making a reservation. \n\n\nMake all checks and purchase orders payable to:\nNational Center for Youth Issues \n\n\n\n\nThe Attendee will receive an email confirmation to the email address provided when their registration is processed. (Make sure to check Junk/Spam folders.) Please allow ample time for processing. \n\n\n\n\nPlease contact KSCA directly with all membership questions. \n\n\n\n\nSponsors receive attendee contact information. \n\n\n\n\nAll intellectual property rights in and to the KSCA Annual Conference (“the Event”)\, the content and all materials distributed at or in connection with the Event are owned by the Kentucky School Counselor Association and/or the Event sponsors or speakers presenting written permission of Kentucky School Counselor Association or the presenting speaker.
URL:https://mentoringmondays.xyz/event/kentucky-school-counselor-association-2025/
CATEGORIES:American School Counselor Association (ASCA)
END:VEVENT
BEGIN:VEVENT
DTSTART;VALUE=DATE:20250808
DTEND;VALUE=DATE:20250809
DTSTAMP:20260423T231550
CREATED:20250707T135132Z
LAST-MODIFIED:20250707T135132Z
UID:6238-1754611200-1754697599@mentoringmondays.xyz
SUMMARY:Ordell L. Gertsmeier Memorial Scholarship Golf Tournament
DESCRIPTION:When: Friday\, August 8\, 2025 \n\nRegistration – 9 a.m.\nStart – 10 a.m.\n\nWhere: River Pointe County Club (6700 Country Club Rd\, Hobart\, IN 46342) \nRegister:
URL:https://mentoringmondays.xyz/event/ordell-l-gertsmeier-memorial-scholarship-golf-tournament/
CATEGORIES:Indiana
END:VEVENT
BEGIN:VEVENT
DTSTART;VALUE=DATE:20250808
DTEND;VALUE=DATE:20250810
DTSTAMP:20260423T231550
CREATED:20250707T132125Z
LAST-MODIFIED:20250707T132125Z
UID:6230-1754611200-1754783999@mentoringmondays.xyz
SUMMARY:APLS Northern Chapter Seminar & Picnic
DESCRIPTION:On Friday\, the Northern Chapter of Arizona Professional Land Surveyors is hosting a full day seminar featuring John Stahl (bio attached) which is being held at the Elks Lodge here in Flagstaff. On Saturday\, we are also hosting our annual picnic at the Posse Ramada at Fort Tuthill Park. All are welcome!
URL:https://mentoringmondays.xyz/event/apls-northern-chapter-seminar-picnic/
CATEGORIES:Arizona
END:VEVENT
BEGIN:VEVENT
DTSTART;VALUE=DATE:20250730
DTEND;VALUE=DATE:20250803
DTSTAMP:20260423T231550
CREATED:20241119T135444Z
LAST-MODIFIED:20241119T135444Z
UID:6015-1753833600-1754179199@mentoringmondays.xyz
SUMMARY:70th Annual FSMS Conference
DESCRIPTION:The FSMS Annual Conference sets the standard for surveying education excellence by providing well-developed courses and an opportunity to network in a casual learning environment. Come explore the endless possibilities the world of surveying can offer. There are many paths you can choose to enhance your career. There has never been a better time for you to embrace the vast wealth of information and peer support offered at our annual conference. FSMS is a can’t miss family event and we can’t wait to see you there.
URL:https://mentoringmondays.xyz/event/70th-annual-fsms-conference/
CATEGORIES:Flordia
END:VEVENT
BEGIN:VEVENT
DTSTART;VALUE=DATE:20250725
DTEND;VALUE=DATE:20250726
DTSTAMP:20260423T231550
CREATED:20250707T133451Z
LAST-MODIFIED:20250707T133451Z
UID:6234-1753401600-1753487999@mentoringmondays.xyz
SUMMARY:ELAC's NSF ATE deliverables to the K-14 + Transfer Students in Land Surveying
DESCRIPTION:Friday\, July 25\, 202512:00 PM – 1:00 PM PDT\nCategory: Webinars\n\n\n\n\nMembers: Complimentary \nNon-Members: $50.00 \n\n\n\n\n\nPresented by: Humberto Gallegos\, CSRC – Chairperson
URL:https://mentoringmondays.xyz/event/elacs-nsf-ate-deliverables-to-the-k-14-transfer-students-in-land-surveying/
CATEGORIES:California
END:VEVENT
BEGIN:VEVENT
DTSTART;VALUE=DATE:20250724
DTEND;VALUE=DATE:20250727
DTSTAMP:20260423T231550
CREATED:20241114T165032Z
LAST-MODIFIED:20250325T132953Z
UID:6003-1753315200-1753574399@mentoringmondays.xyz
SUMMARY:SAMSOG - 2025 Annual Meeting & Summer Convention
DESCRIPTION:7/24/2025 to 7/26/2025\n\n\nWhen:\nThursday\, July 24\, 2025\n\n\nWhere:\nSea Palms Resort\n515 N. Windward Drive\nSt. Simons Island\, Georgia  31522\nUnited States\n\n\nContact:\nGinger Jones\nginger_samsog@att.net\n770-947-1767
URL:https://mentoringmondays.xyz/event/samsog-2024-annual-meeting-summer-convention/
CATEGORIES:Georgia
END:VEVENT
BEGIN:VEVENT
DTSTART;VALUE=DATE:20250717
DTEND;VALUE=DATE:20250719
DTSTAMP:20260423T231550
CREATED:20250325T195824Z
LAST-MODIFIED:20250325T195824Z
UID:6160-1752710400-1752883199@mentoringmondays.xyz
SUMMARY:MAPS 2025 Summer Seminar
DESCRIPTION:2025 Summer Seminar \nSummer seminar July 17 – 18\, 2025 \nGolden Nugget \, Biloxi \, MS
URL:https://mentoringmondays.xyz/event/maps-2025-summer-seminar/
CATEGORIES:Mississippi
END:VEVENT
BEGIN:VEVENT
DTSTART;VALUE=DATE:20250613
DTEND;VALUE=DATE:20250614
DTSTAMP:20260423T231550
CREATED:20250114T174212Z
LAST-MODIFIED:20250114T174212Z
UID:6087-1749772800-1749859199@mentoringmondays.xyz
SUMMARY:KAPS - 2025 Annual Golf Scramble & Family Picnic
DESCRIPTION:Join us for our annual Golf Scramble & Family Picnic \nbenefitting the KAPS Scholarship Fund! \n$75 per player (no refunds)\nIncludes: 18 hole-green fees\, cart\, & lunch\nRegister as four-person team or individually \nBecome a sponsor!\n$100 Hole Sponsor – hole sign\n$200 Hole Contest Sponsor – sponsor sign near contest\n$250 Major Sponsor – sponsor sign; half page ad in The Interior Angle\n$350 Bronze Sponsor – sponsor sign; 4-person team\n$500 Silver Sponsor – sponsor sign; 4-person team; hole contest sponsor\n$1\,000 Gold Sponsor – sponsor sign; (2) 4 person teams; hole contest sponsor; listing as major sponsor \nRegistration deadline: June 7
URL:https://mentoringmondays.xyz/event/kaps-2025-annual-golf-scramble-family-picnic/
CATEGORIES:Kentucky
END:VEVENT
END:VCALENDAR