BEGIN:VCALENDAR
VERSION:2.0
PRODID:-//Mentoring Mondays - ECPv6.15.20//NONSGML v1.0//EN
CALSCALE:GREGORIAN
METHOD:PUBLISH
X-WR-CALNAME:Mentoring Mondays
X-ORIGINAL-URL:https://mentoringmondays.xyz
X-WR-CALDESC:Events for Mentoring Mondays
REFRESH-INTERVAL;VALUE=DURATION:PT1H
X-Robots-Tag:noindex
X-PUBLISHED-TTL:PT1H
BEGIN:VTIMEZONE
TZID:UTC
BEGIN:STANDARD
TZOFFSETFROM:+0000
TZOFFSETTO:+0000
TZNAME:UTC
DTSTART:20200101T000000
END:STANDARD
END:VTIMEZONE
BEGIN:VEVENT
DTSTART;VALUE=DATE:20250219
DTEND;VALUE=DATE:20250222
DTSTAMP:20260424T032925
CREATED:20241120T173936Z
LAST-MODIFIED:20241120T173936Z
UID:6055-1739923200-1740182399@mentoringmondays.xyz
SUMMARY:2025 UCLS Annual Conference
DESCRIPTION:UCLS Annual Conference February 19-21\, 2025 in St. George\, Utah at the Dixie Center \nMapping the Future: Lessons from the Past\, Tools of Tomorrow \nKris Kline is our keynote speaker this year.  Click here for the full Conference Flyer.  The schedule is subject to change.
URL:https://mentoringmondays.xyz/event/2025-ucls-annual-conference/
CATEGORIES:Utah
END:VEVENT
BEGIN:VEVENT
DTSTART;VALUE=DATE:20230927
DTEND;VALUE=DATE:20230930
DTSTAMP:20260424T032925
CREATED:20230120T174132Z
LAST-MODIFIED:20230120T174147Z
UID:4394-1695772800-1696031999@mentoringmondays.xyz
SUMMARY:BEST PRACTICES AND INNOVATIONS IN CTE/ACTE CONFERENCE 2023
DESCRIPTION:This annual conference is co-hosted by the NCLA and the Administration Division of the Association for Career and Technical Education® (ACTE®) and is specifically focused on the professional development for administrators of both secondary and post-secondary career and technical education programs and institutions. The conference will be held September 27-29\, 2023 in Salt Lake City\, Utah.
URL:https://mentoringmondays.xyz/event/best-practices-and-innovations-in-cte-act-conference-2023/
CATEGORIES:Association for Career & Technical Education (ACTE),Utah
END:VEVENT
BEGIN:VEVENT
DTSTART;VALUE=DATE:20230822
DTEND;VALUE=DATE:20230823
DTSTAMP:20260424T032925
CREATED:20230821T164845Z
LAST-MODIFIED:20230821T164845Z
UID:5360-1692662400-1692748799@mentoringmondays.xyz
SUMMARY:UCLS - Color Country Chapter Luncheon
DESCRIPTION:When: August 22\, 2023\, 12:00 Noon \nWhere: Washington County Administration Building 2nd Floor Conference Room\, 111 East Tabernacle\, St. George\, Utah \nPresentation: City of St. George attorneys will present and discuss the latest updates to the City of St. George Ordinance\, specifically concerning the current Utah State Subdivision Code. These changes are of significance to all cities and towns throughout our great state. We encourage you to attend\, especially if you are not familiar with the recent amendments made to Utah Code 10-9a. \nRSVP to Arthur LeBaron at arthur@cityofhurricane.com\, providing a head count for lunch\, which will be catered by Kneaders or a similar vendor. \nYour participation will contribute to a comprehensive understanding of the updated regulations\, benefiting your respective communities. We look forward to seeing you there! \n\n\nContact: Arthur LeBaron at arthur@cityofhurricane.com
URL:https://mentoringmondays.xyz/event/ucls-color-country-chapter-luncheon/
CATEGORIES:Utah
END:VEVENT
BEGIN:VEVENT
DTSTART;TZID=UTC:20210217T120000
DTEND;TZID=UTC:20210219T170000
DTSTAMP:20260424T032925
CREATED:20210222T223238Z
LAST-MODIFIED:20210222T223351Z
UID:2592-1613563200-1613754000@mentoringmondays.xyz
SUMMARY:Utah: UCLS Conference February 17-19\, 2021 Hybrid - attend in person or online
DESCRIPTION:The UCLS Conference is scheduled to be at the Dixie Convention Center in St. George from February 17-19\, 2021.  We are planning a hybrid-model conference which means that if you would like to attend in person\, you have that option\, but you can also attend online\, if necessary. Click here to view the Conference Flyer.  The last day for early bird pricing is February 11\, 2021.  Prices will go up an additional $75 after that date. Pricing is the same for in-person or virtual attendance.  Virtual attendance includes Uber Eats for Thursday and Friday for meals.  When you register\, please choose the correct registration type. \nTo view the Conference Schedule: https://www.ucls.org/assets/documents/2021%20UCLS%20Conference%20Schedule%20002.pdf
URL:https://mentoringmondays.xyz/event/utah-ucls-conference-february-17-19-2021-hybrid-attend-in-person-or-online/
CATEGORIES:Utah
END:VEVENT
END:VCALENDAR