BEGIN:VCALENDAR
VERSION:2.0
PRODID:-//Mentoring Mondays - ECPv6.15.20//NONSGML v1.0//EN
CALSCALE:GREGORIAN
METHOD:PUBLISH
X-WR-CALNAME:Mentoring Mondays
X-ORIGINAL-URL:https://mentoringmondays.xyz
X-WR-CALDESC:Events for Mentoring Mondays
REFRESH-INTERVAL;VALUE=DURATION:PT1H
X-Robots-Tag:noindex
X-PUBLISHED-TTL:PT1H
BEGIN:VTIMEZONE
TZID:UTC
BEGIN:STANDARD
TZOFFSETFROM:+0000
TZOFFSETTO:+0000
TZNAME:UTC
DTSTART:20200101T000000
END:STANDARD
END:VTIMEZONE
BEGIN:VEVENT
DTSTART;TZID=UTC:20210319T120000
DTEND;TZID=UTC:20210319T130000
DTSTAMP:20260424T024659
CREATED:20210222T220007Z
LAST-MODIFIED:20210315T153425Z
UID:2564-1616155200-1616158800@mentoringmondays.xyz
SUMMARY:CLSA: Processing Static GPS Data With CORS and PBO in TBC Presented by Landon Blake\, Redefined Horizons
DESCRIPTION:Processing Static GPS Data With CORS and PBO In TBC\, California has a dense CORS and PBO stations network. A land surveyor can use these stations to establish state plane coordinates. With just a bit of extra effort during field surveys\, a surveyor can put these coordinates on primary control points and property corner monuments. In this webinar\, Landon will show you how to use actual data and Trimble Business Center. \nIn the webinar\, Landon will answer these questions: \n1) How do you download CORS and PBO data? \n2) How do you use ephemeris to improve processing? \n3) How do you process baselines and analyze loop closures? \n4) Where do you get your controlling coordinate information? \n5) How do you get a NAVD 88 elevation for your seed point? \n6) How should you configure your network adjustment? \n7) How do you calculate the accuracy of your adjusted network? \nTo register\, please visit: \nhttps://register.gotowebinar.com/register/4688349879552142352
URL:https://mentoringmondays.xyz/event/clsa-processing-static-gps-data-with-cors-and-pbo-in-tbc-presented-by-landon-blake-redefined-horizons/
CATEGORIES:California
ATTACH;FMTTYPE=image/jpeg:https://mentoringmondays.xyz/wp-content/uploads/2021/02/Landon-Blake.jpg
END:VEVENT
END:VCALENDAR