BEGIN:VCALENDAR
VERSION:2.0
PRODID:-//Mentoring Mondays - ECPv6.15.20//NONSGML v1.0//EN
CALSCALE:GREGORIAN
METHOD:PUBLISH
X-ORIGINAL-URL:https://mentoringmondays.xyz
X-WR-CALDESC:Events for Mentoring Mondays
REFRESH-INTERVAL;VALUE=DURATION:PT1H
X-Robots-Tag:noindex
X-PUBLISHED-TTL:PT1H
BEGIN:VTIMEZONE
TZID:UTC
BEGIN:STANDARD
TZOFFSETFROM:+0000
TZOFFSETTO:+0000
TZNAME:UTC
DTSTART:20210101T000000
END:STANDARD
END:VTIMEZONE
BEGIN:VEVENT
DTSTART;VALUE=DATE:20260416
DTEND;VALUE=DATE:20260419
DTSTAMP:20260423T200004
CREATED:20260325T131735Z
LAST-MODIFIED:20260325T131735Z
UID:6455-1776297600-1776556799@mentoringmondays.xyz
SUMMARY:WVSPS 2026 58th Annual Convention
DESCRIPTION:Join the West Virginia Society of Professional Surveyors at their 58th Annual Convention\, to be held April 16-18\, 2026 at the Oglebay Resort in Wheeling\, West Virginia. Each day of the Convention will feature continuing education seminars from the state and region’s most knowledgeable sources. \nWith over twenty-five seminars on the schedule\, including Economics of Surveying\, Achieving Accuracy and Efficiency in Drone Photogrammetry\, and three offerings of West Virginia Standards and Ethics\, surveyors and affiliated professionals will have no shortage of interesting and engaging material. \nWhether you attend for the seminars\, map contest\, professional development or personal connections\, you won’t regret registering for the premier surveying event in West Virginia in 2026
URL:https://mentoringmondays.xyz/event/wvsps-2026-58th-annual-convention/
CATEGORIES:West Virgina
END:VEVENT
BEGIN:VEVENT
DTSTART;VALUE=DATE:20260416
DTEND;VALUE=DATE:20260419
DTSTAMP:20260423T200004
CREATED:20260105T220834Z
LAST-MODIFIED:20260105T220834Z
UID:6377-1776297600-1776556799@mentoringmondays.xyz
SUMMARY:2026 WVSPS 58th Annual Conference
DESCRIPTION:Stay tuned for more information
URL:https://mentoringmondays.xyz/event/2026-wvsps-58th-annual-conference/
CATEGORIES:West Virgina
END:VEVENT
BEGIN:VEVENT
DTSTART;VALUE=DATE:20250206
DTEND;VALUE=DATE:20250209
DTSTAMP:20260423T200004
CREATED:20241120T193204Z
LAST-MODIFIED:20241120T193204Z
UID:6067-1738800000-1739059199@mentoringmondays.xyz
SUMMARY:WVSPS 2025 Annual Convention
DESCRIPTION:WVSPS 2025 Annual Convention – February 6-8\, 2025\, Days Inn & Suites\, Flatwoods\, WV
URL:https://mentoringmondays.xyz/event/wvsps-2025-annual-convention/
CATEGORIES:West Virgina
END:VEVENT
BEGIN:VEVENT
DTSTART;VALUE=DATE:20240208
DTEND;VALUE=DATE:20240211
DTSTAMP:20260423T200004
CREATED:20231024T214909Z
LAST-MODIFIED:20231024T214909Z
UID:5507-1707350400-1707609599@mentoringmondays.xyz
SUMMARY:WVSPS 2024 Annual Conference
DESCRIPTION: February 8th – 10th\, 2024 Stonewall Resort\, Roanoke\, West Virginia
URL:https://mentoringmondays.xyz/event/wvsps-2024-annual-conference/
CATEGORIES:West Virgina
END:VEVENT
BEGIN:VEVENT
DTSTART;VALUE=DATE:20230521
DTEND;VALUE=DATE:20230523
DTSTAMP:20260423T200004
CREATED:20230420T145325Z
LAST-MODIFIED:20230420T145335Z
UID:4930-1684627200-1684799999@mentoringmondays.xyz
SUMMARY:WVSPS Exhibit at the Annual WV Construction & Design EXPO!
DESCRIPTION:The Annual West Virginia Construction and Design EXPO is back for 2023! EXPO will be taking place in Charleston\, WV from March 22 – 23\, 2023. The WVSPS booth will be present at the conference to exhibit\, so if you plan on attending this meeting\, don’t forget to swing by our booth and say hello! WVSPS president Tim Kinder will also be presenting a seminar on Thursday you won’t want to miss! \nPresented by Timothy H Kinder\nMarch 23th\, 10:00 AM – 11:00 AM\nTerrace Room 211
URL:https://mentoringmondays.xyz/event/wvsps-exhibit-at-the-annual-wv-construction-design-expo/
CATEGORIES:All Events,West Virgina
END:VEVENT
BEGIN:VEVENT
DTSTART;VALUE=DATE:20230309
DTEND;VALUE=DATE:20230311
DTSTAMP:20260423T200004
CREATED:20230124T144439Z
LAST-MODIFIED:20230124T144439Z
UID:4539-1678320000-1678492799@mentoringmondays.xyz
SUMMARY:WVSCA Annual Conference 2023
DESCRIPTION:Start\nMarch 09\, 2023 \n\nEnd\nMarch 10\, 2023\n\nLocation\nTwo Waterfront Place Morgantown\, West Virginia 26501
URL:https://mentoringmondays.xyz/event/wvsca-annual-conference-2023/
CATEGORIES:American School Counselor Association (ASCA),West Virgina
END:VEVENT
BEGIN:VEVENT
DTSTART;VALUE=DATE:20230215
DTEND;VALUE=DATE:20230218
DTSTAMP:20260423T200004
CREATED:20230120T202024Z
LAST-MODIFIED:20230120T202412Z
UID:4408-1676419200-1676678399@mentoringmondays.xyz
SUMMARY:West Virginia CTE Administrators Conference
DESCRIPTION:  \n\n\n\n\n\n\n\n\nStart:\nFebruary 15 @ 8:00 am\nEnd:\nFebruary 17 @ 5:00 pm\n\n\n\n\n\n\n\n\n\n\n  \n\n\n\n\n\n  \n 
URL:https://mentoringmondays.xyz/event/west-virginia-cte-administrators-conference/
CATEGORIES:Association for Career & Technical Education (ACTE),West Virgina
END:VEVENT
BEGIN:VEVENT
DTSTART;VALUE=DATE:20230209
DTEND;VALUE=DATE:20230212
DTSTAMP:20260423T200004
CREATED:20230118T194918Z
LAST-MODIFIED:20230118T194929Z
UID:4375-1675900800-1676159999@mentoringmondays.xyz
SUMMARY:WVSPS 2023 ANNUAL CONVENTION
DESCRIPTION:Join the West Virginia Society of Professional Surveyors at their 55th Annual Convention\, to be held February 9 – 11\, 2023 at the Stonewall Resort in Roanoke\, West Virginia. Each day of the Convention will feature continuing education seminars from the state and region’s most knowledgeable sources.
URL:https://mentoringmondays.xyz/event/wvsps-2023-annual-convention/
CATEGORIES:West Virgina
END:VEVENT
BEGIN:VEVENT
DTSTART;VALUE=DATE:20220210
DTEND;VALUE=DATE:20220213
DTSTAMP:20260423T200004
CREATED:20220110T211324Z
LAST-MODIFIED:20220110T211324Z
UID:3570-1644451200-1644710399@mentoringmondays.xyz
SUMMARY:WVSPS: Convention 2022
DESCRIPTION:Join the West Virginia Society of Professional Surveyors at their 54th Annual Convention\, held February 10 – 12\, 2022 at the Stonewall Resort in Roanoke\, West Virginia. Each day of the Convention will feature continuing education seminars from the state and region’s most knowledgeable sources.\n\nWith over twenty seminars on the schedule\, including West Virginia Standards and Ethics\, Insects on the Job\, and Polaris Celestial Observation\, surveyors and affiliated professionals will have no shortage of interesting and engaging material.\n\nWhether you attend for the seminars\, map contest\, professional development or personal connections\, you won’t regret registering for the premier Surveying event in West Virginia in 2022.
URL:https://mentoringmondays.xyz/event/wvsps-convention-2022/
CATEGORIES:West Virgina
END:VEVENT
END:VCALENDAR