BEGIN:VCALENDAR
VERSION:2.0
PRODID:-//Mentoring Mondays - ECPv6.15.20//NONSGML v1.0//EN
CALSCALE:GREGORIAN
METHOD:PUBLISH
X-ORIGINAL-URL:https://mentoringmondays.xyz
X-WR-CALDESC:Events for Mentoring Mondays
REFRESH-INTERVAL;VALUE=DURATION:PT1H
X-Robots-Tag:noindex
X-PUBLISHED-TTL:PT1H
BEGIN:VTIMEZONE
TZID:UTC
BEGIN:STANDARD
TZOFFSETFROM:+0000
TZOFFSETTO:+0000
TZNAME:UTC
DTSTART:20200101T000000
END:STANDARD
END:VTIMEZONE
BEGIN:VEVENT
DTSTART;VALUE=DATE:20260225
DTEND;VALUE=DATE:20260228
DTSTAMP:20260423T214151
CREATED:20260105T220623Z
LAST-MODIFIED:20260105T220623Z
UID:6375-1771977600-1772236799@mentoringmondays.xyz
SUMMARY:2026 LSAW Conference
DESCRIPTION:The 2026 LSAW Conference will be held February 25-27 at the Grand Davenport in Spokane\, WA \nFeatured Speakers Include: Gary Kent\, Dave Doyle\, and Jan Van Sickle.
URL:https://mentoringmondays.xyz/event/2026-lsaw-conference/
CATEGORIES:Washington
END:VEVENT
BEGIN:VEVENT
DTSTART;VALUE=DATE:20250226
DTEND;VALUE=DATE:20250301
DTSTAMP:20260423T214151
CREATED:20241120T193051Z
LAST-MODIFIED:20241120T193051Z
UID:6065-1740528000-1740787199@mentoringmondays.xyz
SUMMARY:LSAW Conference 2025
DESCRIPTION:LSAW Conference 2025 – February 26 – 28\, 2025 – Tulalip Resort & Casino \nFEATURED SPEAKERS & PROGRAMS: \n\nKris Kline\, PLS\nDave Doyle\, PLS\nBrian Ballantyne\, PLS\nRick Ellis\nCFedS Workshop\nSurvey Technician Track\nExhibits\, Scholarship Auction & More!
URL:https://mentoringmondays.xyz/event/lsaw-conference-2025/
CATEGORIES:Washington
END:VEVENT
BEGIN:VEVENT
DTSTART;VALUE=DATE:20240228
DTEND;VALUE=DATE:20240302
DTSTAMP:20260423T214151
CREATED:20230627T125939Z
LAST-MODIFIED:20230627T125939Z
UID:5115-1709078400-1709337599@mentoringmondays.xyz
SUMMARY:Mark Your Calendar! LSAW Conference 2024
DESCRIPTION:February 28 – March 1\, 2024 \nTulalip Resort & Casino \nMore information: www.LSAW.org \n 
URL:https://mentoringmondays.xyz/event/mark-your-calendar-lsaw-conference-2024/
CATEGORIES:Washington
END:VEVENT
BEGIN:VEVENT
DTSTART;VALUE=DATE:20230825
DTEND;VALUE=DATE:20230826
DTSTAMP:20260423T214151
CREATED:20230718T190213Z
LAST-MODIFIED:20230718T190213Z
UID:5199-1692921600-1693007999@mentoringmondays.xyz
SUMMARY:LSAW-Walker Golf Tournament
DESCRIPTION:31st Annual \nWALKER CUP\nGOLF TOURNAMENT\nBENEFITING THE GEORGE F. WALKER MEMORIAL SCHOLARSHIP FUND\nDRUIDS GLEN GOLF COURSE\nCOVINGTON\, WA – FRIDAY\, AUGUST 25th\, 2023\n. 4-PERSON SCRAMBLE FORMAT – $160 / SINGLE\, OR $640 / TEAM\n. ENTRY FEE INCL: GOLF\, CART\, RANGE BALLS\, DOOR PRIZES\, ENTRY INTO\nALL-TOURNAMENT CONTESTS\, 3 MULLIGANS PER GOLFER & LUNCH!\n. HOLE IN ONE CONTEST FOR A $10\,000 CASH PRIZE!!!\n. CONTESTS FOR LONG DRIVE\, STRAIGHT DRIVE\, KP HOLES\, PUTTING\nCONTEST AND MORE!!. AWARDS FOR 1ST – 3RD LOW GROSS/NET TEAMS!!\n. INDIVIDUAL & JOINT OPPORTUNITIES ARE AVAILABLE FOR ALL LEVELS OF\nSPONSORSHIPS (CASH DONATIONS ALSO ACCEPTED)\n. CHECK-IN OPENS AT 6:00 AM!! – GOLF STARTS @ 7:30 AM\nREGISTRATION CLOSES AUGUST 11th\, 2023
URL:https://mentoringmondays.xyz/event/lsaw-walker-golf-tournament/
CATEGORIES:Washington
END:VEVENT
BEGIN:VEVENT
DTSTART;VALUE=DATE:20230330
DTEND;VALUE=DATE:20230402
DTSTAMP:20260423T214151
CREATED:20230124T142850Z
LAST-MODIFIED:20230124T142850Z
UID:4537-1680134400-1680393599@mentoringmondays.xyz
SUMMARY:The 2023 American Counseling Association Conference & Expo
DESCRIPTION:The 2023 Conference & Expo is the premier professional development and networking event for licensed professional counselors\, students\, and mental health professionals. Join us in-person to connect\, engage\, and learn.
URL:https://mentoringmondays.xyz/event/the-2023-american-counseling-association-conference-expo/
CATEGORIES:American School Counselor Association (ASCA),Washington
END:VEVENT
BEGIN:VEVENT
DTSTART;VALUE=DATE:20230215
DTEND;VALUE=DATE:20230218
DTSTAMP:20260423T214151
CREATED:20230118T194643Z
LAST-MODIFIED:20230118T194643Z
UID:4373-1676419200-1676678399@mentoringmondays.xyz
SUMMARY:LSAW Conference 2023 Leaps\, Metes\, & Bounds
DESCRIPTION:February 15-17\, 2023\nGrand Davenport\nSpokane\, WA\nFeatured Speakers/Programs\nKris Kline\nJan VanSickle\nCFedS Program\nSurvey Technician Track
URL:https://mentoringmondays.xyz/event/lsaw-conference-2023-leaps-metes-bounds/
CATEGORIES:Washington
END:VEVENT
BEGIN:VEVENT
DTSTART;VALUE=DATE:20230215
DTEND;VALUE=DATE:20230218
DTSTAMP:20260423T214151
CREATED:20230110T183956Z
LAST-MODIFIED:20230110T183956Z
UID:4199-1676419200-1676678399@mentoringmondays.xyz
SUMMARY:LSAW  Conference 2023
DESCRIPTION:LSAW Conference 2023\nLeaps\, Metes\, & Bounds
URL:https://mentoringmondays.xyz/event/lsaw-conference-2023/
CATEGORIES:Washington
END:VEVENT
BEGIN:VEVENT
DTSTART;VALUE=DATE:20221104
DTEND;VALUE=DATE:20221106
DTSTAMP:20260423T214151
CREATED:20220712T162050Z
LAST-MODIFIED:20220712T162106Z
UID:3825-1667520000-1667692799@mentoringmondays.xyz
SUMMARY:LSAW: Fall Seminar and Board meeting
DESCRIPTION:Check out https://www.lsaw.org/calendar.html for more information
URL:https://mentoringmondays.xyz/event/lsaw-fall-seminar-and-board-meeting/
CATEGORIES:Washington
END:VEVENT
BEGIN:VEVENT
DTSTART;TZID=UTC:20220823T110000
DTEND;TZID=UTC:20220823T123000
DTSTAMP:20260423T214151
CREATED:20220815T163815Z
LAST-MODIFIED:20220815T163815Z
UID:3920-1661252400-1661257800@mentoringmondays.xyz
SUMMARY:LSAW: NGS Webinar: Understanding OPUS
DESCRIPTION:https://geodesy.noaa.gov/web/science_edu/webinar_series/special-opus-user-forum-august2022.shtml?utm_medium=email&utm_source=GovDelivery \n 
URL:https://mentoringmondays.xyz/event/lsaw-ngs-webinar-understanding-opus/
CATEGORIES:Washington
END:VEVENT
BEGIN:VEVENT
DTSTART;TZID=UTC:20220813T130000
DTEND;TZID=UTC:20220813T170000
DTSTAMP:20260423T214151
CREATED:20220110T192716Z
LAST-MODIFIED:20220110T192716Z
UID:3503-1660395600-1660410000@mentoringmondays.xyz
SUMMARY:LSAW: Jim Coan Celebration of Life
DESCRIPTION:When: Saturday\, Aug 13\, 2022\n\nDescriptionJim Coan Celebration of Life\nSaturday\, August 13\, 2022 ~ 1:00 PM \nLocation: Renton Technical College
URL:https://mentoringmondays.xyz/event/lsaw-jim-coan-celebration-of-life/
CATEGORIES:Washington
END:VEVENT
BEGIN:VEVENT
DTSTART;VALUE=DATE:20220302
DTEND;VALUE=DATE:20220305
DTSTAMP:20260423T214151
CREATED:20210825T164846Z
LAST-MODIFIED:20220110T192402Z
UID:3139-1646179200-1646438399@mentoringmondays.xyz
SUMMARY:LSAW Conference
DESCRIPTION:Mar 2 – 4\, 2022\n\nWhere: Hilton Vancouver Washington\, 301 W 6th St\, Vancouver\, WA 98660\, USA\n\nMore details to come!\n 
URL:https://mentoringmondays.xyz/event/lsaw-conference/
CATEGORIES:Washington
END:VEVENT
BEGIN:VEVENT
DTSTART;TZID=UTC:20220113T110000
DTEND;TZID=UTC:20220113T123000
DTSTAMP:20260423T214151
CREATED:20220110T183911Z
LAST-MODIFIED:20220110T183947Z
UID:3482-1642071600-1642077000@mentoringmondays.xyz
SUMMARY:NGS Webinar: GPSonBM: NSRS Modernization Campaign Continues through 2022
DESCRIPTION:NGS Webinar: GPSonBM: NSRS Modernization Campaign Continues through 2022 \nTo register: \nhttps://register.gotowebinar.com/register/7127447107061761803?utm_medium=email&utm_source=GovDelivery
URL:https://mentoringmondays.xyz/event/ngs-webinar-gpsonbm-nsrs-modernization-campaign-continues-through-2022/
CATEGORIES:Washington
END:VEVENT
BEGIN:VEVENT
DTSTART;TZID=UTC:20211119T090000
DTEND;TZID=UTC:20211119T110000
DTSTAMP:20260423T214151
CREATED:20211019T180122Z
LAST-MODIFIED:20211019T180122Z
UID:3317-1637312400-1637319600@mentoringmondays.xyz
SUMMARY:LSAW: Fall Survey Technician Webinar Series
DESCRIPTION:This webinar series has been developed to provide education to survey technicians. The series includes the following webinars: \nNovember 19th: Trimble Access to Office Workflows\nSpeaker: Robert Green\, PLS \nTo register click here:
URL:https://mentoringmondays.xyz/event/lsaw-fall-survey-technician-webinar-series-3/
CATEGORIES:Washington
END:VEVENT
BEGIN:VEVENT
DTSTART;TZID=UTC:20211112T090000
DTEND;TZID=UTC:20211112T110000
DTSTAMP:20260423T214151
CREATED:20211019T175839Z
LAST-MODIFIED:20211019T175839Z
UID:3315-1636707600-1636714800@mentoringmondays.xyz
SUMMARY:LSAW: Fall Survey Technician Webinar Series
DESCRIPTION:This webinar series has been developed to provide education to survey technicians. The series includes the following webinars: \nNovember 12th: Modern Workflows with Magnet Field\nSpeaker: Curt Huggins\n \nTo register click here:
URL:https://mentoringmondays.xyz/event/lsaw-fall-survey-technician-webinar-series-2/
CATEGORIES:Washington
END:VEVENT
BEGIN:VEVENT
DTSTART;TZID=UTC:20211105T090000
DTEND;TZID=UTC:20211105T110000
DTSTAMP:20260423T214151
CREATED:20211019T175707Z
LAST-MODIFIED:20211019T175722Z
UID:3312-1636102800-1636110000@mentoringmondays.xyz
SUMMARY:LSAW: Fall Survey Technician Webinar Series
DESCRIPTION:This webinar series has been developed to provide education to survey technicians. The series includes the following webinars: \nNovember 5th: WSRN User Forum\nSpeaker: Gavin Schrock\, PLS \nTo register click here:
URL:https://mentoringmondays.xyz/event/lsaw-fall-survey-technician-webinar-series/
CATEGORIES:Washington
END:VEVENT
BEGIN:VEVENT
DTSTART;VALUE=DATE:20211105
DTEND;VALUE=DATE:20211107
DTSTAMP:20260423T214151
CREATED:20210825T164656Z
LAST-MODIFIED:20210825T164656Z
UID:3136-1636070400-1636243199@mentoringmondays.xyz
SUMMARY:LSAW Fall Seminar & Board Meeting
DESCRIPTION:Save the Date! \nWe have been sheltering in place and zooming for more than a year. LSAW is planning a fall extravaganza! More details to follow.
URL:https://mentoringmondays.xyz/event/lsaw-fall-seminar-board-meeting/
CATEGORIES:Washington
ATTACH;FMTTYPE=image/png:https://mentoringmondays.xyz/wp-content/uploads/2021/08/LSAW_header_logo.png
END:VEVENT
BEGIN:VEVENT
DTSTART;TZID=UTC:20211029T090000
DTEND;TZID=UTC:20211029T110000
DTSTAMP:20260423T214151
CREATED:20211019T175212Z
LAST-MODIFIED:20211019T175255Z
UID:3310-1635498000-1635505200@mentoringmondays.xyz
SUMMARY:LSAW: Fall Webinar Series
DESCRIPTION:This webinar series has been developed to provide education to survey technicians. The series includes the following webinars: \nOctober 29th: An Overview of Field to Finish in Carlson Survey\nSpeaker: Jennifer DiBona\n \n  \nTo register click here:
URL:https://mentoringmondays.xyz/event/lsaw-fall-webinar-series-2/
CATEGORIES:Washington
END:VEVENT
BEGIN:VEVENT
DTSTART;TZID=UTC:20211022T090000
DTEND;TZID=UTC:20211022T110000
DTSTAMP:20260423T214151
CREATED:20211019T174840Z
LAST-MODIFIED:20211019T175032Z
UID:3307-1634893200-1634900400@mentoringmondays.xyz
SUMMARY:LSAW: Fall Webinar Series
DESCRIPTION:This webinar series has been developed to provide education to survey technicians. The series includes the following webinars: \nOctober 22nd: Field to Finish Civil 3D\nSpeaker: Rick Ellis \nTo register click here:
URL:https://mentoringmondays.xyz/event/lsaw-fall-webinar-series/
CATEGORIES:Washington
END:VEVENT
END:VCALENDAR