BEGIN:VCALENDAR
VERSION:2.0
PRODID:-//Mentoring Mondays - ECPv6.15.20//NONSGML v1.0//EN
CALSCALE:GREGORIAN
METHOD:PUBLISH
X-ORIGINAL-URL:https://mentoringmondays.xyz
X-WR-CALDESC:Events for Mentoring Mondays
REFRESH-INTERVAL;VALUE=DURATION:PT1H
X-Robots-Tag:noindex
X-PUBLISHED-TTL:PT1H
BEGIN:VTIMEZONE
TZID:UTC
BEGIN:STANDARD
TZOFFSETFROM:+0000
TZOFFSETTO:+0000
TZNAME:UTC
DTSTART:20200101T000000
END:STANDARD
END:VTIMEZONE
BEGIN:VEVENT
DTSTART;VALUE=DATE:20230319
DTEND;VALUE=DATE:20230323
DTSTAMP:20260423T201403
CREATED:20230120T155348Z
LAST-MODIFIED:20230120T155605Z
UID:4382-1679184000-1679529599@mentoringmondays.xyz
SUMMARY:National Policy Seminar 2023
DESCRIPTION:Crystal Gateway Marriott​\nArlington\, VA​\nMarch 19-22​ \n\n\nEngage on key federal education policy priorities ​\nInfluence federal policies related to CTE advocacy & messaging​\nParticipate in Capitol Hill visits
URL:https://mentoringmondays.xyz/event/national-policy-seminar-2023/
CATEGORIES:Association for Career & Technical Education (ACTE),Virginia
END:VEVENT
BEGIN:VEVENT
DTSTART;VALUE=DATE:20230127
DTEND;VALUE=DATE:20230128
DTSTAMP:20260423T201403
CREATED:20230118T194317Z
LAST-MODIFIED:20230118T194317Z
UID:4369-1674777600-1674863999@mentoringmondays.xyz
SUMMARY:VAS 2023 VIRTUAL WINTER SEMINAR
DESCRIPTION:1/27/2023\n\n\nWhen:\nFriday\, January 27\, 2023\n8:00 AM\n\n\nWhere:\nWebinar\nUnited States\n\n\nContact:\nKhea Sam\nKhea@vasurveyors.org\n844-414-1466
URL:https://mentoringmondays.xyz/event/vas-2023-virtual-winter-seminar/
CATEGORIES:Virginia
END:VEVENT
BEGIN:VEVENT
DTSTART;VALUE=DATE:20220406
DTEND;VALUE=DATE:20220410
DTSTAMP:20260423T201403
CREATED:20210825T194112Z
LAST-MODIFIED:20210825T194112Z
UID:3243-1649203200-1649548799@mentoringmondays.xyz
SUMMARY:VAS: 74TH ANNUAL CONVENTION & GENERAL MEMBERSHIP MEETING
DESCRIPTION:74TH ANNUAL CONVENTION & GENERAL MEMBERSHIP MEETING \nWyndham Virginia Beach Oceanfront\n5700 Atlantic Avenue\nVirginia Beach\, Virginia  23451\nUnited States
URL:https://mentoringmondays.xyz/event/vas-74th-annual-convention-general-membership-meeting/
CATEGORIES:Virginia
END:VEVENT
BEGIN:VEVENT
DTSTART;VALUE=DATE:20210915
DTEND;VALUE=DATE:20210916
DTSTAMP:20260423T201403
CREATED:20210825T193928Z
LAST-MODIFIED:20210825T193928Z
UID:3241-1631664000-1631750399@mentoringmondays.xyz
SUMMARY:VAS: 2021 CONVENTION - GOLF OUTING
DESCRIPTION:Wednesday\, September 15\, 2021\n\n\n\n\n\nGolden Horseshoe Golf Club\n\n\n 491 South England Street\, Williamsburg\, VA  23185\n\n\n\n\n\nGolfers of all levels are encouraged to join your VAS colleagues for an enjoyable round of golf on Wednesday\, September 15\, for a shotgun start at 8:30 AM at the beautiful Golden Horseshoe Golf Course in Williamsburg\, VA.  Registration fee of $69 includes green fees\, cart\, range balls.  There will be two contests to make the day even more enjoyable – Closest to the Pin and Longest Drive.  Winners will be announced at our banquet Friday evening. \nTo give counts to the Club\, please register no later than September 6.
URL:https://mentoringmondays.xyz/event/vas-2021-convention-golf-outing/
CATEGORIES:Virginia
END:VEVENT
END:VCALENDAR