BEGIN:VCALENDAR
VERSION:2.0
PRODID:-//Mentoring Mondays - ECPv6.15.20//NONSGML v1.0//EN
CALSCALE:GREGORIAN
METHOD:PUBLISH
X-ORIGINAL-URL:https://mentoringmondays.xyz
X-WR-CALDESC:Events for Mentoring Mondays
REFRESH-INTERVAL;VALUE=DURATION:PT1H
X-Robots-Tag:noindex
X-PUBLISHED-TTL:PT1H
BEGIN:VTIMEZONE
TZID:UTC
BEGIN:STANDARD
TZOFFSETFROM:+0000
TZOFFSETTO:+0000
TZNAME:UTC
DTSTART:20240101T000000
END:STANDARD
END:VTIMEZONE
BEGIN:VEVENT
DTSTART;VALUE=DATE:20250110
DTEND;VALUE=DATE:20250112
DTSTAMP:20260425T030627
CREATED:20241120T192205Z
LAST-MODIFIED:20241120T192205Z
UID:6060-1736467200-1736639999@mentoringmondays.xyz
SUMMARY:2025 VAS Staunton Winter Seminar
DESCRIPTION: \n1/10/2025 to 1/11/2025\n\n\nWhen:\nFriday\, January 10\, 2025\n8:00 AM\n\n\nWhere:\nHotel 24 South\n24 S. Market Street\nStaunton\, Virginia  24401\nUnited States\n\n\nContact:\nKhea Sam\nKhea@vasurveyors.org\n844-414-1466
URL:https://mentoringmondays.xyz/event/2025-vas-staunton-winter-seminar/
CATEGORIES:Virginia
END:VEVENT
END:VCALENDAR