BEGIN:VCALENDAR
VERSION:2.0
PRODID:-//Mentoring Mondays - ECPv6.15.20//NONSGML v1.0//EN
CALSCALE:GREGORIAN
METHOD:PUBLISH
X-WR-CALNAME:Mentoring Mondays
X-ORIGINAL-URL:https://mentoringmondays.xyz
X-WR-CALDESC:Events for Mentoring Mondays
REFRESH-INTERVAL;VALUE=DURATION:PT1H
X-Robots-Tag:noindex
X-PUBLISHED-TTL:PT1H
BEGIN:VTIMEZONE
TZID:UTC
BEGIN:STANDARD
TZOFFSETFROM:+0000
TZOFFSETTO:+0000
TZNAME:UTC
DTSTART:20210101T000000
END:STANDARD
END:VTIMEZONE
BEGIN:VEVENT
DTSTART;VALUE=DATE:20260106
DTEND;VALUE=DATE:20260109
DTSTAMP:20260424T045909
CREATED:20260105T215421Z
LAST-MODIFIED:20260105T215421Z
UID:6367-1767657600-1767916799@mentoringmondays.xyz
SUMMARY:SDSPLS 43rd Annual Convention
DESCRIPTION:Come join us in Deadwood for the \n43rd Annual SDSPLS Convention!\n \nThe West River Chapter of the South Dakota Society of Professional Land Surveyors has been hard at work planning the 43rd Annual SDSPLS Convention and we think they have put together an excellent line up for this year’s event! \nThe Convention will offer 15 PDH\, an exciting Scholarship Auction and Raffles\, the chance to visit with our industry partners\, plus recognition of our scholarship winners and your award-winning colleagues. And\, of course\, all kinds of opportunities to catch up with friends and colleagues! 
URL:https://mentoringmondays.xyz/event/sdspls-43rd-annual-convention/
CATEGORIES:South Dakota
END:VEVENT
BEGIN:VEVENT
DTSTART;VALUE=DATE:20250108
DTEND;VALUE=DATE:20250111
DTSTAMP:20260424T045909
CREATED:20241119T200537Z
LAST-MODIFIED:20241119T200537Z
UID:6050-1736294400-1736553599@mentoringmondays.xyz
SUMMARY:2025 SDSPLS Convention
DESCRIPTION:Join us in Mitchell\, SD\, for the 2025 SDSPLS Convention \nJanuary 8 – 10\, 2025 \nTHE SDSPLS 2025 CONVENTION ROOM BLOCK IS OPEN!!! \nTwo room blocks have been reserved for this year’s convention. Both hotels are connected to the Highland Conference Center. The room block closes on December 24th\, so reserve your room today! You will be able to travel back and forth indoors from the conference center to the hotels during the day\, but will not be able to walk through the conference center after hours.
URL:https://mentoringmondays.xyz/event/2025-sdspls-convention/
CATEGORIES:South Dakota
END:VEVENT
BEGIN:VEVENT
DTSTART;VALUE=DATE:20230111
DTEND;VALUE=DATE:20230114
DTSTAMP:20260424T045909
CREATED:20230118T191917Z
LAST-MODIFIED:20230118T191943Z
UID:4356-1673395200-1673654399@mentoringmondays.xyz
SUMMARY:SDSPLS 40th Annual Convention
DESCRIPTION:Wed\, January 11\, 2023 \n11:00 AM (CST)\n\n\nEnd\nFri\, January 13\, 2023\n\n\n12:00 PM (CST)\n\nLocation\nHoliday Inn – City Centre Sioux Falls\n 
URL:https://mentoringmondays.xyz/event/sdspls-40th-annual-convention/
CATEGORIES:South Dakota
END:VEVENT
BEGIN:VEVENT
DTSTART;VALUE=DATE:20220105
DTEND;VALUE=DATE:20220108
DTSTAMP:20260424T045909
CREATED:20210825T175618Z
LAST-MODIFIED:20210825T175618Z
UID:3161-1641340800-1641599999@mentoringmondays.xyz
SUMMARY:Join us for the SDSPLS 39th Annual Convention
DESCRIPTION:Join us for the SDSPLS 39th Annual Convention – January 5-7\, 2022\, in Deadwood at The Lodge in Deadwood!! \nREGISTER TODAY
URL:https://mentoringmondays.xyz/event/join-us-for-the-sdspls-39th-annual-convention/
CATEGORIES:South Dakota
END:VEVENT
END:VCALENDAR