BEGIN:VCALENDAR
VERSION:2.0
PRODID:-//Mentoring Mondays - ECPv6.15.20//NONSGML v1.0//EN
CALSCALE:GREGORIAN
METHOD:PUBLISH
X-ORIGINAL-URL:https://mentoringmondays.xyz
X-WR-CALDESC:Events for Mentoring Mondays
REFRESH-INTERVAL;VALUE=DURATION:PT1H
X-Robots-Tag:noindex
X-PUBLISHED-TTL:PT1H
BEGIN:VTIMEZONE
TZID:UTC
BEGIN:STANDARD
TZOFFSETFROM:+0000
TZOFFSETTO:+0000
TZNAME:UTC
DTSTART:20250101T000000
END:STANDARD
END:VTIMEZONE
BEGIN:VEVENT
DTSTART;VALUE=DATE:20260224
DTEND;VALUE=DATE:20260227
DTSTAMP:20260423T230807
CREATED:20260105T181835Z
LAST-MODIFIED:20260105T181835Z
UID:6305-1771891200-1772150399@mentoringmondays.xyz
SUMMARY:2026 Rocky Mountain Surveyors Summit
DESCRIPTION:Location: \nDoubletree Colorado Springs\n1775 E Cheyenne Mountain Blvd.\nColorado Springs\, CO 80906\nUNITED STATES
URL:https://mentoringmondays.xyz/event/2026-rocky-mountain-surveyors-summit/
CATEGORIES:Colorado
END:VEVENT
BEGIN:VEVENT
DTSTART;VALUE=DATE:20260225
DTEND;VALUE=DATE:20260228
DTSTAMP:20260423T230807
CREATED:20260105T220623Z
LAST-MODIFIED:20260105T220623Z
UID:6375-1771977600-1772236799@mentoringmondays.xyz
SUMMARY:2026 LSAW Conference
DESCRIPTION:The 2026 LSAW Conference will be held February 25-27 at the Grand Davenport in Spokane\, WA \nFeatured Speakers Include: Gary Kent\, Dave Doyle\, and Jan Van Sickle.
URL:https://mentoringmondays.xyz/event/2026-lsaw-conference/
CATEGORIES:Washington
END:VEVENT
BEGIN:VEVENT
DTSTART;VALUE=DATE:20260226
DTEND;VALUE=DATE:20260228
DTSTAMP:20260423T230807
CREATED:20260105T213229Z
LAST-MODIFIED:20260105T213229Z
UID:6359-1772064000-1772236799@mentoringmondays.xyz
SUMMARY:OSLS 2026 Annual Convention
DESCRIPTION: \n2/26/2026 to 2/27/2026\n\n\nWhen:\n8:00 AM\n\n\nWhere:\nSheraton Reed Conference Center\n5800 Will Rogers Blvd\nMidwest City\, Oklahoma  73110\nUnited States\n\n\nContact:\nBurk Cornelius\nburk@osls.org\n405-202-5792\n\n\n\n  \nThe Oklahoma Society of Land Surveyors is pleased to announce registration for the 2026 OSLS Annual Convention is now OPEN! \nThe convention will be held February 26-27\, 2026 at the Sheraton Reed Conference Center in Midwest City\, OK. \n ***AS WE DID LAST YEAR\, THE CONVENTION WILL BE 2-DAYS ONLY. NO SATURDAY CLASSES**\n**CHECK BACK HERE TO DOWNLOAD THE CONVENTION BOOK ** \n 
URL:https://mentoringmondays.xyz/event/osls-2026-annual-convention/
CATEGORIES:Oklahoma
END:VEVENT
BEGIN:VEVENT
DTSTART;VALUE=DATE:20260227
DTEND;VALUE=DATE:20260301
DTSTAMP:20260423T230807
CREATED:20260105T215201Z
LAST-MODIFIED:20260105T215220Z
UID:6365-1772150400-1772323199@mentoringmondays.xyz
SUMMARY:2026 SCSPLS Convention & Technical Conference
DESCRIPTION:The SCSPLS Convention and Technical Conference will be returning to Columbia and the DoubleTree by Hilton on Bush River Road. \nConferences are always about more than technical programs and trade shows; the 2025 SCSPLS Convention and Technical Conference also realize the importance of opportunities to meet and converse with fellow professionals. An exhibitor reception on Thursday evening serves as a networking opportunity between engineers and exhibitors. Session breaks\, lunches and the banquet are also great times for meeting and talking with fellow professionals. \nThe conference offers a trade show where products and services engineers use directly or specify are offered with knowledgeable representatives to assist participants. \nSurveyors and other design professionals attending the conference February 27-28\, 2025 at the DoubleTree by Hilton may gain up to 15 PDHs and choose from a variety of more than 20 programs. \nDon’t forget the SCSPLS General Meeting on Wednesday\, Feb. 26 at 3:30 PM. \nPresentations can be located here\, the website and social media.
URL:https://mentoringmondays.xyz/event/2026-scspls-convention-technical-conference/
CATEGORIES:South Carolina
END:VEVENT
BEGIN:VEVENT
DTSTART;VALUE=DATE:20260304
DTEND;VALUE=DATE:20260307
DTSTAMP:20260423T230807
CREATED:20260105T185844Z
LAST-MODIFIED:20260105T185844Z
UID:6319-1772582400-1772841599@mentoringmondays.xyz
SUMMARY:SLSI Annual Conference
DESCRIPTION:SLSI Annual Conference March 4-6\, 2026 ~ Save the date\ngateway hotel & Conference Center
URL:https://mentoringmondays.xyz/event/slsi-annual-conference-2/
CATEGORIES:Iowa
END:VEVENT
BEGIN:VEVENT
DTSTART;VALUE=DATE:20260305
DTEND;VALUE=DATE:20260307
DTSTAMP:20260423T230807
CREATED:20260105T181540Z
LAST-MODIFIED:20260105T181540Z
UID:6303-1772668800-1772841599@mentoringmondays.xyz
SUMMARY:2026 ASPS Spring Conference & Expo
DESCRIPTION:When:\nMarch 5 & 6\, 2026\n8:00 AM\n\n\nWhere:\nEmbassy Suites Northwest Arkansas – Hotel\, Spa & Convention Center\n3303 Pinnacle Hills Pkwy\nRogers\, Arkansas  72758\nUnited States\n\n\nContact:\nS. Amber Weida\narsurv@sbcglobal.net\n5013210958
URL:https://mentoringmondays.xyz/event/2026-asps-spring-conference-expo/
CATEGORIES:Arkansas
END:VEVENT
BEGIN:VEVENT
DTSTART;VALUE=DATE:20260305
DTEND;VALUE=DATE:20260308
DTSTAMP:20260423T230807
CREATED:20260105T215914Z
LAST-MODIFIED:20260105T215914Z
UID:6369-1772668800-1772927999@mentoringmondays.xyz
SUMMARY:TAPS 58th Annual Conference & Exhibition
DESCRIPTION:Embassy Suites\n📅 March 05/6/7\, 2026\n📍 1200 Conference Center Drive Murfreesboro TN\n\n 
URL:https://mentoringmondays.xyz/event/taps-58th-annual-conference-exhibition/
CATEGORIES:Tennessee
END:VEVENT
BEGIN:VEVENT
DTSTART;VALUE=DATE:20260306
DTEND;VALUE=DATE:20260307
DTSTAMP:20260423T230807
CREATED:20260105T195609Z
LAST-MODIFIED:20260105T195609Z
UID:6329-1772755200-1772841599@mentoringmondays.xyz
SUMMARY:2026 MSS Spring Technical Conference
DESCRIPTION:The MSS Spring Technical Conference is a hybrid event held in two parts — virtual and in-person. \n\nThe in-person program on March 6 features 12 classes that allow licensed surveyors to earn 8 CPC credits on current professional development topics.  The webinar program includes 4 noontime sessions.  Participation in a full day of in-person classes and all 4 webinars qualify for 13 CPC credits \n\nMSS has compiled an outstanding lineup of quality sessions on professional services\, data\, methodologies\, technology\, and practice issues\, all designed to enhance the performance of surveying activities. \n​ \nIn-Person Sessions: Friday\, March 6\, 2026 ( Maritime Conference Center\, Linthicum Heights\, MD)
URL:https://mentoringmondays.xyz/event/2026-mss-spring-technical-conference/
CATEGORIES:Maryland
END:VEVENT
BEGIN:VEVENT
DTSTART;VALUE=DATE:20260306
DTEND;VALUE=DATE:20260308
DTSTAMP:20260423T230807
CREATED:20260105T200950Z
LAST-MODIFIED:20260105T200950Z
UID:6335-1772755200-1772927999@mentoringmondays.xyz
SUMMARY:2026 MALSCE Convention
DESCRIPTION:Sponsored by MALSCE Sustaining Members:\nAllen & Major Associates\, Inc.\, Beals and Thomas\, Inc.\, Bluesky Geospatial Limited\,  Bracken Engineering\, Brennan Consulting\, Inc.\,\nBSC Group\, Inc.\, CHA\, Crocker Design Group\,  DGT Associates\, Eastern Topographics\, E.T. Engineering Enterprises\,\nFeldman Geospatial\, Field Resources\, Inc.\, Hancock Associates\, Keystone Precision Solutions\, Maine Technical Source\,\nMerrill Engineers & Land Surveyors\, Nitsch Engineering\, Resource Options\, RJ O’Connell & Associates\, Inc.\, Samiotes Consultants Inc.\,\nSpiller’s\, Topcon Solutions Store\, VHB\, Waypoint Technology Group\, WSP \nThe 2026 MALSCE Convention features: \nIn-depth Presentations on technological advances\, standards of practice\, and business trends impacting the land surveying and civil engineering professions. \nConvention Exhibitors featuring exhibits of the latest technologies and services\, and two hours of live demonstrations \nPlan & Field Notes Contests Submitted entries will be displayed at the Convention. Attendees will vote for the best plan in various categories and Field Notes of the Year. Download the 2026 MALSCE Plan & Field Notes Contests Entry Form and submit an entry. \nNetworking Breaks\, Benefit Auction\, and more! To donate an item for Friday’s auction to benefit the MALSCE Education Trust simply bring it to the convention registration desk. To donate an item before the convention\, contact Michelle Monette: 617/305-4113 or mmonette@engineers.org. \nReserve your overnight room by Monday\, February 16\, 2026! Click here to learn how to reserve an overnight room at the Boxboro Regency Hotel & Conference Center for Thursday and/or Friday\, March 5 and 6 at the $102 MALSCE Convention attendee rate.
URL:https://mentoringmondays.xyz/event/2026-malsce-convention/
CATEGORIES:Massachusetts
END:VEVENT
BEGIN:VEVENT
DTSTART;VALUE=DATE:20260318
DTEND;VALUE=DATE:20260322
DTSTAMP:20260423T230807
CREATED:20230627T133300Z
LAST-MODIFIED:20230627T133300Z
UID:5122-1773792000-1774137599@mentoringmondays.xyz
SUMMARY:Western Regional Survey Conference Arizona\, Nevada\, Utah\, WestFed
DESCRIPTION:March 18 – 21\, 2026 \nHorseshoe Las Vegas \nMore information: www.PLSeducation.org
URL:https://mentoringmondays.xyz/event/western-regional-survey-conference-arizona-nevada-utah-westfed/
CATEGORIES:All Events
END:VEVENT
BEGIN:VEVENT
DTSTART;VALUE=DATE:20260409
DTEND;VALUE=DATE:20260411
DTSTAMP:20260423T230807
CREATED:20260325T124528Z
LAST-MODIFIED:20260325T124528Z
UID:6451-1775692800-1775865599@mentoringmondays.xyz
SUMMARY:2026 Boundary Survey Essentials for Technicians Seminar
DESCRIPTION:Retracing property boundaries\, whether defined by metes and bounds or the Public Land Survey System (PLSS)\, requires more than technical skill. It demands a solid understanding of the priority of calls\, strong interpretation abilities\, and sound judgment in evaluating boundary evidence. \nLand survey technicians are responsible for locating and assessing evidence that meets project objectives\, which often raises important questions:\n• Where should I search for corners?\n• How much evidence is enough?\n• What do I do when few or no corners are found? \nThis seminar provides answers and proven strategies for successful boundary retracement. Participants will explore common legal description elements and learn techniques for recovering them in the field. Through instruction and hands-on practice\, we will:\n•  Plot boundaries using metes & bounds and PLSS descriptions\n•  Perform essential computations used in boundary retracement\n•  Develop clear\, defensible legal descriptions that reduce confusion\n•  Apply proven strategies for resolving boundary challenges \nAt least one-third of the seminar will be dedicated to interactive\, hands-on classroom activities. \nWith a stronger foundation in boundary survey principles\, attendees will leave with increased confidence\, improved field efficiency\, and the skills needed to earn the trust of coworkers and supervisors. \n\nView the informational flyer. \nSchedule:\nApril 9-10\, 2026 \n8:00 am – 4:00 pm daily \nRegistration is $300 per person and is limited to 20 attendees.
URL:https://mentoringmondays.xyz/event/2026-boundary-survey-essentials-for-technicians-seminar/
CATEGORIES:Michigan
END:VEVENT
BEGIN:VEVENT
DTSTART;VALUE=DATE:20260415
DTEND;VALUE=DATE:20260418
DTSTAMP:20260423T230807
CREATED:20260105T195226Z
LAST-MODIFIED:20260105T195226Z
UID:6325-1776211200-1776470399@mentoringmondays.xyz
SUMMARY:LSPS 65th Annual Convention
DESCRIPTION:April 15th – April 17th\, 2026 \nGolden Nugget Lake Charles
URL:https://mentoringmondays.xyz/event/lsps-65th-annual-convention/
CATEGORIES:Louisiana
END:VEVENT
BEGIN:VEVENT
DTSTART;VALUE=DATE:20260416
DTEND;VALUE=DATE:20260419
DTSTAMP:20260423T230807
CREATED:20260105T220834Z
LAST-MODIFIED:20260105T220834Z
UID:6377-1776297600-1776556799@mentoringmondays.xyz
SUMMARY:2026 WVSPS 58th Annual Conference
DESCRIPTION:Stay tuned for more information
URL:https://mentoringmondays.xyz/event/2026-wvsps-58th-annual-conference/
CATEGORIES:West Virgina
END:VEVENT
BEGIN:VEVENT
DTSTART;VALUE=DATE:20260416
DTEND;VALUE=DATE:20260419
DTSTAMP:20260423T230807
CREATED:20260325T131735Z
LAST-MODIFIED:20260325T131735Z
UID:6455-1776297600-1776556799@mentoringmondays.xyz
SUMMARY:WVSPS 2026 58th Annual Convention
DESCRIPTION:Join the West Virginia Society of Professional Surveyors at their 58th Annual Convention\, to be held April 16-18\, 2026 at the Oglebay Resort in Wheeling\, West Virginia. Each day of the Convention will feature continuing education seminars from the state and region’s most knowledgeable sources. \nWith over twenty-five seminars on the schedule\, including Economics of Surveying\, Achieving Accuracy and Efficiency in Drone Photogrammetry\, and three offerings of West Virginia Standards and Ethics\, surveyors and affiliated professionals will have no shortage of interesting and engaging material. \nWhether you attend for the seminars\, map contest\, professional development or personal connections\, you won’t regret registering for the premier surveying event in West Virginia in 2026
URL:https://mentoringmondays.xyz/event/wvsps-2026-58th-annual-convention/
CATEGORIES:West Virgina
END:VEVENT
BEGIN:VEVENT
DTSTART;VALUE=DATE:20260422
DTEND;VALUE=DATE:20260426
DTSTAMP:20260423T230807
CREATED:20260105T220501Z
LAST-MODIFIED:20260105T220501Z
UID:6373-1776816000-1777161599@mentoringmondays.xyz
SUMMARY:2026 VAS Convention
DESCRIPTION:78th Annual VAS Convention & General \nMembership Meeting \nApril 22 – 25\, 2026\nOmni Hotel\, 100 S 12th Street\nRichmond\, VA
URL:https://mentoringmondays.xyz/event/2026-vas-convention/
CATEGORIES:Virginia
END:VEVENT
BEGIN:VEVENT
DTSTART;VALUE=DATE:20260430
DTEND;VALUE=DATE:20260502
DTSTAMP:20260423T230807
CREATED:20260105T203905Z
LAST-MODIFIED:20260105T203905Z
UID:6343-1777507200-1777679999@mentoringmondays.xyz
SUMMARY:Missouri Society of Professional Surveyors Spring Workshop
DESCRIPTION:Date and Location\n\n\n\n\nApril 30 – May 1\, 2026\nLODGE OF FOUR SEASONS\n315 Four Seasons Drive\nLake Ozark\, MO 65049
URL:https://mentoringmondays.xyz/event/missouri-society-of-professional-surveyors-spring-workshop-2/
CATEGORIES:Missouri
END:VEVENT
BEGIN:VEVENT
DTSTART;VALUE=DATE:20260505
DTEND;VALUE=DATE:20260506
DTSTAMP:20260423T230807
CREATED:20260325T124926Z
LAST-MODIFIED:20260325T124926Z
UID:6453-1777939200-1778025599@mentoringmondays.xyz
SUMMARY:MSPS Spring Meeting
DESCRIPTION:5/5/2026\n\n\nWhen:\nMay 5\, 2026\n8:30 AM\n\n\nWhere:\nZoom Webinar\nUnited States\n\n\nContact:\nMSPS\ninfo@mnsurveyor.com\n952-479-4204\n\n\n\n  \nJoin us for the MSPS Spring Seminar!\nOne Day – Two Seminars \nThe virtual MSPS Spring Seminar\, where surveying professionals will come together for an engaging and informative learning experience. We are pleased to welcome back Gary Kent\, a nationally recognized expert in land surveying standards\, who will share his deep knowledge and practical insights. This seminar will explore the newly adopted 2026 ALTA/NSPS Land Title Survey Standards\, highlighting key updates and their real-world impact\, along with a thoughtful discussion on ethics and the complex dilemmas surveyors face in practice. Whether you are looking to stay current with industry standards or strengthen your professional judgment\, this program offers valuable takeaways for surveyors at all stages of their careers. \n  \nPlatform\nThis session will be streamed through Zoom. Login instructions will be sent to registered attendees 48 hours before the event date.\nIncluded in login instructions are the meeting link\, call-in details\, and technical support information. \n  \nContinuing Education\nA PDH Form will be provided electronically only. Attendees are responsible for tracking records.
URL:https://mentoringmondays.xyz/event/msps-spring-meeting/
CATEGORIES:Minnesota
END:VEVENT
BEGIN:VEVENT
DTSTART;VALUE=DATE:20260612
DTEND;VALUE=DATE:20260613
DTSTAMP:20260423T230807
CREATED:20260325T122544Z
LAST-MODIFIED:20260325T122544Z
UID:6449-1781222400-1781308799@mentoringmondays.xyz
SUMMARY:2026 Annual Golf Scramble & Family Picnic
DESCRIPTION:When\n06/12/2026\n\n\n\n9:30 AM (EDT)\n\n\nLocation\nMy Old Kentucky Home State Park\, 668 Loretto Road\, Bardstown\, KY 40004\n\n\nJoin us for our annual Golf Scramble & Family Picnic \nbenefitting the KAPS Scholarship Fund! \n$75 per player (no refunds)\nIncludes: 18 hole-green fees\, cart\, & lunch\nRegister as four-person team or individually \nBecome a sponsor!\n$100 Hole Sponsor – hole sign\n$200 Hole Contest Sponsor – sponsor sign near contest\n$250 Major Sponsor – sponsor sign; half page ad in The Interior Angle\n$350 Bronze Sponsor – sponsor sign; 4-person team\n$500 Silver Sponsor – sponsor sign; 4-person team; hole contest sponsor\n$1\,000 Gold Sponsor – sponsor sign; (2) 4 person teams; hole contest sponsor; listing as major sponsor \nRegistration deadline: June 6
URL:https://mentoringmondays.xyz/event/2026-annual-golf-scramble-family-picnic/
CATEGORIES:Kentucky
END:VEVENT
BEGIN:VEVENT
DTSTART;VALUE=DATE:20260716
DTEND;VALUE=DATE:20260719
DTSTAMP:20260423T230807
CREATED:20260105T182908Z
LAST-MODIFIED:20260105T182908Z
UID:6309-1784160000-1784419199@mentoringmondays.xyz
SUMMARY:2026 Annual Meeting & Summer Convention
DESCRIPTION: \n7/16/2026 to 7/18/2026\n\n\nWhen:\nThursday\, July 16\, 2026\n\n\nWhere:\nThe DeSoto\n15 East Liberty Street\nSavannah\, Georgia  31401\nUnited States\n\n\nContact:\nGinger Jones\nginger_samsog@att.net\n770-947-1767
URL:https://mentoringmondays.xyz/event/2026-annual-meeting-summer-convention/
CATEGORIES:Georgia
END:VEVENT
BEGIN:VEVENT
DTSTART;VALUE=DATE:20260916
DTEND;VALUE=DATE:20260919
DTSTAMP:20260423T230807
CREATED:20260105T193550Z
LAST-MODIFIED:20260105T193550Z
UID:6323-1789516800-1789775999@mentoringmondays.xyz
SUMMARY:2026 KAPS Annual Conference
DESCRIPTION:Start\n09/16/2026\n\nEnd\n09/18/2026\n\nLocation\nCenter for Rural Development\, 2292 S Highway 27\, Somerset\, KY 42501
URL:https://mentoringmondays.xyz/event/2026-kaps-annual-conference/
CATEGORIES:Kentucky
END:VEVENT
BEGIN:VEVENT
DTSTART;VALUE=DATE:20261001
DTEND;VALUE=DATE:20261002
DTSTAMP:20260423T230807
CREATED:20260105T204959Z
LAST-MODIFIED:20260105T204959Z
UID:6345-1790812800-1790899199@mentoringmondays.xyz
SUMMARY:Missouri Society of Professional Survey 69th Annual Meeting and Convention
DESCRIPTION:69th Annual Meeting and Convention\n  \nOasis Hotel\, Springfield\, MO
URL:https://mentoringmondays.xyz/event/missouri-society-of-professional-survey-69th-annual-meeting-and-convention/
CATEGORIES:Missouri
END:VEVENT
BEGIN:VEVENT
DTSTART;VALUE=DATE:20261007
DTEND;VALUE=DATE:20261012
DTSTAMP:20260423T230807
CREATED:20260105T220223Z
LAST-MODIFIED:20260105T220223Z
UID:6371-1791331200-1791763199@mentoringmondays.xyz
SUMMARY:75th TSPS Convention & Tech EXPO
DESCRIPTION: \n10/7/2026 to 10/11/2026\n\n\nWhen:\nOctober 7\, 2026\n\n\nWhere:\nEmbassy Suites by Hilton Dallas Frisco Hotel & Convention Center\n7600 John Q Hammons Dr\nFrisco\, Texas  7600 John Q Hammons Dr\, Frisco\, TX 75034\nUnited States
URL:https://mentoringmondays.xyz/event/75th-tsps-convention-tech-expo/
CATEGORIES:Texas
END:VEVENT
BEGIN:VEVENT
DTSTART;VALUE=DATE:20261022
DTEND;VALUE=DATE:20261024
DTSTAMP:20260423T230807
CREATED:20260105T191538Z
LAST-MODIFIED:20260105T191538Z
UID:6321-1792627200-1792799999@mentoringmondays.xyz
SUMMARY:KSLS 2026 Annual Meeting & Conference
DESCRIPTION:SAVE THE DATE!! \nOctober 22-23\, 2026 \nDodge City\, KS
URL:https://mentoringmondays.xyz/event/ksls-2026-annual-meeting-conference/
CATEGORIES:Kansas
END:VEVENT
BEGIN:VEVENT
DTSTART;VALUE=DATE:20270403
DTEND;VALUE=DATE:20270407
DTSTAMP:20260423T230807
CREATED:20230627T133428Z
LAST-MODIFIED:20230627T133428Z
UID:5124-1806710400-1807055999@mentoringmondays.xyz
SUMMARY:Nevada Association of Land Surveyors Conference
DESCRIPTION:April 3 – 6\, 2027 \nSilver Legacy \nMore information: www.NvLandSurveyors.org
URL:https://mentoringmondays.xyz/event/nevada-association-of-land-surveyors-conference-2/
CATEGORIES:All Events
END:VEVENT
END:VCALENDAR