BEGIN:VCALENDAR
VERSION:2.0
PRODID:-//Mentoring Mondays - ECPv6.15.20//NONSGML v1.0//EN
CALSCALE:GREGORIAN
METHOD:PUBLISH
X-ORIGINAL-URL:https://mentoringmondays.xyz
X-WR-CALDESC:Events for Mentoring Mondays
REFRESH-INTERVAL;VALUE=DURATION:PT1H
X-Robots-Tag:noindex
X-PUBLISHED-TTL:PT1H
BEGIN:VTIMEZONE
TZID:UTC
BEGIN:STANDARD
TZOFFSETFROM:+0000
TZOFFSETTO:+0000
TZNAME:UTC
DTSTART:20200101T000000
END:STANDARD
END:VTIMEZONE
BEGIN:VEVENT
DTSTART;VALUE=DATE:20260226
DTEND;VALUE=DATE:20260228
DTSTAMP:20260423T214146
CREATED:20260105T213229Z
LAST-MODIFIED:20260105T213229Z
UID:6359-1772064000-1772236799@mentoringmondays.xyz
SUMMARY:OSLS 2026 Annual Convention
DESCRIPTION: \n2/26/2026 to 2/27/2026\n\n\nWhen:\n8:00 AM\n\n\nWhere:\nSheraton Reed Conference Center\n5800 Will Rogers Blvd\nMidwest City\, Oklahoma  73110\nUnited States\n\n\nContact:\nBurk Cornelius\nburk@osls.org\n405-202-5792\n\n\n\n  \nThe Oklahoma Society of Land Surveyors is pleased to announce registration for the 2026 OSLS Annual Convention is now OPEN! \nThe convention will be held February 26-27\, 2026 at the Sheraton Reed Conference Center in Midwest City\, OK. \n ***AS WE DID LAST YEAR\, THE CONVENTION WILL BE 2-DAYS ONLY. NO SATURDAY CLASSES**\n**CHECK BACK HERE TO DOWNLOAD THE CONVENTION BOOK ** \n 
URL:https://mentoringmondays.xyz/event/osls-2026-annual-convention/
CATEGORIES:Oklahoma
END:VEVENT
BEGIN:VEVENT
DTSTART;VALUE=DATE:20240927
DTEND;VALUE=DATE:20240928
DTSTAMP:20260423T214146
CREATED:20240730T130106Z
LAST-MODIFIED:20240730T130106Z
UID:5863-1727395200-1727481599@mentoringmondays.xyz
SUMMARY:2024 OSLS Fall Conference | Oklahoma-Arkansas State Line Monumentation Project
DESCRIPTION:When:\nFriday\, September 27\, 2024\n9:00 AM\n\n\nWhere:\nCherokee Casino Tahlequah\n3307 South Seven Clans Avenue\nTahlequah\, Oklahoma  74464\nUnited States\n\n\nContact:\nBurk Cornelius\nburk@osls.org\n405-202-5792\n\n\n\n  \nSeptember 27\,2024 \n8:00 am Sign-in / Breakfast\n9:00am – 4:00: Oklahoma – Arkansas State Line Monumentation Project | Presented by Daniel Phillips\, AR State Surveyor\nDaniel is lifelong native of central Arkansas and is passionate about all things surveying. As State Surveyor of Arkansas\, Daniel is responsible for leading the Arkansas Division of Land Surveys. This role includes maintaining Arkansas’s Public Land Survey System\, prescribing statewide surveying rules\, and managing an archive of over 200\,000 survey plats. Daniel works closely with various agencies and the citizens of Arkansas. \nDaniel will present a detailed session on the Boundary line set in 1825 by treaty between the US and the Choctaw Nation. 1825 Treaty of Washington City “lying east of a line beginning on the Arkansas\, one hundred paces east of Fort Smith\, and running thence\, due south\, to Red river” \nLunch 12:00-1:00(provided by OSLS)\nALL ATTENDEES WILL BE AWARDED 6 PROFESSIONAL DEVELOPMENT HOURS\nCost\n\n$100.00 | Members\n$150.00 | non-Members\n\n**WALK-UP REGISTRATIONS WILL NOT BE ACCEPTED | NO REFUNDS AFTER 9.10.24*\nA block of hotel rooms has been reserved at the Tru by Hilton located right across the street from the casino. The rooms will only be available until September 9\, 2024. Click here to reserve your room \n 
URL:https://mentoringmondays.xyz/event/2024-osls-fall-conference-oklahoma-arkansas-state-line-monumentation-project/
CATEGORIES:Oklahoma
END:VEVENT
BEGIN:VEVENT
DTSTART;VALUE=DATE:20240307
DTEND;VALUE=DATE:20240310
DTSTAMP:20260423T214146
CREATED:20240304T190916Z
LAST-MODIFIED:20240304T190916Z
UID:5700-1709769600-1710028799@mentoringmondays.xyz
SUMMARY:OSLS - 2024 Annual Convention
DESCRIPTION:When:\n8:00 AM\n\n\nWhere:\nSheraton Reed Conference Center\n5800 Will Rogers Blvd\nMidwest City\, Oklahoma  73110\nUnited States\n\n\nContact:\nBurk Cornelius\nburk@osls.org\n405-202-5792\n\n\n\n  \nThe Oklahoma Society of Land Surveyors is pleased to announce registration for the 2024 OSLS Annual Convention is now OPEN! \nThe convention will be held March 7-9\, 2024 at the Sheraton Reed Conference Center in Midwest City\, OK. \nCLICK HERE TO DOWNLOAD THE CONVENTION BOOK \nFees are as follows: \n\nFull Registration: $355.00 member* / $455.00 non-member*\nSaturday only Registration: $100.00\nBanquet tickets: $50.00 each\n\n*Early bird registration ($50.00 discount) will end on 2/4/2023
URL:https://mentoringmondays.xyz/event/osls-2024-annual-convention/
CATEGORIES:Oklahoma
END:VEVENT
BEGIN:VEVENT
DTSTART;VALUE=DATE:20230929
DTEND;VALUE=DATE:20230930
DTSTAMP:20260423T214146
CREATED:20230821T143007Z
LAST-MODIFIED:20230821T143007Z
UID:5342-1695945600-1696031999@mentoringmondays.xyz
SUMMARY:2023 OSLS Fall Conference | Red River Boundary Dispute and other Oklahoma court cases
DESCRIPTION:September 29\, 2023 \n8:00 am Sign-in / Breakfast\n9:00 am-12:00: Red River Boundary Dispute | Presented by Brian Portwood \nLunch (provided by OSLS)\n1:00-4:00 pm: Oklahoma boundary/easement court cases | Presented by Brian Portwood \nBrian Portwood is a professional land surveyor and historian of land rights law\, providing advisory\, consulting\, and educational services to the land rights community\, with the goal of fostering interdisciplinary professional collaboration. He was born and raised near Chicago Illinois\, graduated from Lamson Business College in Scottsdale Arizona in 1983\, and began his ongoing career as a land surveyor at that time. Over the ensuing 22 years he worked in the private sector in numerous states from coast to coast\, on both privately funded and publicly funded projects of virtually every kind\, and is now licensed in several western states. Since 2005\, he has been employed by the Bonneville Power Administration\, which is a branch of the United States Department of Energy and has been engaged in hundreds of federal land rights acquisitions. He has been nationally recognized as a leading expert on the federal Quiet Title Act and has authored numerous materials supporting the continuing education of professional land surveyors\, including the Land Surveyor’s Guide to the Supreme Court series of books\, published between 2010 and 2019\, along with many essays on various aspects of federal land rights\, which were published by NSPS between 2015 and 2020. \nALL ATTENDEES WILL BE AWARDED 6 PROFESSIONAL DEVELOPMENT HOURS\nCost\n\n$100.00 | Members\n$150.00 | non-Members\n\nWALK-UP REGISTRATIONS WILL NOT BE ACCEPTED
URL:https://mentoringmondays.xyz/event/2023-osls-fall-conference-red-river-boundary-dispute-and-other-oklahoma-court-cases/
CATEGORIES:Oklahoma
END:VEVENT
BEGIN:VEVENT
DTSTART;VALUE=DATE:20230302
DTEND;VALUE=DATE:20230305
DTSTAMP:20260423T214147
CREATED:20230118T164544Z
LAST-MODIFIED:20230118T164544Z
UID:4349-1677715200-1677974399@mentoringmondays.xyz
SUMMARY:OSLS 2023 Annual Convention
DESCRIPTION:3/2/2023 to 3/4/2023\n\n\nWhen:\n8:00 AM\n\n\nWhere:\nSheraton Reed Conference Center\n5800 Will Rogers Blvd\nMidwest City\, Oklahoma  73110\nUnited States\n\n\nContact:\nBurk Cornelius\nburk@osls.org\n405-202-5792\n\n\n\nThe Oklahoma Society of Land Surveyors is pleased to announce registration for the 2023 OSLS Annual Convention is now OPEN!
URL:https://mentoringmondays.xyz/event/osls-2023-annual-convention/
CATEGORIES:Oklahoma
END:VEVENT
BEGIN:VEVENT
DTSTART;TZID=UTC:20220815T080000
DTEND;TZID=UTC:20220815T170000
DTSTAMP:20260423T214147
CREATED:20220815T183345Z
LAST-MODIFIED:20220815T183356Z
UID:3960-1660550400-1660582800@mentoringmondays.xyz
SUMMARY:OSLS: 2022 FALL CONFERENCE
DESCRIPTION:Topic TBD. Watch your email for details soon \n\n\n\n \n9/23/2022\n\n\nWhen:\nFriday\, September 23\, 2022\n9:00 AM\n\n\nWhere:\nMap this event »\nHilton Garden Inn\n135 NW 2nd\, St\nLawton\, Oklahoma  73501\nUnited States\n\n\nContact:\nBurk Cornelius\nburk@osls.org\n405-202-5792
URL:https://mentoringmondays.xyz/event/osls-2022-fall-conference/
CATEGORIES:Oklahoma
END:VEVENT
BEGIN:VEVENT
DTSTART;VALUE=DATE:20220303
DTEND;VALUE=DATE:20220306
DTSTAMP:20260423T214147
CREATED:20220110T210544Z
LAST-MODIFIED:20220110T210611Z
UID:3563-1646265600-1646524799@mentoringmondays.xyz
SUMMARY:OSLS:  2022 Annual Convention
DESCRIPTION:WE ARE BACK IN PERSON FOR 2022!\nThe Oklahoma Society of Land Surveyors is pleased to announce registration for the 2022 OSLS Annual Convention is now OPEN! \nThe convention will be held March 3-5\, 2022 at the Sheraton Reed Conference Center in Midwest City\, OK. \nCLICK HERE FOR A COPY OF THE PRELIMINARY SCHEDULE \nFees are as follows: \n\nFull Registration: $355.00 member* / $455.00 non-member*\nSaturday only Registration: $80.00\nBanquet tickets: $50.00 each\n\n*Early bird registration ($50.00 discount) will end on 2/4/2022\n \nREFUND POLICY \n\nCANCEL IN WRITING BEFORE 1/20/2022  100% REFUND\nCANCEL IN WRITING BEFORE 2/4/2022      50% REFUND\nNO REFUNDS WILL BE GIVEN AFTER 2/4/2022\n\nALL ATTENDEES WILL RECEIVE A DIGITAL (PDF) COPY OF THE CONVENTION HANDOUT BOOK. NO HARD COPIES WILL BE PROVIDED. \nCLICK HERE TO MAKE RESERVATIONS AT THE SHERATON AT THE SPECIAL OSLS RATE ($118.00 / night)
URL:https://mentoringmondays.xyz/event/osls-2022-annual-convention/
CATEGORIES:Oklahoma
ATTACH;FMTTYPE=image/jpeg:https://mentoringmondays.xyz/wp-content/uploads/2022/01/20211231_191252_20279.jpg
END:VEVENT
BEGIN:VEVENT
DTSTART;VALUE=DATE:20210910
DTEND;VALUE=DATE:20210911
DTSTAMP:20260423T214147
CREATED:20210222T235328Z
LAST-MODIFIED:20210825T161628Z
UID:2632-1631232000-1631318399@mentoringmondays.xyz
SUMMARY:Oklahoma: 2021 OSLA Annual Convention Resecheduled
DESCRIPTION:September 10\, 2021. A one-day event presented by Oklahoma State Board of Licensure members\, staff\, and investigators. An in-depth discussion about the Standards that are most often seen in violations and complaints. Things such as Legal Descriptions\, Research\, and Board Rules. \nThe afternoon session will be a discussion led by State Board member\, Aaron Morris on the “new” Control Survey Standards. We are also honored to have Trevor Cheramie\, PLS with Halff Associates who will explain the practical day-to-day use and application of the new state plan coordinate system. \nAttendees will receive a total of  7 PDH as well as a paid registration to attend another half-day webinar at a date TBD (additional 3 PDH) NOW THAT’S A BARGAIN! \nAs always\, lunch will be provided by OSLS \nWe are going to limit the size of the conference to 150 so we can still stay properly distanced during the session as well as during lunch\, so REGISTER EARLY \nThe registration fee will be: \n$150.00 / Members\n$200.00 / non-Members \nWhere: \nSheraton Reed Center\n5800 Will Rogers Road\nMidwest City\, Oklahoma  73110-2614\nUnited States \nClick here to register for this event
URL:https://mentoringmondays.xyz/event/oklahoma-2021-osla-annual-convention-resecheduled/
CATEGORIES:Oklahoma
ATTACH;FMTTYPE=image/png:https://mentoringmondays.xyz/wp-content/uploads/2021/02/OSLS.png
END:VEVENT
BEGIN:VEVENT
DTSTART;TZID=UTC:20210305T130000
DTEND;TZID=UTC:20210305T160000
DTSTAMP:20260423T214147
CREATED:20210222T234740Z
LAST-MODIFIED:20210222T234740Z
UID:2628-1614949200-1614960000@mentoringmondays.xyz
SUMMARY:Oklahoma: 40 ways to improve your business | 3PHD
DESCRIPTION:Due to the COVID-19 pandemic\, the 2021 OSLS Annual Convention has been postponed until September. We are offering a series of 5 webinars as a substitute for the sessions that are typically offered at the Annual Convention. We will be offering a new webinar every 2 weeks so you can obtain the 15 PDH that you would have by attending the convention. \nThe topic of this webinar will be 40 Ways to Improve Your Business presented by Dr. Richard Elgin\, PS\, PE \nPractical\, useful\, tested ideas to improve your surveying business:  Let’s Get Organized\, In-house Forms\, Example Letters\, Pricing the Survey\, Let’s Get Paid\, Reasons Surveying Businesses Succeed…and Fail\, Marketing Ideas\, Example Surveyor’s Notes for Plats.\nAll these topics (and more) from the former owner of a surveying-only business\, the attendee benefitting from his 24 years of frustration getting the survey project out the door as promised\, billed and paid\, while making a profit and maintaining high QA/QC controls.  Notes provided to webinar attendees prior to the session. \nAs you know\, renewal of your Land Surveyor license requires proof of 2 PDH in the Minimum Standards. If your license renews between March and September 2021\, you will need to attend this webinar or another approved course to meet that requirement \nRegistration fee is: \n\n$75.00 members\n$125.00 non-members\n\nMAKE SURE YOU ARE LOGGED IN BEFORE REGISTERING SO YOU WILL RECEIVE THE MEMBER RATE \n***After you complete your registration\, you will receive a notification email from OSLS with the GoToMeeting webinar log in information*** \nTo register: https://www.osls.org/events/register.aspx?id=1467275&itemid=ce907846-6b76-47f4-af63-acce81f91144
URL:https://mentoringmondays.xyz/event/oklahoma-40-ways-to-improve-your-business-3phd/
CATEGORIES:Oklahoma
END:VEVENT
BEGIN:VEVENT
DTSTART;TZID=UTC:20210304T130000
DTEND;TZID=UTC:20210304T143000
DTSTAMP:20260423T214147
CREATED:20210222T234443Z
LAST-MODIFIED:20210222T234443Z
UID:2626-1614862800-1614868200@mentoringmondays.xyz
SUMMARY:Oklahoma: OSLS [Virtual] Annual General Business meeting
DESCRIPTION:Annual Business Meeting to be held virtually \nPlease join the Oklahoma Society of Land Surveyors Board of Directors at the 2021 [Virtual] Annual Business meeting. You will hear from the President as well as each Director with an update of all the activities for the 2020 year. Executive Director\, Burk Cornelius will present his report as well as the report of the Treasurer. \nClick here to register for the meeting https://attendee.gotowebinar.com/register/6923399732525897996
URL:https://mentoringmondays.xyz/event/oklahoma-osls-virtual-annual-general-business-meeting/
CATEGORIES:Oklahoma
END:VEVENT
BEGIN:VEVENT
DTSTART;TZID=UTC:20210223T130000
DTEND;TZID=UTC:20210223T160000
DTSTAMP:20260423T214147
CREATED:20210222T234154Z
LAST-MODIFIED:20210222T234154Z
UID:2624-1614085200-1614096000@mentoringmondays.xyz
SUMMARY:Oklahoma: 2021 ALTA/NSPS Minimum Standard Detail Requirements | 3PDH
DESCRIPTION:Due to the COVID-19 pandemic\, the 2021 OSLS Annual Convention has been postponed until September. We are offering a series of 5 webinars as a substitute for the sessions that are typically offered at the Annual Convention. We will be offering a new webinar every 2 weeks so you can obtain the 15 PDH that you would have by attending the convention. \nPresenter: Todd D’Amico\, PLS | NSPS Standards committee member \nTo register: https://www.osls.org/events/register.aspx?id=1466010&itemid=4e53379d-a2c8-4bd1-a999-79fdc840d3aa
URL:https://mentoringmondays.xyz/event/oklahoma-2021-alta-nsps-minimum-standard-detail-requirements-3pdh/
CATEGORIES:Oklahoma
END:VEVENT
END:VCALENDAR