BEGIN:VCALENDAR
VERSION:2.0
PRODID:-//Mentoring Mondays - ECPv6.15.20//NONSGML v1.0//EN
CALSCALE:GREGORIAN
METHOD:PUBLISH
X-WR-CALNAME:Mentoring Mondays
X-ORIGINAL-URL:https://mentoringmondays.xyz
X-WR-CALDESC:Events for Mentoring Mondays
REFRESH-INTERVAL;VALUE=DURATION:PT1H
X-Robots-Tag:noindex
X-PUBLISHED-TTL:PT1H
BEGIN:VTIMEZONE
TZID:UTC
BEGIN:STANDARD
TZOFFSETFROM:+0000
TZOFFSETTO:+0000
TZNAME:UTC
DTSTART:20240101T000000
END:STANDARD
END:VTIMEZONE
BEGIN:VEVENT
DTSTART;VALUE=DATE:20250122
DTEND;VALUE=DATE:20250125
DTSTAMP:20260425T030339
CREATED:20241119T154754Z
LAST-MODIFIED:20241119T154754Z
UID:6040-1737504000-1737763199@mentoringmondays.xyz
SUMMARY:NYSAPLS 66th Annual Conference
DESCRIPTION: \n1/22/2025 to 1/24/2025\n\n\nWhere:\nTurning Stone Resort\, Verona\, NY\nUnited States
URL:https://mentoringmondays.xyz/event/nysapls-66th-annual-conference/
CATEGORIES:New York
END:VEVENT
END:VCALENDAR