BEGIN:VCALENDAR
VERSION:2.0
PRODID:-//Mentoring Mondays - ECPv6.15.20//NONSGML v1.0//EN
CALSCALE:GREGORIAN
METHOD:PUBLISH
X-ORIGINAL-URL:https://mentoringmondays.xyz
X-WR-CALDESC:Events for Mentoring Mondays
REFRESH-INTERVAL;VALUE=DURATION:PT1H
X-Robots-Tag:noindex
X-PUBLISHED-TTL:PT1H
BEGIN:VTIMEZONE
TZID:UTC
BEGIN:STANDARD
TZOFFSETFROM:+0000
TZOFFSETTO:+0000
TZNAME:UTC
DTSTART:20200101T000000
END:STANDARD
END:VTIMEZONE
BEGIN:VEVENT
DTSTART;VALUE=DATE:20230921
DTEND;VALUE=DATE:20230922
DTSTAMP:20260424T033902
CREATED:20230920T184203Z
LAST-MODIFIED:20230920T184203Z
UID:5386-1695254400-1695340799@mentoringmondays.xyz
SUMMARY:SNALS Golf Tournament
DESCRIPTION:When: Saturday\, Oct 21\, 2023\n\nWhere: Siena Golf Club\, 10575 Siena Monte Ave\, Las Vegas\, NV 89135\, USA
URL:https://mentoringmondays.xyz/event/snals-golf-tournament/
CATEGORIES:Nevada
END:VEVENT
BEGIN:VEVENT
DTSTART;VALUE=DATE:20230728
DTEND;VALUE=DATE:20230731
DTSTAMP:20260424T033902
CREATED:20230428T135742Z
LAST-MODIFIED:20230428T135742Z
UID:4987-1690502400-1690761599@mentoringmondays.xyz
SUMMARY:NV Young Surveyors Annual Camping Trip
DESCRIPTION:NV Young Surveyors Annual Camping Trip\n\nJuly 28 – 30\, 2023
URL:https://mentoringmondays.xyz/event/nv-young-surveyors-annual-camping-trip/
CATEGORIES:Nevada
END:VEVENT
BEGIN:VEVENT
DTSTART;VALUE=DATE:20230429
DTEND;VALUE=DATE:20230430
DTSTAMP:20260424T033902
CREATED:20230428T135613Z
LAST-MODIFIED:20230428T135613Z
UID:4985-1682726400-1682812799@mentoringmondays.xyz
SUMMARY:SNALS Chapter Picnic
DESCRIPTION:When: Saturday\, Apr 29\, 2023\nWhere: Centennial Hills Park\, 7101 N Buffalo Dr\, Las Vegas\, NV 89131\, USA (map)\nSNALS Chapter Picnic\nApril 29th\nCentennial Hills Park – Area D\n\nAdults $10\, Kids Free
URL:https://mentoringmondays.xyz/event/snals-chapter-picnic/
CATEGORIES:Nevada
END:VEVENT
BEGIN:VEVENT
DTSTART;VALUE=DATE:20230325
DTEND;VALUE=DATE:20230329
DTSTAMP:20260424T033902
CREATED:20230110T185453Z
LAST-MODIFIED:20230110T185453Z
UID:4210-1679702400-1680047999@mentoringmondays.xyz
SUMMARY:CLSA-NALS Conference
DESCRIPTION:CLSA-NALS Conference \nSilver Legacy Resort Casino \n  \nFeatured Speakers/Programs:\nKeynote Speaker: Tim Burch\, NSPS Executive Director\nDennis Mouland\nGary Kent\nCFedS Program\nSurvey Technicians Track
URL:https://mentoringmondays.xyz/event/clsa-nals-conference/
CATEGORIES:California,Nevada
END:VEVENT
BEGIN:VEVENT
DTSTART;VALUE=DATE:20230303
DTEND;VALUE=DATE:20230305
DTSTAMP:20260424T033902
CREATED:20230123T221546Z
LAST-MODIFIED:20230123T221546Z
UID:4512-1677801600-1677974399@mentoringmondays.xyz
SUMMARY:NvSCA 2023 Annual Conference
DESCRIPTION:The Nevada School Counselor Association (NvSCA) invites you to join school counselors\, counselor educators\, graduate students\, and counseling supervisors on March 3 and 4\, 2023\, for the NvSCA Conference 2023: “We are the Heart\,” \nThe conference will consist of two inspiring keynote speakers\, and breakouts sessions on a variety of topics related to school counseling topics. Join us for our annual conference!
URL:https://mentoringmondays.xyz/event/nvsca-2023-annual-conference/
CATEGORIES:American School Counselor Association (ASCA),Nevada
END:VEVENT
BEGIN:VEVENT
DTSTART;VALUE=DATE:20220330
DTEND;VALUE=DATE:20220403
DTSTAMP:20260424T033902
CREATED:20210825T165146Z
LAST-MODIFIED:20210825T165146Z
UID:3141-1648598400-1648943999@mentoringmondays.xyz
SUMMARY:Western Regional Combined Conference March 30-April 2 in Las Vegas
DESCRIPTION:Save the date!  We will be combining our conference next year with WFPS\, APLS\, CLSA\, and NALS at the Luxor in Las Vegas.  Check back frequently for updates.
URL:https://mentoringmondays.xyz/event/western-regional-combined-conference-march-30-april-2-in-las-vegas/
CATEGORIES:Nevada
END:VEVENT
BEGIN:VEVENT
DTSTART;TZID=UTC:20211104T120000
DTEND;TZID=UTC:20211104T130000
DTSTAMP:20260424T033902
CREATED:20210222T221612Z
LAST-MODIFIED:20210222T223839Z
UID:2580-1636027200-1636030800@mentoringmondays.xyz
SUMMARY:Nevada: NALS Statewide Virtual Meeting
DESCRIPTION:Description: NALS Statewide Virtual Meeting \nProgram: TBD \nRegister in advance for this meeting:\nhttps://us02web.zoom.us/meeting/register/tZEuce-tqDwuH9UOsTbL0tap-Vx3JBzRUdmU  \nAfter registering\, you will receive a confirmation email containing information about joining the meeting.
URL:https://mentoringmondays.xyz/event/nevada-nals-statewide-virtual-meeting/
CATEGORIES:Nevada
END:VEVENT
END:VCALENDAR