BEGIN:VCALENDAR
VERSION:2.0
PRODID:-//Mentoring Mondays - ECPv6.15.20//NONSGML v1.0//EN
CALSCALE:GREGORIAN
METHOD:PUBLISH
X-ORIGINAL-URL:https://mentoringmondays.xyz
X-WR-CALDESC:Events for Mentoring Mondays
REFRESH-INTERVAL;VALUE=DURATION:PT1H
X-Robots-Tag:noindex
X-PUBLISHED-TTL:PT1H
BEGIN:VTIMEZONE
TZID:UTC
BEGIN:STANDARD
TZOFFSETFROM:+0000
TZOFFSETTO:+0000
TZNAME:UTC
DTSTART:20200101T000000
END:STANDARD
END:VTIMEZONE
BEGIN:VEVENT
DTSTART;VALUE=DATE:20260212
DTEND;VALUE=DATE:20260214
DTSTAMP:20260423T232347
CREATED:20260105T205409Z
LAST-MODIFIED:20260105T205409Z
UID:6347-1770854400-1771027199@mentoringmondays.xyz
SUMMARY:2026 PSAN Winter Conference
DESCRIPTION:February 12-13\, 2026\nHoliday Inn & Convention Center\n110 2nd Ave\nKearney\, NE 68847
URL:https://mentoringmondays.xyz/event/2026-psan-winter-conference/
CATEGORIES:Nebraska
END:VEVENT
BEGIN:VEVENT
DTSTART;VALUE=DATE:20250213
DTEND;VALUE=DATE:20250215
DTSTAMP:20260423T232347
CREATED:20241119T153504Z
LAST-MODIFIED:20241119T153504Z
UID:6034-1739404800-1739577599@mentoringmondays.xyz
SUMMARY:2025 PSAN Winter Conference
DESCRIPTION:February 13-14\, 2025\nHoliday Inn & Convention Center\n110 2nd Ave\nKearney\, NE 68847
URL:https://mentoringmondays.xyz/event/2025-psan-winter-conference/
CATEGORIES:Nebraska
END:VEVENT
BEGIN:VEVENT
DTSTART;VALUE=DATE:20240719
DTEND;VALUE=DATE:20240720
DTSTAMP:20260423T232347
CREATED:20231024T194625Z
LAST-MODIFIED:20231024T194625Z
UID:5474-1721347200-1721433599@mentoringmondays.xyz
SUMMARY:PSAN - Summer Seminar 2024
DESCRIPTION:July 19\, 2024\nMahoney State Park\n28500 W Park Hwy\nAshland\, NE 68003
URL:https://mentoringmondays.xyz/event/psan-summer-seminar-2024/
CATEGORIES:Nebraska
END:VEVENT
BEGIN:VEVENT
DTSTART;VALUE=DATE:20240208
DTEND;VALUE=DATE:20240210
DTSTAMP:20260423T232347
CREATED:20230718T144830Z
LAST-MODIFIED:20230718T144830Z
UID:5153-1707350400-1707523199@mentoringmondays.xyz
SUMMARY:PSAN-Winter Conference 2024
DESCRIPTION:February 8-9\, 2024
URL:https://mentoringmondays.xyz/event/psan-winter-conference-2024/
CATEGORIES:Nebraska
END:VEVENT
BEGIN:VEVENT
DTSTART;VALUE=DATE:20230714
DTEND;VALUE=DATE:20230715
DTSTAMP:20260423T232347
CREATED:20230502T173853Z
LAST-MODIFIED:20230502T173853Z
UID:5028-1689292800-1689379199@mentoringmondays.xyz
SUMMARY:2023 PSAN Summer Seminar
DESCRIPTION:July 14\, 2023\nBanner County Museum\nHarrisburg\, NE
URL:https://mentoringmondays.xyz/event/2023-psan-summer-seminar-2/
CATEGORIES:Nebraska
END:VEVENT
BEGIN:VEVENT
DTSTART;VALUE=DATE:20230714
DTEND;VALUE=DATE:20230715
DTSTAMP:20260423T232347
CREATED:20230118T141938Z
LAST-MODIFIED:20230118T141938Z
UID:4320-1689292800-1689379199@mentoringmondays.xyz
SUMMARY:2023 PSAN Summer Seminar
DESCRIPTION:July 14\, 2023\nBanner County Museum\nHarrisburg\, NE
URL:https://mentoringmondays.xyz/event/2023-psan-summer-seminar/
CATEGORIES:Nebraska
END:VEVENT
BEGIN:VEVENT
DTSTART;VALUE=DATE:20230414
DTEND;VALUE=DATE:20230415
DTSTAMP:20260423T232347
CREATED:20230307T221757Z
LAST-MODIFIED:20230307T222500Z
UID:4812-1681430400-1681516799@mentoringmondays.xyz
SUMMARY:2023 ELEMENTARY SCHOOL COUNSELOR CONFERENCE
DESCRIPTION:Start Date: 4/14/2023 8:00 AM CDT\nEnd Date: 4/14/2023 3:15 PM CDT \nVenue Name: Lied Lodge and Conference Center \nLocation: \n2700 Sylvan Rd\nNebraska City\, NE  United States  68410\n\n\nContact: \nDoug Hauserman\nEmail: executivedirector@neschoolcounselor.org\nPhone: 000-000-0000
URL:https://mentoringmondays.xyz/event/2023-elementary-school-counselor-conference/
CATEGORIES:American School Counselor Association (ASCA),Nebraska
END:VEVENT
BEGIN:VEVENT
DTSTART;VALUE=DATE:20230209
DTEND;VALUE=DATE:20230211
DTSTAMP:20260423T232347
CREATED:20230419T151826Z
LAST-MODIFIED:20230419T151826Z
UID:4890-1675900800-1676073599@mentoringmondays.xyz
SUMMARY:PSAN 2023 Winter Conference
DESCRIPTION:February 9-10\, 2023\nHoliday Inn & Convention Center\nKearney\, Nebraska
URL:https://mentoringmondays.xyz/event/psan-2023-winter-conference/
CATEGORIES:All Events,Nebraska
END:VEVENT
BEGIN:VEVENT
DTSTART;VALUE=DATE:20230209
DTEND;VALUE=DATE:20230211
DTSTAMP:20260423T232347
CREATED:20230118T140750Z
LAST-MODIFIED:20230118T140750Z
UID:4318-1675900800-1676073599@mentoringmondays.xyz
SUMMARY:2023 PSAN Winter Conference
DESCRIPTION:February 9-10\, 2023\nHoliday Inn & Convention Center\nKearney\, NE
URL:https://mentoringmondays.xyz/event/2023-psan-winter-conference/
CATEGORIES:Nebraska
END:VEVENT
BEGIN:VEVENT
DTSTART;VALUE=DATE:20220722
DTEND;VALUE=DATE:20220723
DTSTAMP:20260423T232347
CREATED:20220324T165007Z
LAST-MODIFIED:20220324T165007Z
UID:3689-1658448000-1658534399@mentoringmondays.xyz
SUMMARY:PSAN: 2022 Summer seminar
DESCRIPTION:2022 Summer Seminar\nJuly 22\, 2022\nTable Creek Golf Course\nNebraska City\, Nebraska
URL:https://mentoringmondays.xyz/event/psan-2022-summer-seminar/
CATEGORIES:Nebraska
END:VEVENT
BEGIN:VEVENT
DTSTART;VALUE=DATE:20220203
DTEND;VALUE=DATE:20220205
DTSTAMP:20260423T232347
CREATED:20220110T192850Z
LAST-MODIFIED:20220110T195333Z
UID:3505-1643846400-1644019199@mentoringmondays.xyz
SUMMARY:PSAN: 2022 Winter Conference
DESCRIPTION:2022 Winter Conference \n*** NEW DATE ***\nFebruary 3-4\, 2022\nHoliday Inn & Conference Center\nKearney\, Nebraska
URL:https://mentoringmondays.xyz/event/psan-2022-winter-conference/
CATEGORIES:Nebraska
ATTACH;FMTTYPE=image/png:https://mentoringmondays.xyz/wp-content/uploads/2022/01/cropped-psanlogogreen3-1.png
END:VEVENT
BEGIN:VEVENT
DTSTART;VALUE=DATE:20210722
DTEND;VALUE=DATE:20210724
DTSTAMP:20260423T232347
CREATED:20210222T232717Z
LAST-MODIFIED:20210222T232717Z
UID:2618-1626912000-1627084799@mentoringmondays.xyz
SUMMARY:Nebraska: 2021 Summer Seminar
DESCRIPTION:2021 Summer Seminar\nJuly 22-23\, 2021\nHoliday Inn & Conference Center\nKearney\, Nebraska
URL:https://mentoringmondays.xyz/event/nebraska-2021-summer-seminar/
CATEGORIES:Nebraska
END:VEVENT
BEGIN:VEVENT
DTSTART;VALUE=DATE:20210212
DTEND;VALUE=DATE:20210213
DTSTAMP:20260423T232347
CREATED:20210222T232609Z
LAST-MODIFIED:20210222T232609Z
UID:2616-1613088000-1613174399@mentoringmondays.xyz
SUMMARY:Nebraska: 2021 General Assembly Meeting
DESCRIPTION:2021 General Assembly Meeting \nFebruary 12\, 2021\nVirtual Meeting\n10AM CT\nDetails will be sent to members
URL:https://mentoringmondays.xyz/event/nebraska-2021-general-assembly-meeting/
CATEGORIES:Nebraska
END:VEVENT
END:VCALENDAR