BEGIN:VCALENDAR
VERSION:2.0
PRODID:-//Mentoring Mondays - ECPv6.15.20//NONSGML v1.0//EN
CALSCALE:GREGORIAN
METHOD:PUBLISH
X-WR-CALNAME:Mentoring Mondays
X-ORIGINAL-URL:https://mentoringmondays.xyz
X-WR-CALDESC:Events for Mentoring Mondays
REFRESH-INTERVAL;VALUE=DURATION:PT1H
X-Robots-Tag:noindex
X-PUBLISHED-TTL:PT1H
BEGIN:VTIMEZONE
TZID:UTC
BEGIN:STANDARD
TZOFFSETFROM:+0000
TZOFFSETTO:+0000
TZNAME:UTC
DTSTART:20200101T000000
END:STANDARD
END:VTIMEZONE
BEGIN:VEVENT
DTSTART;VALUE=DATE:20241003
DTEND;VALUE=DATE:20241004
DTSTAMP:20260423T184851
CREATED:20231024T194437Z
LAST-MODIFIED:20231024T194437Z
UID:5472-1727913600-1727999999@mentoringmondays.xyz
SUMMARY:Missouri Society of Professional Surveyors Annual Convention 2024
DESCRIPTION:Oct 03\, 2024 \nMargaritaville Lake Resort\, Osage Beach\, MO
URL:https://mentoringmondays.xyz/event/missouri-society-of-professional-surveyors-annual-convention-2024/
CATEGORIES:Missouri
END:VEVENT
BEGIN:VEVENT
DTSTART;VALUE=DATE:20240313
DTEND;VALUE=DATE:20240314
DTSTAMP:20260423T184851
CREATED:20231221T212532Z
LAST-MODIFIED:20231221T212532Z
UID:5595-1710288000-1710374399@mentoringmondays.xyz
SUMMARY:Missouri Society of Professional Surveyors - Webinar
DESCRIPTION:Writing Boundary Descriptions\nRules\, Suggestions\, and Examples\na live webinar by\nDr. Richard L. Elgin\, PS\, PE\nRolla\, Missouri\nWednesday\, March 13\, 2024\n8:30 am – 12:30 pm (CST)\n(webinar login begins at 8:15 am)
URL:https://mentoringmondays.xyz/event/missouri-society-of-professional-surveyors-webinar/
CATEGORIES:Missouri
END:VEVENT
BEGIN:VEVENT
DTSTART;VALUE=DATE:20240302
DTEND;VALUE=DATE:20240304
DTSTAMP:20260423T184851
CREATED:20231221T221709Z
LAST-MODIFIED:20231221T221709Z
UID:5597-1709337600-1709510399@mentoringmondays.xyz
SUMMARY:Missouri Society of Professional Surveyors - Spring Workshop
DESCRIPTION:May 2-3\, 2024\nThe Lodge of Four Seasons\n315 Four Seasons Drive\nLake Ozark\, MO 65049
URL:https://mentoringmondays.xyz/event/missouri-society-of-professional-surveyors-spring-workshop/
CATEGORIES:Missouri
END:VEVENT
BEGIN:VEVENT
DTSTART;VALUE=DATE:20231105
DTEND;VALUE=DATE:20231108
DTSTAMP:20260423T184851
CREATED:20230123T220312Z
LAST-MODIFIED:20230123T220323Z
UID:4508-1699142400-1699401599@mentoringmondays.xyz
SUMMARY:2023 MSCA Fall Conference
DESCRIPTION:November 5-7\, 2023\nTan-Tar-A Conference Center
URL:https://mentoringmondays.xyz/event/2023-msca-fall-conference/
CATEGORIES:American School Counselor Association (ASCA),Missouri
END:VEVENT
BEGIN:VEVENT
DTSTART;VALUE=DATE:20230928
DTEND;VALUE=DATE:20230929
DTSTAMP:20260423T184851
CREATED:20230118T135940Z
LAST-MODIFIED:20230118T135940Z
UID:4316-1695859200-1695945599@mentoringmondays.xyz
SUMMARY:MSPS Annual Conference
DESCRIPTION:Sep 28\, 2023 \nOasis Conference Center\, Springfield\, MO
URL:https://mentoringmondays.xyz/event/msps-annual-conference/
CATEGORIES:Missouri
END:VEVENT
BEGIN:VEVENT
DTSTART;VALUE=DATE:20230612
DTEND;VALUE=DATE:20230615
DTSTAMP:20260423T184851
CREATED:20230120T164714Z
LAST-MODIFIED:20230120T164714Z
UID:4388-1686528000-1686787199@mentoringmondays.xyz
SUMMARY:ACTE’s Region III Leadership Conference
DESCRIPTION:June 12-14\, 2023\nDoubleTree by Hilton\nSpringfield\, Missouri
URL:https://mentoringmondays.xyz/event/actes-region-iii-leadership-conference/
CATEGORIES:Association for Career & Technical Education (ACTE),Missouri
END:VEVENT
BEGIN:VEVENT
DTSTART;VALUE=DATE:20230327
DTEND;VALUE=DATE:20230328
DTSTAMP:20260423T184851
CREATED:20230123T215752Z
LAST-MODIFIED:20230123T215752Z
UID:4506-1679875200-1679961599@mentoringmondays.xyz
SUMMARY:2023 MSCA Take Ten Conference
DESCRIPTION:Monday\, March 27\, 2023 | 9am – 3pm \nDrury Plaza Hotel East – 3100 Interstate 70 Dr SE\, Columbia\, MO
URL:https://mentoringmondays.xyz/event/2023-msca-take-ten-conference/
CATEGORIES:American School Counselor Association (ASCA),Missouri
END:VEVENT
BEGIN:VEVENT
DTSTART;VALUE=DATE:20221006
DTEND;VALUE=DATE:20221007
DTSTAMP:20260423T184851
CREATED:20210825T183740Z
LAST-MODIFIED:20210825T183740Z
UID:3199-1665014400-1665100799@mentoringmondays.xyz
SUMMARY:Missouri: 65th Annual Meeting and Convention
DESCRIPTION:65th Annual Meeting and Convention\nSheraton Westport Lakeside Chalet\, St. Louis\, MO \n 
URL:https://mentoringmondays.xyz/event/missouri-65th-annual-meeting-and-convention/
CATEGORIES:Missouri
END:VEVENT
BEGIN:VEVENT
DTSTART;VALUE=DATE:20220815
DTEND;VALUE=DATE:20220818
DTSTAMP:20260423T184851
CREATED:20220207T184138Z
LAST-MODIFIED:20220207T184138Z
UID:3605-1660521600-1660780799@mentoringmondays.xyz
SUMMARY:MSPS: Surveyor's Review Course
DESCRIPTION:The Surveyor’s Review Course is appropriate for those who will be taking any part of the surveying licensing exams\, or for those already licensed and wish to review surveying topics and receive PDUs. \nAugust 15-17\, 2022 \nBest Western Capital Inn \nJefferson City\, MO \n  \nThe course has been approved for continuing education credits from the Missouri Board for Architects\, Professional Engineers\, Professional Land Surveyors and Landscape Architects for 19.00 hours. Note: If you are currently licensed in Missouri\, all 6.5 PDUs on Wednesday are applicable for the 2.0 hour PDU requirement for license renewal per 20 CSR 2030-8.020 (Missouri Standards and Statutes). \n  \nFor more information please visit: https://files.constantcontact.com/66c1b441401/01a0a899-804b-40ba-9281-e2bec2fd6722.pdf
URL:https://mentoringmondays.xyz/event/msps-surveyors-review-course/
CATEGORIES:Missouri
END:VEVENT
BEGIN:VEVENT
DTSTART;VALUE=DATE:20220429
DTEND;VALUE=DATE:20220501
DTSTAMP:20260423T184851
CREATED:20220110T202749Z
LAST-MODIFIED:20220110T202749Z
UID:3534-1651190400-1651363199@mentoringmondays.xyz
SUMMARY:MSPS: Spring Workshop
DESCRIPTION:Spring Workshop\nApril 29-30\, 2022 \nLodge of Four Seasons \nLake Ozark\, MO
URL:https://mentoringmondays.xyz/event/msps-spring-workshop/
CATEGORIES:Missouri
END:VEVENT
BEGIN:VEVENT
DTSTART;VALUE=DATE:20211014
DTEND;VALUE=DATE:20211015
DTSTAMP:20260423T184851
CREATED:20210825T183627Z
LAST-MODIFIED:20210825T183627Z
UID:3197-1634169600-1634255999@mentoringmondays.xyz
SUMMARY:Missouri: 64th Annual Meeting and Convention
DESCRIPTION:64th Annual Meeting and Convention\nThe 64th Annual Meeting and Convention will be held at Margaritaville Resort (Tan-Tar-A)\, Osage Beach\, MO. \nLearn more about the Conference Here \nRegister to be an Exhibitor Here \nRegister for the Conference Here
URL:https://mentoringmondays.xyz/event/missouri-64th-annual-meeting-and-convention/
CATEGORIES:Missouri
END:VEVENT
BEGIN:VEVENT
DTSTART;VALUE=DATE:20210624
DTEND;VALUE=DATE:20210625
DTSTAMP:20260423T184851
CREATED:20210315T160253Z
LAST-MODIFIED:20210315T160253Z
UID:2725-1624492800-1624579199@mentoringmondays.xyz
SUMMARY:MSPS Lunch and Learn Series
DESCRIPTION:“That Darn Blank Quarter Corner” \nIn Missouri (and Arkansas) the quarter corner for closing sections in the northern row and western column of sections in a township were not set by the GLO. Over the years the placement (establishment) of that “blank” corner has been the subject of conflicting statutes\, conjecture\, confusion\, consternation\, conflation and confection! What does the current statute and best practices say about establishing the blank quarter corner? \nDr. Dick Elgin\, PS\, PE
URL:https://mentoringmondays.xyz/event/msps-lunch-and-learn-series-2/
CATEGORIES:Missouri
END:VEVENT
BEGIN:VEVENT
DTSTART;VALUE=DATE:20210520
DTEND;VALUE=DATE:20210521
DTSTAMP:20260423T184851
CREATED:20210315T160038Z
LAST-MODIFIED:20210315T160038Z
UID:2723-1621468800-1621555199@mentoringmondays.xyz
SUMMARY:MSPS Lunch and Learn Series
DESCRIPTION:“Missouri State Plane Coordinate System of 2022” \nMissouri will be receiving a new coordinate system in the near future. What will the new system look like? And\, how best to prepare for it. \nRon Heimbaugh\, Jess Moss
URL:https://mentoringmondays.xyz/event/msps-lunch-and-learn-series/
CATEGORIES:Missouri
END:VEVENT
BEGIN:VEVENT
DTSTART;VALUE=DATE:20210430
DTEND;VALUE=DATE:20210502
DTSTAMP:20260423T184851
CREATED:20210315T155926Z
LAST-MODIFIED:20210315T155926Z
UID:2721-1619740800-1619913599@mentoringmondays.xyz
SUMMARY:MSPS: Spring Workshop Registration
DESCRIPTION:Date And Location\n\n\n\n\n\nApril 30 – May 1\, 2021\nLODGE OF FOUR SEASONS\n315 Four Seasons Drive\nLake Ozark\, MO 65049 \n\n\n\n\n\nRegistration Information\n\n\n\n\n\nRegistration fee is $250 for MSPS Members and $400 for Non-Members. A special rate of $150 is available for non-licensed technicians (Associate Members of MSPS). Registration fee plus 2020 Associate Membership is $185. Deadline for meeting registration is April 16\, 2021. After this date\, a 10% processing fee will be added to registration fees. The fee includes instructional materials\, refreshment breaks\, lunch on both days\, cocktail reception and two breakfasts. To register\, complete the registration online or fill out the paper form and mail with payment to MSPS\, 722 E. Capitol Avenue\, Jefferson City\, MO 65101. \n\n\n\n\n\nLocation And Lodging\n\n\n\n\n\nThe Lodge of Four Seasons\, 315 Four Seasons Drive\, Lake Ozark is the location for the 2021 Spring Workshop. A block of rooms has been reserved at a rate of $128.00 for single or double occupancy. Deadline for hotel reservation is April 7\, 2021.\nMake your reservation by calling the Lodge of Four Seasons at 888-265-5500. \n\n\n\n\n\nGolf Tournament\n\n\n\n\n\nThe MSPS PAC Fundraiser Golf Tournament will be held on Thursday\, April 29\, 2021 at 1:00 pm at The Cove Golf Course and is $85 per person. Two mulligans per person are included and prizes are given for first\, second and third teams. Additionally there are prizes for long drive\, closest to the pin and longest putt! \n\n\n\n\n\nContinuing Education\n\n\n\n\n\nThis course has been approved for 15 PDUs (7.5 each day) with the Missouri Board for Architects\, Professional Engineers\, Professional Land Surveyors and Landscape Architects. \n\n\n\n\n\nCST EXAM\n\n\n\n\n\nMSPS will be sponsoring a CST exam on Saturday\, May 1st at the Spring Workshop. The exam will start at 8 am so participants will need to check into the exam room at 7:30 am. If you are interested in taking the exam\, go to the CST website at https://cstnsps.com/ and complete the application. Levels I\, II and III can take the exam. This will be a paper exam. If you have any questions\, please contact Norm Ellerbrock at norm@fourpointssurvey.com or 573-406-3002. \n\n\n\n\n\nCancellation Policy\n\n\n\n\n\nMSPS reserves the right to cancel the program and return all fees in the event of insufficient registration. A participant may cancel a registration up to two weeks before the course date and receive a refund less a $25 processing fee. NO REFUNDS AFTER April 16\, 2021. \n\n\n\n\n\n\n\n\n\n\n\nSee Agenda\n\n\n\n\n\nInterested in seeing what we have scheduled for the re-certification and tech training? Look here: https://bit.ly/2ONTAqX
URL:https://mentoringmondays.xyz/event/msps-spring-workshop-registration/
CATEGORIES:Missouri
END:VEVENT
BEGIN:VEVENT
DTSTART;VALUE=DATE:20210319
DTEND;VALUE=DATE:20210320
DTSTAMP:20260423T184851
CREATED:20210315T155656Z
LAST-MODIFIED:20210315T155656Z
UID:2719-1616112000-1616198399@mentoringmondays.xyz
SUMMARY:The USPLSS For Missouri And Arkansas
DESCRIPTION:Date And Time\n\n\n\n\n\nFriday\, March 19\, 2021\nVirtual Live Stream\n9 a.m. – Training Begins \n\n\n\n\n\nWebinar Information\n\n\n\n\n\nThis webinar is well suited for LSIT’s\, comity applicants for a Missouri or Arkansas PLS license\, or PLS’s who wish to earn PDU’s and expand their knowledge of the USPLSS as applied in the two states.\nThe seminar content will be web-streamed from a studio setting with a smartboard.\nThe schedule will be 9:00 am – 3:15 pm. There will be a break for lunch from 11:30 – 12:15 pm only. The webinar will have an interface for submitting questions to Dr. Elgin throughout the session. \n\n\n\n\n\nSystem Requirements\n\n\n\n\n\nTo participate virtually\, you will log in and register for the webinar using a link provided by MSPs; an “admission” link will then be sent to you. Connect using this link before the webinar. Your device must have a reliable Internet connection to ensure no disruptions. MSPs does not take responsibility for inadequate service or outages. We recommend having 20 Mbps internet speed; this is a safety factor. Actual demand from the system will only be around 5-7 Mbps. \n\n\n\n\n\nCourse Reference Manual\n\n\n\n\n\nHandouts will be emailed before the webinar. Still\, much of the lecture materials will be from Dr. Elgin’s books “The US Public Land Survey System for Missouri” and “The US Public Land Survey System for Arkansas.” You may wish to purchase one of these before the webinar. Both books are available here:  www.missourisurveyor.org. \n\n\n\n\n\nCancellation Policy For The Virtual Event\n\n\n\n\n\nIf there are not sufficient virtual registrations\, we will cancel and notify you on March 15\, 2021. The program\, in four modules\, will be available for purchase through the learning portal on the MSPS website at a later time. \n\n\n\n\n\nContinuing Education\n\n\n\n\n\nThe Missouri Board for Architects\, Professional Engineers\, Professional Land Surveyors\, and Professional Landscape Architects has reviewed and approved this course for 5.0 PDU’s (2.0 of which approved as Missouri Standards Education Credits). \n\n\nSee Agenda\n\n\n\n\n\nInterested in seeing what we have scheduled for the re-certification and tech training? Look here: https://bit.ly/37nMhN1
URL:https://mentoringmondays.xyz/event/the-usplss-for-missouri-and-arkansas/
CATEGORIES:Arkansas,Missouri
END:VEVENT
END:VCALENDAR