BEGIN:VCALENDAR
VERSION:2.0
PRODID:-//Mentoring Mondays - ECPv6.15.20//NONSGML v1.0//EN
CALSCALE:GREGORIAN
METHOD:PUBLISH
X-ORIGINAL-URL:https://mentoringmondays.xyz
X-WR-CALDESC:Events for Mentoring Mondays
REFRESH-INTERVAL;VALUE=DURATION:PT1H
X-Robots-Tag:noindex
X-PUBLISHED-TTL:PT1H
BEGIN:VTIMEZONE
TZID:UTC
BEGIN:STANDARD
TZOFFSETFROM:+0000
TZOFFSETTO:+0000
TZNAME:UTC
DTSTART:20200101T000000
END:STANDARD
END:VTIMEZONE
BEGIN:VEVENT
DTSTART;VALUE=DATE:20260205
DTEND;VALUE=DATE:20260207
DTSTAMP:20260423T232455
CREATED:20260105T203301Z
LAST-MODIFIED:20260105T203301Z
UID:6341-1770249600-1770422399@mentoringmondays.xyz
SUMMARY:2026 MAPS Annual Convention
DESCRIPTION:February 5-6\, 2026\, Cadence Bank Conference Center\, Tupelo\, MS
URL:https://mentoringmondays.xyz/event/2026-maps-annual-convention/
CATEGORIES:Mississippi
END:VEVENT
BEGIN:VEVENT
DTSTART;VALUE=DATE:20250717
DTEND;VALUE=DATE:20250719
DTSTAMP:20260423T232455
CREATED:20250325T195824Z
LAST-MODIFIED:20250325T195824Z
UID:6160-1752710400-1752883199@mentoringmondays.xyz
SUMMARY:MAPS 2025 Summer Seminar
DESCRIPTION:2025 Summer Seminar \nSummer seminar July 17 – 18\, 2025 \nGolden Nugget \, Biloxi \, MS
URL:https://mentoringmondays.xyz/event/maps-2025-summer-seminar/
CATEGORIES:Mississippi
END:VEVENT
BEGIN:VEVENT
DTSTART;VALUE=DATE:20250206
DTEND;VALUE=DATE:20250208
DTSTAMP:20260423T232455
CREATED:20241119T153212Z
LAST-MODIFIED:20241119T153212Z
UID:6031-1738800000-1738972799@mentoringmondays.xyz
SUMMARY:2025 Maps Annual Convention
DESCRIPTION:Please mention you are with the Mississippi Association of\nProfessional Surveyors or MAPS is used for special group rates.\nYou will need to make your reservation by January 29\,\n2025\nHampton Inn – $149.00\n601- 636-6100 or online Group code MSA\n3330 Clay Street\nVicksburg\, MS 3918o \nFebruary 6 – 7\, 2025\, Vicksburg Convention Center\, Vicksburg\, MS
URL:https://mentoringmondays.xyz/event/2025-maps-annual-convention/
CATEGORIES:Mississippi
END:VEVENT
BEGIN:VEVENT
DTSTART;VALUE=DATE:20240208
DTEND;VALUE=DATE:20240210
DTSTAMP:20260423T232455
CREATED:20230428T134307Z
LAST-MODIFIED:20230428T134307Z
UID:4981-1707350400-1707523199@mentoringmondays.xyz
SUMMARY:MAPS 2024 Annual Convention
DESCRIPTION:Annual Convention\, February 8 & 9\, 2024 with Wendy Lathrop as the Speaker. \nHotel Details\nPlease mention you are with: the Mississippi Association of\nProfessional Surveyors or MAP for special group rate.\nYou will need to make your reservation by January 20\,\n2024\nHampton Inn\n601- 636-6100\n3330 Clay Street\nVicksburg\, MS 39180
URL:https://mentoringmondays.xyz/event/maps-2024-annual-convention/
CATEGORIES:Mississippi
END:VEVENT
BEGIN:VEVENT
DTSTART;VALUE=DATE:20231202
DTEND;VALUE=DATE:20231203
DTSTAMP:20260423T232455
CREATED:20230718T141219Z
LAST-MODIFIED:20230718T141219Z
UID:5151-1701475200-1701561599@mentoringmondays.xyz
SUMMARY:MAPS-December Workshop
DESCRIPTION:2023 December Workshop\nSaturday\, December 2\, 2023\nOxford Convention Center\n102 Ed Perry Blvd\, Oxford\, MS 39232 \nFull Workshop: 8 am-6 pm 8 PDH $200\nWith Lunch 12-2 on your own \nMorning Session Only: 8 am- 12 4 PDH $ 150\nAfternoon Session Only: 2 pm-6 4 PDH $ 150 \n 
URL:https://mentoringmondays.xyz/event/maps-december-workshop-3/
CATEGORIES:Mississippi
END:VEVENT
BEGIN:VEVENT
DTSTART;VALUE=DATE:20231111
DTEND;VALUE=DATE:20231112
DTSTAMP:20260423T232455
CREATED:20230718T140740Z
LAST-MODIFIED:20230718T140740Z
UID:5149-1699660800-1699747199@mentoringmondays.xyz
SUMMARY:MAPS-November Workshop
DESCRIPTION:When: Saturday\, November 11 \n2 PDH $150 Workshop is from 9-11 am
URL:https://mentoringmondays.xyz/event/maps-november-workshop-3/
CATEGORIES:Mississippi
END:VEVENT
BEGIN:VEVENT
DTSTART;VALUE=DATE:20230720
DTEND;VALUE=DATE:20230722
DTSTAMP:20260423T232455
CREATED:20230118T135636Z
LAST-MODIFIED:20230118T135636Z
UID:4314-1689811200-1689983999@mentoringmondays.xyz
SUMMARY:MAPS 2023 Summer Seminar
DESCRIPTION:2023 Summer Seminar \nSummer seminar July 20 – 21\, 2023 \nGolden Nugget \, Biloxi \, MS
URL:https://mentoringmondays.xyz/event/maps-2023-summer-seminar/
CATEGORIES:Mississippi
END:VEVENT
BEGIN:VEVENT
DTSTART;VALUE=DATE:20230329
DTEND;VALUE=DATE:20230401
DTSTAMP:20260423T232455
CREATED:20230120T165644Z
LAST-MODIFIED:20230120T165644Z
UID:4390-1680048000-1680307199@mentoringmondays.xyz
SUMMARY:ACTE REGION IV CONFERENCE 2023
DESCRIPTION:March 29-31\, 2023\nBeau Rivage Resort and Casino\nBiloxi\, Mississippi
URL:https://mentoringmondays.xyz/event/acte-region-iv-conference-2023/
CATEGORIES:Association for Career & Technical Education (ACTE),Mississippi
END:VEVENT
BEGIN:VEVENT
DTSTART;VALUE=DATE:20230209
DTEND;VALUE=DATE:20230211
DTSTAMP:20260423T232455
CREATED:20230118T135512Z
LAST-MODIFIED:20230118T135512Z
UID:4312-1675900800-1676073599@mentoringmondays.xyz
SUMMARY:MAPS 2023 Annual Convention
DESCRIPTION:2023 Annual Convention \nMAPS 2023 Annual Convention\, February 9 & 10\, 2023 Vicksburg Convention Center Vicksburg\, MS
URL:https://mentoringmondays.xyz/event/maps-2023-annual-convention-2/
CATEGORIES:Mississippi
END:VEVENT
BEGIN:VEVENT
DTSTART;VALUE=DATE:20230209
DTEND;VALUE=DATE:20230220
DTSTAMP:20260423T232455
CREATED:20220815T180900Z
LAST-MODIFIED:20220815T180900Z
UID:3937-1675900800-1676851199@mentoringmondays.xyz
SUMMARY:MAPS: 2023 Annual Convention
DESCRIPTION:MAPS Annual 2023 – February 9-19\, 2023 Vicksburg Convention Center Vicksburg\, MS 
URL:https://mentoringmondays.xyz/event/maps-2023-annual-convention/
CATEGORIES:Mississippi
END:VEVENT
BEGIN:VEVENT
DTSTART;VALUE=DATE:20221203
DTEND;VALUE=DATE:20221204
DTSTAMP:20260423T232455
CREATED:20220815T180718Z
LAST-MODIFIED:20220815T180718Z
UID:3933-1670025600-1670111999@mentoringmondays.xyz
SUMMARY:MAPS: December Workshop
DESCRIPTION:Saturday\, December 3\, 2022 \nOxford Convention Center \n102 Ed Perry Blvd\, Oxford\, MS 39232 \n 
URL:https://mentoringmondays.xyz/event/maps-december-workshop-2/
CATEGORIES:Mississippi
END:VEVENT
BEGIN:VEVENT
DTSTART;VALUE=DATE:20221105
DTEND;VALUE=DATE:20221106
DTSTAMP:20260423T232455
CREATED:20220815T180810Z
LAST-MODIFIED:20220815T180810Z
UID:3935-1667606400-1667692799@mentoringmondays.xyz
SUMMARY:MAPS: November Workshop
DESCRIPTION:Mississippi Association of Professional Surveyors \n2022 Ethics and Standard Workshop \nNovember 5\, 2022 \nHilton Garden Inn \n118 Laurel Park Cove\, Flowood\, MS 39232
URL:https://mentoringmondays.xyz/event/maps-november-workshop-2/
CATEGORIES:Mississippi
END:VEVENT
BEGIN:VEVENT
DTSTART;VALUE=DATE:20220721
DTEND;VALUE=DATE:20220723
DTSTAMP:20260423T232455
CREATED:20220110T202456Z
LAST-MODIFIED:20220110T202456Z
UID:3530-1658361600-1658534399@mentoringmondays.xyz
SUMMARY:MAPS: 2022 Summer Seminar
DESCRIPTION:2022 Summer Seminar\nJuly 21& 22\, 2022 at the Golden Nugget . Move information to come.
URL:https://mentoringmondays.xyz/event/maps-2022-summer-seminar/
CATEGORIES:Mississippi
END:VEVENT
BEGIN:VEVENT
DTSTART;VALUE=DATE:20220210
DTEND;VALUE=DATE:20220211
DTSTAMP:20260423T232455
CREATED:20210825T183345Z
LAST-MODIFIED:20220110T202559Z
UID:3193-1644451200-1644537599@mentoringmondays.xyz
SUMMARY:MAPS: 2022 Annual Convention
DESCRIPTION:2022 Annual Convention \nGary Kent will be the Speaker \nFebruary  10-11\, 2022 \nVicksburg Convention Center\, Vicksburg \, MS \n2022-Convention-agenda\n2022-reg-form-fillable
URL:https://mentoringmondays.xyz/event/maps-2022-annual-convention/
CATEGORIES:Mississippi
END:VEVENT
BEGIN:VEVENT
DTSTART;VALUE=DATE:20211204
DTEND;VALUE=DATE:20211205
DTSTAMP:20260423T232455
CREATED:20210825T183453Z
LAST-MODIFIED:20210825T183453Z
UID:3195-1638576000-1638662399@mentoringmondays.xyz
SUMMARY:MAPS: December Workshop
DESCRIPTION:December Workshop\n\nDec workshop registration form \nDec. 2021 Workshop
URL:https://mentoringmondays.xyz/event/maps-december-workshop/
CATEGORIES:Mississippi
END:VEVENT
BEGIN:VEVENT
DTSTART;VALUE=DATE:20211106
DTEND;VALUE=DATE:20211107
DTSTAMP:20260423T232455
CREATED:20210825T183207Z
LAST-MODIFIED:20210825T183207Z
UID:3191-1636156800-1636243199@mentoringmondays.xyz
SUMMARY:MAPS: November Workshop
DESCRIPTION:2021 November Workshop \nhttp://mississippisurveyor.com/wp-content/uploads/2021/03/Nov-workshop-reg-2021.pdf
URL:https://mentoringmondays.xyz/event/maps-november-workshop/
CATEGORIES:Mississippi
END:VEVENT
BEGIN:VEVENT
DTSTART;VALUE=DATE:20210715
DTEND;VALUE=DATE:20210717
DTSTAMP:20260423T232455
CREATED:20210315T154614Z
LAST-MODIFIED:20210315T154614Z
UID:2717-1626307200-1626479999@mentoringmondays.xyz
SUMMARY:MAPS 2021 SUMMER SEMINAR
DESCRIPTION:More Details to come!
URL:https://mentoringmondays.xyz/event/maps-2021-summer-seminar/
CATEGORIES:Mississippi
END:VEVENT
END:VCALENDAR