BEGIN:VCALENDAR
VERSION:2.0
PRODID:-//Mentoring Mondays - ECPv6.15.20//NONSGML v1.0//EN
CALSCALE:GREGORIAN
METHOD:PUBLISH
X-WR-CALNAME:Mentoring Mondays
X-ORIGINAL-URL:https://mentoringmondays.xyz
X-WR-CALDESC:Events for Mentoring Mondays
REFRESH-INTERVAL;VALUE=DURATION:PT1H
X-Robots-Tag:noindex
X-PUBLISHED-TTL:PT1H
BEGIN:VTIMEZONE
TZID:UTC
BEGIN:STANDARD
TZOFFSETFROM:+0000
TZOFFSETTO:+0000
TZNAME:UTC
DTSTART:20200101T000000
END:STANDARD
END:VTIMEZONE
BEGIN:VEVENT
DTSTART;VALUE=DATE:20260218
DTEND;VALUE=DATE:20260221
DTSTAMP:20260423T184746
CREATED:20260105T203011Z
LAST-MODIFIED:20260105T203011Z
UID:6339-1771372800-1771631999@mentoringmondays.xyz
SUMMARY:2026 Minnesota Society of Professional Surveyors Annual Meeting
DESCRIPTION:2/18/2026 to 2/20/2026\n\n\nWhen:\nFebruary 18-20\, 2026\n8:00 AM\n\n\nWhere:\nMinneapolis Marriott Northwest\n7025 Northland Dr.\, N.\nBrooklyn Park\, Minnesota  55428\nUnited States\n\n\nContact:\nMSPS\ninfo@mnsurveyor.com\n(952) 479-4204
URL:https://mentoringmondays.xyz/event/2026-minnesota-society-of-professional-surveyors-annual-meeting/
CATEGORIES:Minnesota
END:VEVENT
BEGIN:VEVENT
DTSTART;VALUE=DATE:20250422
DTEND;VALUE=DATE:20250423
DTSTAMP:20260423T184746
CREATED:20250325T185121Z
LAST-MODIFIED:20250325T185121Z
UID:6153-1745280000-1745366399@mentoringmondays.xyz
SUMMARY:Minnesota Society of Professional Surveyors - 2025 Spring Seminar (Virtual)
DESCRIPTION:4/22/2025\n\n\nWhen:\nTuesday\, April 22\, 2025\n8:30AM-11:00AM & 1:00PM-3:00PM\n\n\nWhere:\nVirtual\nUnited States\n\n\nContact:\nMSPS\ninfo@mnsurveyor.com\n952-479-4204\n\n\n\n  \nThe primary focus of this presentation will be the changes in the statutes\, rules and regulations from the last two years. This will include the significant changes in Chapter A-E 7 of the Wisconsin Administrative Code on the Minimum Standards for Property Surveys in Wisconsin. There have also been changes in Chapter 236 involving subdivisions and Certified Survey Maps that will be covered. There have been some interesting changes in the rules and interpretation of the Ordinary High Water Mark with respect to Professional Surveyors and Property Surveys. As time allows\, we will discuss some of the basic differences between property survey work in Wisconsin and Minnesota\, including the use of Certified Survey Maps to create a new property description.
URL:https://mentoringmondays.xyz/event/minnesota-society-of-professional-surveyors-2025-spring-seminar-virtual/
CATEGORIES:Minnesota
END:VEVENT
BEGIN:VEVENT
DTSTART;VALUE=DATE:20250226
DTEND;VALUE=DATE:20250301
DTSTAMP:20260423T184746
CREATED:20241119T150410Z
LAST-MODIFIED:20241119T150410Z
UID:6029-1740528000-1740787199@mentoringmondays.xyz
SUMMARY:2025 MSPS Annual Meeting
DESCRIPTION: \n2/26/2025 to 2/28/2025\n\n\nWhen:\nFebruary 26-28\, 2025\n8:00 AM\n\n\nWhere:\nSanford Center Bemidji\n1111 Event Center Dr.\, N.E.\nBemidji\, Minnesota  56601\nUnited States\n\n\nContact:\nMSPS\ninfo@mnsurveyor.com\n(952)479-4204\n\n\n\n  \nMSPS is excited to welcome you to their Annual Meeting in Bemidji from February 26 – 28\, 2025. An exciting program is being planned to include a variety of topics that will help land surveyors in their day-to-day work\, and multiple special events. \nThe conference will also include exhibit tables with industry providers\, excellent networking opportunities\, PDHs\, CST Exam and the opportunity to support the MLS Foundation. \n 
URL:https://mentoringmondays.xyz/event/2025-msps-annual-meeting/
CATEGORIES:Minnesota
END:VEVENT
BEGIN:VEVENT
DTSTART;VALUE=DATE:20241203
DTEND;VALUE=DATE:20241206
DTSTAMP:20260423T184746
CREATED:20240729T170912Z
LAST-MODIFIED:20240729T170912Z
UID:5856-1733184000-1733443199@mentoringmondays.xyz
SUMMARY:MSPS - 2024 Winter Seminar
DESCRIPTION:When:\nDecember 3 & 5\, 2024\n\n\nWhere:\nOnline – Zoom\nUnited States\n\n\nPresenter:\nChuck Karayan\, LS\n\n\nContact:\nMSPS\ninfo@mnsurveyor.com\n952-479-4204\n\n\n\n  \nAgenda  (sessions will NOT be recorded)\nDecember 3 & 5 – Evidence\, Exhibits and Testimony – Boundaries and Beyond  (12:00pm- 4:00pm each day | 8 total PDH’s) \nPresenter: Chuck Karayan\, LS \nThis intermediate–to–advanced level seminar provides an overview of the Law of Evidence\, civil lawsuits\, trial processes\, and professional practices. Legal concepts and terminology are discussed within the context that they arise. The seminar can be thought of as having three parts: \n\nBasic concepts and the Rules of Evidence\nApplication of the concepts and rules within the context of our profession\, and\nForensic Surveying practice.\n\nThe course discusses and explores areas of professional practice that can help to increase productivity and reduce potential liability\, as well as improve service to the client. The goal is to provide practical tools to assist participants in being a more effective witness/surveyor. \nThis seminar is based on the Federal Rules of Evidence.
URL:https://mentoringmondays.xyz/event/msps-2024-winter-seminar/
CATEGORIES:Minnesota
END:VEVENT
BEGIN:VEVENT
DTSTART;VALUE=DATE:20240918
DTEND;VALUE=DATE:20240922
DTSTAMP:20260423T184746
CREATED:20240729T170159Z
LAST-MODIFIED:20240729T170159Z
UID:5854-1726617600-1726963199@mentoringmondays.xyz
SUMMARY:MSPS - Surveyors Historical Society Rendezvous 2024
DESCRIPTION:When:\nWednesday\, September 18\, 2024\n\n\nWhere:\nHotel Julien\n200 Main Street\nDubuque\, Iowa  52001\nUnited States
URL:https://mentoringmondays.xyz/event/msps-surveyors-historical-society-rendezvous-2024/
CATEGORIES:Minnesota
END:VEVENT
BEGIN:VEVENT
DTSTART;VALUE=DATE:20240725
DTEND;VALUE=DATE:20240727
DTSTAMP:20260423T184746
CREATED:20240227T213530Z
LAST-MODIFIED:20240227T213530Z
UID:5682-1721865600-1722038399@mentoringmondays.xyz
SUMMARY:2024 MNS Summer Meeting
DESCRIPTION:When:\nJuly 25-26\, 2024\n8:30 AM\n\n\nWhere:\nStay tuned for location details!\nFairmont\, Minnesota  56031\nUnited States\n\n\nContact:\nMSPS\ninfo@mnsurveyor.com\n952-479-4204
URL:https://mentoringmondays.xyz/event/2024-mns-summer-meeting/
CATEGORIES:Minnesota
END:VEVENT
BEGIN:VEVENT
DTSTART;VALUE=DATE:20240228
DTEND;VALUE=DATE:20240302
DTSTAMP:20260423T184746
CREATED:20231024T192419Z
LAST-MODIFIED:20231024T192419Z
UID:5470-1709078400-1709337599@mentoringmondays.xyz
SUMMARY:MNS - Annual Meeting 2024
DESCRIPTION:Save the Date \nFebruary 28 – March 1\, 2024 \nMayo Civic Center | Rochester\, MN \nMSPS is eager to reconnect and join together at the Annual Meeting in Rochester from February 28 – March 1\, 2024. An exciting program is being planned to include a variety of topics that will help land surveyors in their day-to-day work and multiple special events. The conference will also include an exhibit hall with top industry providers\, excellent networking opportunities\, PDH’s\, CST Exam\, and the opportunity to support the MLS Foundation.
URL:https://mentoringmondays.xyz/event/mns-annual-meeting-2024/
CATEGORIES:Minnesota
END:VEVENT
BEGIN:VEVENT
DTSTART;VALUE=DATE:20231205
DTEND;VALUE=DATE:20231208
DTSTAMP:20260423T184746
CREATED:20231024T191450Z
LAST-MODIFIED:20231024T191450Z
UID:5468-1701734400-1701993599@mentoringmondays.xyz
SUMMARY:MNS - 2023 Winter Seminar
DESCRIPTION:When:\nDecember 5 & 7\, 2023\n\n\nWhere:\nOnline – Zoom\nUnited States\n\n\nPresenter:\nTim Prindiville\, PRINDIVILLE LAW\, PA and Kit Welchlin\, MA\, CSP\, Welchlin Keynote Presentations\n\n\nContact:\nMSPS\ninfo@mnsurveyor.com\n952-479-4204\n\n\n\n  \n 
URL:https://mentoringmondays.xyz/event/mns-2023-winter-seminar/
CATEGORIES:Minnesota
END:VEVENT
BEGIN:VEVENT
DTSTART;VALUE=DATE:20231105
DTEND;VALUE=DATE:20231108
DTSTAMP:20260423T184746
CREATED:20230307T212849Z
LAST-MODIFIED:20230307T212849Z
UID:4810-1699142400-1699401599@mentoringmondays.xyz
SUMMARY:MSCA Conference 2023
DESCRIPTION:Minnesota School Counselor Association 2023 Conference will be held November 5 through 7 at the Mayo Clinic Health System Event Center in Mankato. \nApproximately 300 participants (Licensed Professional K-12 School Counselors\, Post-Secondary School Counselors\, Graduate Students\, Exhibitors from the educational systems\, as well as businesses from the private and public sectors) from the entire state of Minnesota will be in attendance. \nThe Minnesota School Counselors Association (MSCA) conference continues to train and educate Licensed School Counselors with the vision to advance their level of expertise as well as help them to collaboratively better serve\, support and educate students and families. The conference is held over multiple days and attendees will have the opportunity to select from over 40 different breakout sessions as well as be educated and inspired by illuminating keynote speakers.
URL:https://mentoringmondays.xyz/event/msca-conference-2023/
CATEGORIES:American School Counselor Association (ASCA),Minnesota
END:VEVENT
BEGIN:VEVENT
DTSTART;VALUE=DATE:20230606
DTEND;VALUE=DATE:20230607
DTSTAMP:20260423T184746
CREATED:20230428T133647Z
LAST-MODIFIED:20230428T133647Z
UID:4978-1686009600-1686095999@mentoringmondays.xyz
SUMMARY:MN 2023 Spring Seminar (Virtual)
DESCRIPTION:When:\nTuesday\, June 6\, 2023\n8:30 AM\n\n\nWhere:\nVirtual\nUnited States\n\n\nContact:\nMSPS\ninfo@mnsurveyor.com\n952-479-4204
URL:https://mentoringmondays.xyz/event/mn-2023-spring-seminar-virtual/
CATEGORIES:Minnesota
END:VEVENT
BEGIN:VEVENT
DTSTART;VALUE=DATE:20230207
DTEND;VALUE=DATE:20230208
DTSTAMP:20260423T184746
CREATED:20230118T135029Z
LAST-MODIFIED:20230118T135029Z
UID:4310-1675728000-1675814399@mentoringmondays.xyz
SUMMARY:MN Volunteer Fair
DESCRIPTION:  \n\nJoin us for a social event to explore volunteer opportunities with local professional organizations \n\n\n\n \n2/7/2023\n\n\nWhen:\nFebruary 7\, 2023\n4:30 PM\n\n\nWhere:\nWestwood Professional Services\n12701 Whitewater Drive #Suite 300\nMinnetonka\, Minnesota  55343\nUnited States\n\n\nContact:\ninfo@mnsurveyor.com
URL:https://mentoringmondays.xyz/event/mn-volunteer-fair/
CATEGORIES:Minnesota
END:VEVENT
BEGIN:VEVENT
DTSTART;VALUE=DATE:20220721
DTEND;VALUE=DATE:20220722
DTSTAMP:20260423T184746
CREATED:20220712T170942Z
LAST-MODIFIED:20220712T171256Z
UID:3841-1658361600-1658447999@mentoringmondays.xyz
SUMMARY:MSPS: Girl Scouts Power Girls Camp
DESCRIPTION:We\, the Surveyors of Minnesota\, have an exciting opportunity to introduce and promote our profession during the Girl Scouts “Power Girls” six-day summer camp! The Power Girls program gives girls a chance to practice trade and STEM skills like land surveying\, to learn from female mentors and see themselves in trade and STEM careers. The Girl Scouts are expecting approximately 90 girls (4th-10th graders) to attend Power Girls Week this July. \nDuring the Power Girls event\, each day is focused on learning about a specific trade or profession. The Girl Scouts have invited MSPS to host learning activities at the Power Girls camp on July 21st\, 2022 that focus on the land surveying profession. After the girls complete the activity\, they will receive a land survey patch to memorialize what they’ve learned. \nTo participate in this event\, MSPS will be an official sponsor of Power Girls and with that comes a sponsorship fee. MSPS and MLSF have each pledged $1\,000 towards the sponsorship fee. We still need to raise $5\,000! The ad hoc committee planning MSPS’ participation in the event is asking you to help sponsor this event. \nThe Girls Scouts are a non-profit organization\, as is MSPS\, and your sponsor donation may be tax deductible. In recognition of your sponsorship\, MSPS will recognize and thank sponsors based on the levels below. \nThe committee is also looking for 20 volunteers for the event. If you would like to participate in teaching land surveying to 90 girls\, please email Virginia Winberg (virginia.winberg@westwoodps.com).
URL:https://mentoringmondays.xyz/event/msps-girl-scouts-power-girls-camp/
CATEGORIES:Minnesota
ATTACH;FMTTYPE=image/png:https://mentoringmondays.xyz/wp-content/uploads/2022/07/power_girls_logo.png
END:VEVENT
BEGIN:VEVENT
DTSTART;VALUE=DATE:20220505
DTEND;VALUE=DATE:20220506
DTSTAMP:20260423T184746
CREATED:20220324T165136Z
LAST-MODIFIED:20220324T165153Z
UID:3691-1651708800-1651795199@mentoringmondays.xyz
SUMMARY:MSPS: 2022 Spring Seminar (Virtual)
DESCRIPTION:2022 Spring Seminar (Virtual) \nEthics Panel (2PDH) \n10:00 AM – 12:00 PM \nModerator \nDavid J. Meyers\, RINKE NOONAN \nPanelists \nBryan Balcome\, Widseth\nSam DeLeo\, Kramer Leas DeLeo\, P.C.\nRick Morey\, MN DOT – Retired \nCourse Outline \nWhile a decision may be technically correct\, it may be ethically questionable. This session will explore real life problems of good\, not so good\, bad\, right\, wrong\, fair\, unfair and select the best from a list of bad choices\, with other concepts Land Surveyors face daily. Ethical dilemmas will be presented\, and solutions to these dilemmas will be discussed. \n  \nTORRENS – A SURVEY PERSPECTIVE (1PDH) \n1:00 PM – 2:00 PM \nPresenters \nPaul Vogel\, LHB\, Inc.\nConnie Villari\, Cornerstone Land Surveying \nCourse Outline \nIs Torrens the best thing since sliced bread\, or is it more trouble than it’s worth? Join us for a discussion about the benefits and pitfalls of the Torrens process as it relates to surveying. Topics include examiners directive and proceedings subsequent. Case Studies and examples presented in a panel format. \n  \nEvolution of the MN PLSS Remonumentation Legislation (1PDH) \n2:00 PM – 3:00 PM \nPresenter \nPreston Dowell\, St. Louis County\, MN \nCourse Outline \nDetails will be posted soon!
URL:https://mentoringmondays.xyz/event/msps-2022-spring-seminar-virtual/
CATEGORIES:Minnesota
END:VEVENT
BEGIN:VEVENT
DTSTART;VALUE=DATE:20211014
DTEND;VALUE=DATE:20211017
DTSTAMP:20260423T184746
CREATED:20210825T161103Z
LAST-MODIFIED:20210825T161103Z
UID:3109-1634169600-1634428799@mentoringmondays.xyz
SUMMARY:Join us for the 64th Annual Meeting of MSPS "New Ways to Solve Old Problems"
DESCRIPTION:Join us for the 64th Annual Meeting of MSPS \n“New Ways to Solve Old Problems” \nMargaritaville Lake Resort \nOsage Beach\, MO \nOctober 14-16\, 2021 \nFollowing the link for more information and to get registered! \nAnnual Meeting Information
URL:https://mentoringmondays.xyz/event/join-us-for-the-64th-annual-meeting-of-msps-new-ways-to-solve-old-problems/
CATEGORIES:Minnesota
ATTACH;FMTTYPE=image/jpeg:https://mentoringmondays.xyz/wp-content/uploads/2021/08/MSPS.jpg
END:VEVENT
BEGIN:VEVENT
DTSTART;TZID=UTC:20210921T083000
DTEND;TZID=UTC:20210921T113000
DTSTAMP:20260423T184746
CREATED:20210825T175933Z
LAST-MODIFIED:20210825T175933Z
UID:3164-1632213000-1632223800@mentoringmondays.xyz
SUMMARY:MSPS: Managing Stress\, Time\, and Client Expectations
DESCRIPTION:Managing Stress\, Time\, and Client Expectations\nHave you ever said that you feel burned out; well\, maybe you are. When physical fatigue and psychological fatigue team up\, they can create burnout. If you become burned out\, it may take years to recover\, and you don’t have time for that. \nWhen you are under stress\, it is hard to keep track of everything. Priorities\, unreasonable deadlines\, and others mistakes become overwhelming.  Effective and efficient time management techniques become crucial. \nWhen you are busy and tired\, a true professional engages in dialogue to stay cool and collected when managing client expectations. \nTo enjoy good health and feel a sense of well-being\, you must balance professional productivity\, personal recreation\, and positive relationships. \nLearn: \n\nFifteen proven physical remedies to reduce stress\nFifteen proven psychological strategies to minimize stress\nTwenty time management tips to get more done in less time\nCommunication strategies for managing client expectations
URL:https://mentoringmondays.xyz/event/msps-managing-stress-time-and-client-expectations/
CATEGORIES:Minnesota
ATTACH;FMTTYPE=image/png:https://mentoringmondays.xyz/wp-content/uploads/2021/08/Missiouri.png
END:VEVENT
BEGIN:VEVENT
DTSTART;TZID=UTC:20210504T063000
DTEND;TZID=UTC:20210504T090000
DTSTAMP:20260423T184746
CREATED:20210224T174852Z
LAST-MODIFIED:20210224T174852Z
UID:2641-1620109800-1620118800@mentoringmondays.xyz
SUMMARY:Minnesota: 2021 Spring Seminar
DESCRIPTION:Wisconsin Administrative Code Updates \nTuesday\, May 4th @ 8:30AM – 11:00AM \nPresenter: Douglas R. Crane\, Professional Land Surveyor (MN&WI) \n  \nOverview \nThe primary focus of this presentation will be the changes in the statutes\, rules and regulations from the last two years. This will include the significant changes in Chapter A-E 7 of the Wisconsin Administrative Code on the Minimum Standards for Property Surveys in Wisconsin. There have also been changes in Chapter 236 involving subdivisions and Certified Survey Maps that will be covered. There have been some interesting changes in the rules and interpretation of the Ordinary High Water Mark with respect to Professional Surveyors and Property Surveys. As time allows\, we will discuss some of the basic differences between property survey work in Wisconsin and Minnesota\, including the use of Certified Survey Maps to create a new property description.
URL:https://mentoringmondays.xyz/event/minnesota-2021-spring-seminar/
CATEGORIES:Minnesota
END:VEVENT
BEGIN:VEVENT
DTSTART;VALUE=DATE:20210223
DTEND;VALUE=DATE:20210226
DTSTAMP:20260423T184746
CREATED:20220110T195555Z
LAST-MODIFIED:20220110T195555Z
UID:2634-1614038400-1614297599@mentoringmondays.xyz
SUMMARY:Minnesota: 2022 MSPS Annual Meeting
DESCRIPTION:69th MSPS Annual Meeting \n\n\n\n \n2/23/2022 to 2/25/2022\n\n\nWhen:\nFebruary 23-25\, 2022\n\n\nWhere:\nArrowwood Resort & Conference Center\n2100 Arrowwood Ln\nAlexandria\, Minnesota  56308\nUnited States\n\n\nContact:\ninfo@mnsurveyor.com\n(952) 479-4204
URL:https://mentoringmondays.xyz/event/minnesota-2022-msps-annual-meeting/
CATEGORIES:Minnesota
ATTACH;FMTTYPE=image/png:https://mentoringmondays.xyz/wp-content/uploads/2021/08/Missiouri.png
END:VEVENT
END:VCALENDAR