BEGIN:VCALENDAR
VERSION:2.0
PRODID:-//Mentoring Mondays - ECPv6.15.20//NONSGML v1.0//EN
CALSCALE:GREGORIAN
METHOD:PUBLISH
X-WR-CALNAME:Mentoring Mondays
X-ORIGINAL-URL:https://mentoringmondays.xyz
X-WR-CALDESC:Events for Mentoring Mondays
REFRESH-INTERVAL;VALUE=DURATION:PT1H
X-Robots-Tag:noindex
X-PUBLISHED-TTL:PT1H
BEGIN:VTIMEZONE
TZID:UTC
BEGIN:STANDARD
TZOFFSETFROM:+0000
TZOFFSETTO:+0000
TZNAME:UTC
DTSTART:20210101T000000
END:STANDARD
END:VTIMEZONE
BEGIN:VEVENT
DTSTART;VALUE=DATE:20260409
DTEND;VALUE=DATE:20260411
DTSTAMP:20260423T195213
CREATED:20260325T124528Z
LAST-MODIFIED:20260325T124528Z
UID:6451-1775692800-1775865599@mentoringmondays.xyz
SUMMARY:2026 Boundary Survey Essentials for Technicians Seminar
DESCRIPTION:Retracing property boundaries\, whether defined by metes and bounds or the Public Land Survey System (PLSS)\, requires more than technical skill. It demands a solid understanding of the priority of calls\, strong interpretation abilities\, and sound judgment in evaluating boundary evidence. \nLand survey technicians are responsible for locating and assessing evidence that meets project objectives\, which often raises important questions:\n• Where should I search for corners?\n• How much evidence is enough?\n• What do I do when few or no corners are found? \nThis seminar provides answers and proven strategies for successful boundary retracement. Participants will explore common legal description elements and learn techniques for recovering them in the field. Through instruction and hands-on practice\, we will:\n•  Plot boundaries using metes & bounds and PLSS descriptions\n•  Perform essential computations used in boundary retracement\n•  Develop clear\, defensible legal descriptions that reduce confusion\n•  Apply proven strategies for resolving boundary challenges \nAt least one-third of the seminar will be dedicated to interactive\, hands-on classroom activities. \nWith a stronger foundation in boundary survey principles\, attendees will leave with increased confidence\, improved field efficiency\, and the skills needed to earn the trust of coworkers and supervisors. \n\nView the informational flyer. \nSchedule:\nApril 9-10\, 2026 \n8:00 am – 4:00 pm daily \nRegistration is $300 per person and is limited to 20 attendees.
URL:https://mentoringmondays.xyz/event/2026-boundary-survey-essentials-for-technicians-seminar/
CATEGORIES:Michigan
END:VEVENT
BEGIN:VEVENT
DTSTART;VALUE=DATE:20260217
DTEND;VALUE=DATE:20260221
DTSTAMP:20260423T195213
CREATED:20260105T202538Z
LAST-MODIFIED:20260105T202538Z
UID:6337-1771286400-1771631999@mentoringmondays.xyz
SUMMARY:2026 MSPS Convention & Seminar
DESCRIPTION:2/17/2026 to 2/20/2026\n\n\nWhen:\nTuesday\, February 17 – Friday\, February 20\, 2026\n\n\nWhere:\nGrand Traverse Resort & Spa\n100 Grand Traverse Village Blvd\nAcme\, Michigan  49610\nUnited States\n\n\nContact:\nCentral Office\ncentraloffice@misps.org\n517-484-2413
URL:https://mentoringmondays.xyz/event/2026-msps-convention-seminar/
CATEGORIES:Michigan
END:VEVENT
BEGIN:VEVENT
DTSTART;VALUE=DATE:20250211
DTEND;VALUE=DATE:20250215
DTSTAMP:20260423T195213
CREATED:20241119T145536Z
LAST-MODIFIED:20241119T145627Z
UID:6027-1739232000-1739577599@mentoringmondays.xyz
SUMMARY:2025 MSPS Convention & Seminar
DESCRIPTION:When:\nTuesday\, February 11 – Friday\, February 14\, 2025\n\n\nWhere:\nAmway Grand Plaza Hotel\n187 Monroe Ave NW\nGrand Rapids\, Michigan  49503\nUnited States\n\n\nContact:\nCentral Office\ncentraloffice@misps.org\n517-484-2413\n\n\n\n  \nThe 2025 MSPS Convention brings together surveyors from around the state for educational opportunities\, networking\, and connecting with exhibitors that support the surveying industry.
URL:https://mentoringmondays.xyz/event/2025-msps-convention-seminar/
CATEGORIES:Michigan
END:VEVENT
BEGIN:VEVENT
DTSTART;VALUE=DATE:20240513
DTEND;VALUE=DATE:20240518
DTSTAMP:20260423T195213
CREATED:20240227T211348Z
LAST-MODIFIED:20240227T211348Z
UID:5680-1715558400-1715990399@mentoringmondays.xyz
SUMMARY:MSPS - 2024 SURVEYOR BOOT CAMP
DESCRIPTION:When:\nMay 13-17\, 2024\n\n\nWhere:\nHomewood Suites\n2201 Showtime Dr\nLansing\, Michigan  48906\nUnited States\n\n\nContact:\nCentral Office\nCentralOffice@misps.org\n517-484-2413
URL:https://mentoringmondays.xyz/event/msps-2024-surveyor-boot-camp/
CATEGORIES:Michigan
END:VEVENT
BEGIN:VEVENT
DTSTART;VALUE=DATE:20240503
DTEND;VALUE=DATE:20240504
DTSTAMP:20260423T195213
CREATED:20240327T213021Z
LAST-MODIFIED:20240327T213021Z
UID:5768-1714694400-1714780799@mentoringmondays.xyz
SUMMARY:MSPS - 2024 FERRIS STATE UNIVERSITY BURT & MULLETT GOLF OUTING
DESCRIPTION: \n5/3/2024\n\n\nWhen:\nFriday\, May 3rd 2024\n9:00 am\n\n\nWhere:\nKatke Golf Course\n1003 Perry Ave\nBig Rapidsd\, Michigan  49307\nUnited States\n\n\nContact:\nMason Powell\npowelm33@Ferris.edu\n\n\n\n  \n2024 Ferris State University Burt & Mullett Golf Outing\nFriday\, May 3rd 2024\, 9:00 am \nKatke Golf Course \nOuting Fee: $50 per player and $35 per student \nHole Sponsors: $100 \nLunch will be provided! \nView the Full Golf Outing Flyer Here
URL:https://mentoringmondays.xyz/event/msps-2024-ferris-state-university-burt-mullett-golf-outing/
CATEGORIES:Michigan
END:VEVENT
BEGIN:VEVENT
DTSTART;VALUE=DATE:20240425
DTEND;VALUE=DATE:20240427
DTSTAMP:20260423T195213
CREATED:20240327T212757Z
LAST-MODIFIED:20240327T212757Z
UID:5766-1714003200-1714175999@mentoringmondays.xyz
SUMMARY:MSPS - 2024 ACCURACY AND PRECISION FUNDAMENTALS IN LAND SURVEYING
DESCRIPTION: \n4/25/2024 to 4/26/2024\n\n\nWhen:\nApril 25 & 26\, 2024\n8:00 am – 3:30 pm\n\n\nWhere:\n2123 University Park Dr\, Ste 150\nOkemos\, Michigan  48864\nUnited States\n\n\nContact:\nCentral Office\ncentraloffice@misps.org\n517-484-2413\n\n\n\n  \nTraining Details: Error\, Accuracy and Precision are foundational theories to land surveying. They establish the basis of how we measure and analyze data. With the advanced technologies employed by today’s surveyors the understanding of these concepts is more important than ever. This two-day class is built to support survey technicians at all capacities and experience levels. Attendees will learn about the various types of errors and how they are inherent in what they do and how those errors impact the accuracy and precision of their work. These concepts will be taught through real world data analysis and calculations by working through:
URL:https://mentoringmondays.xyz/event/msps-2024-accuracy-and-precision-fundamentals-in-land-surveying-2/
CATEGORIES:Michigan
END:VEVENT
BEGIN:VEVENT
DTSTART;VALUE=DATE:20240213
DTEND;VALUE=DATE:20240217
DTSTAMP:20260423T195213
CREATED:20231024T181924Z
LAST-MODIFIED:20231024T181924Z
UID:5466-1707782400-1708127999@mentoringmondays.xyz
SUMMARY:MSPS - 2024 Annual Conference & Seminar
DESCRIPTION:MICHIGAN SOCIETY OF PROFESSIONAL SURVEYORS\n\n\n\n\n\nFEBRUARY 13-16\, 2024\n\n\n\n\n\nAMWAY GRAND PLAZA HOTEL\, GRAND RAPIDS\, MI
URL:https://mentoringmondays.xyz/event/msps-2024-annual-conference-seminar/
CATEGORIES:Michigan
END:VEVENT
BEGIN:VEVENT
DTSTART;VALUE=DATE:20230822
DTEND;VALUE=DATE:20230823
DTSTAMP:20260423T195213
CREATED:20230626T133439Z
LAST-MODIFIED:20230626T133439Z
UID:5112-1692662400-1692748799@mentoringmondays.xyz
SUMMARY:MSPS- YOUNG SURVEYORS NETWORK - DETROIT TIGERS GROUP NIGHT
DESCRIPTION:8/22/2023\n\n\nWhen:\nTuesday\, August 22\, 2023\n6:40 pm\n\n\nWhere:\nComerica Park\nDetroit\, Michigan\nUnited States\n\n\nContact:\nJordan Hankin\njhankin@hrcengr.com\n248-535-3413\n\n\n\n  \nJoin the Institute of Transportation Engineers – Michigan Section – Young Professionals Committee and Michigan Society of Professional Surveyors – Young Surveyors Network in discounted tickets to watch the Tigers play the Chicago Cubs on Tuesday\, August 22nd! \nTicket Cost: $30
URL:https://mentoringmondays.xyz/event/msps-young-surveyors-network-detroit-tigers-group-night/
CATEGORIES:Michigan
END:VEVENT
BEGIN:VEVENT
DTSTART;VALUE=DATE:20230817
DTEND;VALUE=DATE:20230818
DTSTAMP:20260423T195213
CREATED:20230626T133010Z
LAST-MODIFIED:20230626T133024Z
UID:5110-1692230400-1692316799@mentoringmondays.xyz
SUMMARY:MSPS- 2023 ANNUAL BILL SODERBERG OPEN
DESCRIPTION:When:\nThursday\, August 17\, 2023\n8:00 am\n\n\nWhere:\nWheatfield Valley Golf Club\nWilliamston\, Michigan\nUnited States\n\n\nContact:\nDenny Sauers\ndsauers@rowepsc.com\n616-265-2093\n\n\n\n  \nThursday\, August 17\, 2023\, Shotgun start at 9:00 am \nWheatfield Valley Golf Club\, Williamston\, MI \nOuting Fee: $100 per person & $380 per team of 4 \n 
URL:https://mentoringmondays.xyz/event/msps-2023-annual-bill-soderberg-open/
CATEGORIES:Michigan
END:VEVENT
BEGIN:VEVENT
DTSTART;VALUE=DATE:20230721
DTEND;VALUE=DATE:20230722
DTSTAMP:20260423T195213
CREATED:20230718T140131Z
LAST-MODIFIED:20230718T140224Z
UID:5147-1689897600-1689983999@mentoringmondays.xyz
SUMMARY:MSPS-Southeast Chapter Gold Outing
DESCRIPTION: \n7/21/2023\n\n\nWhen:\nFriday\, July 21\, 2023\n12:00 pm\n\n\nWhere:\nBruce Hills Golf Course\n6771 Taft Rd\nBruce Township\, Michigan  48065\nUnited States\n\n\nContact:\nDenny Sauers\, Jr.\ndsauers@rowepsc.com\n616-265-2093\n\n\n\n\n  \nSoutheast Chapter Golf Outing\nFriday\, July 21st\, 2023\, Shotgun start at 12:00 pm \nBruce Hills Golf Course \nOuting Fee: $75 per golfer
URL:https://mentoringmondays.xyz/event/msps-southeast-chapter-gold-outing/
CATEGORIES:Michigan
END:VEVENT
BEGIN:VEVENT
DTSTART;VALUE=DATE:20230615
DTEND;VALUE=DATE:20230616
DTSTAMP:20260423T195213
CREATED:20230428T132828Z
LAST-MODIFIED:20230428T132828Z
UID:4975-1686787200-1686873599@mentoringmondays.xyz
SUMMARY:MSPS MID-MICHIGAN CHAPTER GOLF OUTING
DESCRIPTION:When:\nThursday\, June 15\, 2023\n10:00 AM\n\n\nWhere:\nEagle Glen Golf Course\n1251 Clubhouse Drive\nFarwell\, Michigan  48622\nUnited States\n\n\nContact:\nRon Harris\nps41917@yahoo.com\n\n\n\n  \nOuting Fee: $75 per golfer
URL:https://mentoringmondays.xyz/event/msps-mid-michigan-chapter-golf-outing/
CATEGORIES:All Events,Michigan
END:VEVENT
BEGIN:VEVENT
DTSTART;VALUE=DATE:20230505
DTEND;VALUE=DATE:20230506
DTSTAMP:20260423T195213
CREATED:20230502T173107Z
LAST-MODIFIED:20230502T173107Z
UID:5025-1683244800-1683331199@mentoringmondays.xyz
SUMMARY:MSPS- 2023 FERRIS STATE UNIVERSITY BURT & MULLETT GOLF OUTING
DESCRIPTION:5/5/2023\n\n\nWhen:\nFriday\, May 5th\, 2023\n9:00 a.m.\n\n\nWhere:\nKatke Golf Course\nBig Rapids\, Michigan\nUnited States\n\n\nContact:\nMason Powell\npowelm33@ferris.edu\n\n\n\n\n  \n\nFerris State University Burt & Mullett Golf Outing\nFriday\, May 5th\, 2023 at 9:00 am \nKatke Golf Course \nOuting Fee: $50 per player and $35 per student \nHole Sponsors: $100
URL:https://mentoringmondays.xyz/event/msps-2023-ferris-state-university-burt-mullett-golf-outing/
CATEGORIES:Michigan
END:VEVENT
BEGIN:VEVENT
DTSTART;VALUE=DATE:20230428
DTEND;VALUE=DATE:20230429
DTSTAMP:20260423T195213
CREATED:20230307T210219Z
LAST-MODIFIED:20230307T211157Z
UID:4807-1682640000-1682726399@mentoringmondays.xyz
SUMMARY:2023 MSCA Virtual Spring Conference
DESCRIPTION:Contact: \nSarah Dickman\nEmail: msca1964@gmail.com\nPhone: (269) 330-8343 \n  \n2023 MSCA Virtual Conference\nApril 28 | 8:00 AM-4:30 PM
URL:https://mentoringmondays.xyz/event/2023-msca-virtual-spring-conference/
CATEGORIES:American School Counselor Association (ASCA),Michigan
END:VEVENT
BEGIN:VEVENT
DTSTART;VALUE=DATE:20230426
DTEND;VALUE=DATE:20230428
DTSTAMP:20260423T195213
CREATED:20230419T141514Z
LAST-MODIFIED:20230419T141514Z
UID:4884-1682467200-1682639999@mentoringmondays.xyz
SUMMARY:2023 MICHIGAN CONSTRUCTION CAREER DAYS (MICCD)
DESCRIPTION:When:\nApril 26-27\, 2023\n\n\nWhere:\n275 E Highland Rd\nHowell 48855\nUnited States\n\n\nContact:\ninfo@michiganccd.com\n\n\n\n\n 
URL:https://mentoringmondays.xyz/event/2023-michigan-construction-career-days-miccd/
CATEGORIES:All Events,Michigan
END:VEVENT
BEGIN:VEVENT
DTSTART;VALUE=DATE:20230221
DTEND;VALUE=DATE:20230225
DTSTAMP:20260423T195213
CREATED:20230117T221319Z
LAST-MODIFIED:20230118T134516Z
UID:4306-1676937600-1677283199@mentoringmondays.xyz
SUMMARY:MSPS CONVENTION & SEMINAR
DESCRIPTION:2/21/2023 to 2/24/2023\n\n\nWhen:\nTuesday\, February 21 – Friday\, February 24\, 2023\n\n\nWhere:\nGrand Traverse Resort & Spa Convention Hotel/ Overflow Hotel The Sleep Inn\n100 Grand Traverse Village Blvd\nAcme\, Michigan  49610\nUnited States\n\n\nContact:\nCentral Office\ncentraloffice@misps.org\n517-484-2413
URL:https://mentoringmondays.xyz/event/msps-convention-seminar-2/
CATEGORIES:Michigan
END:VEVENT
BEGIN:VEVENT
DTSTART;VALUE=DATE:20230129
DTEND;VALUE=DATE:20230201
DTSTAMP:20260423T195213
CREATED:20230120T180534Z
LAST-MODIFIED:20230120T180534Z
UID:4402-1674950400-1675209599@mentoringmondays.xyz
SUMMARY:ACTE Michigan Career Education Conference 2023
DESCRIPTION:January 29-31\, 2023\nGrand Rapids\, Michigan
URL:https://mentoringmondays.xyz/event/acte-michigan-career-education-conference-2023/
CATEGORIES:Association for Career & Technical Education (ACTE),Michigan
END:VEVENT
BEGIN:VEVENT
DTSTART;VALUE=DATE:20220215
DTEND;VALUE=DATE:20220219
DTSTAMP:20260423T195213
CREATED:20220110T204346Z
LAST-MODIFIED:20220110T204346Z
UID:3556-1644883200-1645228799@mentoringmondays.xyz
SUMMARY:MSPS CONVENTION & SEMINAR
DESCRIPTION:Join MSPS at Grand Traverse Resort for the 2022 Convention & Seminar! Visit https://mispsevents.org/ for full details. Registration Sponsored by Seiler Geospatial
URL:https://mentoringmondays.xyz/event/msps-convention-seminar/
CATEGORIES:Michigan
END:VEVENT
BEGIN:VEVENT
DTSTART;VALUE=DATE:20220215
DTEND;VALUE=DATE:20220219
DTSTAMP:20260423T195213
CREATED:20210825T190335Z
LAST-MODIFIED:20210825T190335Z
UID:3214-1644883200-1645228799@mentoringmondays.xyz
SUMMARY:2022 MSPS ANNUAL CONVENTION
DESCRIPTION:2/15/2022 to 2/18/2022\n\n\nWhen:\nTuesday\, February 15\, 2022\n\n\nWhere:\nGrand Traverse Resort\nTraverse City\nUnited States
URL:https://mentoringmondays.xyz/event/2022-msps-annual-convention/
CATEGORIES:Michigan
END:VEVENT
END:VCALENDAR