BEGIN:VCALENDAR
VERSION:2.0
PRODID:-//Mentoring Mondays - ECPv6.15.20//NONSGML v1.0//EN
CALSCALE:GREGORIAN
METHOD:PUBLISH
X-WR-CALNAME:Mentoring Mondays
X-ORIGINAL-URL:https://mentoringmondays.xyz
X-WR-CALDESC:Events for Mentoring Mondays
REFRESH-INTERVAL;VALUE=DURATION:PT1H
X-Robots-Tag:noindex
X-PUBLISHED-TTL:PT1H
BEGIN:VTIMEZONE
TZID:UTC
BEGIN:STANDARD
TZOFFSETFROM:+0000
TZOFFSETTO:+0000
TZNAME:UTC
DTSTART:20200101T000000
END:STANDARD
END:VTIMEZONE
BEGIN:VEVENT
DTSTART;VALUE=DATE:20260306
DTEND;VALUE=DATE:20260307
DTSTAMP:20260423T214158
CREATED:20260105T195609Z
LAST-MODIFIED:20260105T195609Z
UID:6329-1772755200-1772841599@mentoringmondays.xyz
SUMMARY:2026 MSS Spring Technical Conference
DESCRIPTION:The MSS Spring Technical Conference is a hybrid event held in two parts — virtual and in-person. \n\nThe in-person program on March 6 features 12 classes that allow licensed surveyors to earn 8 CPC credits on current professional development topics.  The webinar program includes 4 noontime sessions.  Participation in a full day of in-person classes and all 4 webinars qualify for 13 CPC credits \n\nMSS has compiled an outstanding lineup of quality sessions on professional services\, data\, methodologies\, technology\, and practice issues\, all designed to enhance the performance of surveying activities. \n​ \nIn-Person Sessions: Friday\, March 6\, 2026 ( Maritime Conference Center\, Linthicum Heights\, MD)
URL:https://mentoringmondays.xyz/event/2026-mss-spring-technical-conference/
CATEGORIES:Maryland
END:VEVENT
BEGIN:VEVENT
DTSTART;VALUE=DATE:20260110
DTEND;VALUE=DATE:20260112
DTSTAMP:20260423T214158
CREATED:20260105T195933Z
LAST-MODIFIED:20260105T195933Z
UID:6331-1768003200-1768175999@mentoringmondays.xyz
SUMMARY:Young Surveyors Golf Social
DESCRIPTION:1/10/2026\n\n\nWhen:\nSaturday\, January 10\, 2026\n7:00 PM\n\n\nWhere:\nWestminster Island Green\n1199 South Pleasant Valley Rd\nWestminster\, Maryland  21158\nUnited States\n\n\nContact:\nNick Alexander\nnalexander@wallacemontgomery.com\n410-828-3846
URL:https://mentoringmondays.xyz/event/young-surveyors-golf-social/
CATEGORIES:Maryland
END:VEVENT
BEGIN:VEVENT
DTSTART;VALUE=DATE:20250307
DTEND;VALUE=DATE:20250308
DTSTAMP:20260423T214158
CREATED:20250114T204913Z
LAST-MODIFIED:20250114T204913Z
UID:6090-1741305600-1741391999@mentoringmondays.xyz
SUMMARY:2025 Maryland Society of Surveyors Spring Technical Conference
DESCRIPTION:In-person Session on March 7th \nTime : 8 AM- 5 PM \nLocation: Maritime Conference Center\, Linthicum Heights\, MD
URL:https://mentoringmondays.xyz/event/2025-maryland-society-of-surveyors-spring-technical-conference/
CATEGORIES:Maryland
END:VEVENT
BEGIN:VEVENT
DTSTART;VALUE=DATE:20241016
DTEND;VALUE=DATE:20241020
DTSTAMP:20260423T214158
CREATED:20240729T141836Z
LAST-MODIFIED:20240729T141836Z
UID:5848-1729036800-1729382399@mentoringmondays.xyz
SUMMARY:MSS - 57th ANNUAL FALL CONFERENCE & EXHIBITION
DESCRIPTION:What\n\n\n57th Annual Fall Conference & Exhibition \n\n\nWhen\n\n\nOctober 16-19\, 2024 \n\n\nWhere\n\n\nAshore Resort & Beach Club \n10100 Coastal Highway \nOcean City\, Maryland  21842
URL:https://mentoringmondays.xyz/event/mss-57th-annual-fall-conference-exhibition/
CATEGORIES:Maryland
END:VEVENT
BEGIN:VEVENT
DTSTART;VALUE=DATE:20240607
DTEND;VALUE=DATE:20240608
DTSTAMP:20260423T214158
CREATED:20240415T165844Z
LAST-MODIFIED:20240415T165844Z
UID:5786-1717718400-1717804799@mentoringmondays.xyz
SUMMARY:MSS- CHESAPEAKE COLLEGE SEMINAR
DESCRIPTION:When:\nFriday\, June 7\, 2024\n8:00 AM\n\n\nWhere:\nChesapeake Community College\n1000 College Circle\nWye Mills\, Maryland  21679\nUnited States\n\n\nContact:\nKhea Sam\nKhea@marylandsurveyor.org\n800-303-6770
URL:https://mentoringmondays.xyz/event/mss-chesapeake-college-seminar/
CATEGORIES:Maryland
END:VEVENT
BEGIN:VEVENT
DTSTART;VALUE=DATE:20240503
DTEND;VALUE=DATE:20240504
DTSTAMP:20260423T214158
CREATED:20240415T165350Z
LAST-MODIFIED:20240415T165350Z
UID:5784-1714694400-1714780799@mentoringmondays.xyz
SUMMARY:MSS- MSS Potomac Chapter Golf Tournament
DESCRIPTION:5/3/2024\n\n\nWhen:\nFriday\, May 3\, 2024\n8:00 am\n\n\nWhere:\nEnterprise Golf Course\n2802 Enterprise Rd\nMitchellville\, Maryland  20721\nUnited States\n\n\nContact:\nBill Pugh\nbpugh@cpja.com
URL:https://mentoringmondays.xyz/event/mss-mss-potomac-chapter-golf-tournament/
CATEGORIES:Maryland
END:VEVENT
BEGIN:VEVENT
DTSTART;VALUE=DATE:20240301
DTEND;VALUE=DATE:20240302
DTSTAMP:20260423T214158
CREATED:20231221T201702Z
LAST-MODIFIED:20231221T201702Z
UID:5587-1709251200-1709337599@mentoringmondays.xyz
SUMMARY:2024 - MSS Spring Technical Conference
DESCRIPTION:When:\nFriday\, March 1\, 2024\n8:00 AM\n\n\nWhere:\nMaritime Conference Center\n692 Maritime Blvd\nLinthicum Heights\, Maryland  21090\nUnited States\n\n\nContact:\nKhea Sam\nKhea@marylandsurveyor.org\n800-303-6770
URL:https://mentoringmondays.xyz/event/2024-mss-spring-technical-conference/
CATEGORIES:Maryland
END:VEVENT
BEGIN:VEVENT
DTSTART;VALUE=DATE:20240301
DTEND;VALUE=DATE:20240302
DTSTAMP:20260423T214158
CREATED:20231024T170427Z
LAST-MODIFIED:20231024T170427Z
UID:5452-1709251200-1709337599@mentoringmondays.xyz
SUMMARY:MLS 2024 Spring Conference
DESCRIPTION:In Person – Friday\, March 1\, 2024\nMaritime Conference Center
URL:https://mentoringmondays.xyz/event/mls-2024-spring-conference/
CATEGORIES:Maryland
END:VEVENT
BEGIN:VEVENT
DTSTART;VALUE=DATE:20240220
DTEND;VALUE=DATE:20240221
DTSTAMP:20260423T214158
CREATED:20231221T200622Z
LAST-MODIFIED:20231221T200622Z
UID:5585-1708387200-1708473599@mentoringmondays.xyz
SUMMARY:MSS - 2024 Pac Event
DESCRIPTION:When:\nTuesday\, February 20\, 2024\n6:00 PM\n\n\nWhere:\nDutch’s Daughter\n581 Himes Ave\nFrederick\, Maryland  21703\nUnited States\n\n\nContact:\nKhea Sam\nKhea@marylandsurveyor.org\n800-303-6770
URL:https://mentoringmondays.xyz/event/mss-2024-pac-event/
CATEGORIES:Maryland
END:VEVENT
BEGIN:VEVENT
DTSTART;VALUE=DATE:20231018
DTEND;VALUE=DATE:20231022
DTSTAMP:20260423T214158
CREATED:20230117T212712Z
LAST-MODIFIED:20230117T214545Z
UID:4286-1697587200-1697932799@mentoringmondays.xyz
SUMMARY:MSS 2023 Fall Conference
DESCRIPTION:October 18-21\nPrincess Royale Oceanfront Hotel
URL:https://mentoringmondays.xyz/event/2023-fall-conference/
CATEGORIES:Maryland
END:VEVENT
BEGIN:VEVENT
DTSTART;VALUE=DATE:20230602
DTEND;VALUE=DATE:20230603
DTSTAMP:20260423T214158
CREATED:20230428T132149Z
LAST-MODIFIED:20230428T132149Z
UID:4971-1685664000-1685750399@mentoringmondays.xyz
SUMMARY:MSS SEMINAR AND CRAB FEAST
DESCRIPTION:When:\nFriday\, June 2\, 2023\n8:00 AM\n\n\nWhere:\nChesapeake College\n1000 College Circle\nWye Mills\, Maryland  21679\nUnited States\n\n\nContact:\nKhea Sam\nKhea@marylandsurveyor.org\n1-800-303-6770
URL:https://mentoringmondays.xyz/event/mss-seminar-and-crab-feast/
CATEGORIES:All Events,Maryland
END:VEVENT
BEGIN:VEVENT
DTSTART;VALUE=DATE:20230512
DTEND;VALUE=DATE:20230513
DTSTAMP:20260423T214158
CREATED:20230419T134637Z
LAST-MODIFIED:20230419T134637Z
UID:4881-1683849600-1683935999@mentoringmondays.xyz
SUMMARY:MSS Potomac Chapter Golf Tournament
DESCRIPTION:When:\nFriday\, May 12\n8:00 AM\n\n\nWhere:\nEnterprise Golf Course\n2802 Enterprise Rd\nMitchellville\, Maryland  20721\nUnited States\n\n\nContact:\nBill Pugh\nbpugh@cpja.com
URL:https://mentoringmondays.xyz/event/mss-potomac-chapter-golf-tournament/
CATEGORIES:All Events,Maryland
END:VEVENT
BEGIN:VEVENT
DTSTART;VALUE=DATE:20230319
DTEND;VALUE=DATE:20230321
DTSTAMP:20260423T214158
CREATED:20230123T213243Z
LAST-MODIFIED:20230123T213243Z
UID:4502-1679184000-1679356799@mentoringmondays.xyz
SUMMARY:MSCA Annual Conference
DESCRIPTION:March 19-20\, 2023 \nMore information to come as we come closer to the conference dates.
URL:https://mentoringmondays.xyz/event/msca-annual-conference/
CATEGORIES:American School Counselor Association (ASCA),Maryland
END:VEVENT
BEGIN:VEVENT
DTSTART;VALUE=DATE:20230302
DTEND;VALUE=DATE:20230304
DTSTAMP:20260423T214158
CREATED:20230117T212419Z
LAST-MODIFIED:20230117T213835Z
UID:4284-1677715200-1677887999@mentoringmondays.xyz
SUMMARY:MSS 2023 Spring Technical Conference
DESCRIPTION:February 27 – March 2 (virtual) –\nMarch 3 (in person) \nMaritime Conference Center
URL:https://mentoringmondays.xyz/event/2023-spring-technical-conference/
CATEGORIES:Maryland
END:VEVENT
BEGIN:VEVENT
DTSTART;VALUE=DATE:20221019
DTEND;VALUE=DATE:20221024
DTSTAMP:20260423T214158
CREATED:20220815T181835Z
LAST-MODIFIED:20220815T182224Z
UID:3946-1666137600-1666569599@mentoringmondays.xyz
SUMMARY:MSS: 55th Annual Fall Conferene
DESCRIPTION:https://www.marylandsurveyor.org/events/EventDetails.aspx?id=1597720
URL:https://mentoringmondays.xyz/event/mss-55th-annual-fall-conferene/
CATEGORIES:Maryland
END:VEVENT
BEGIN:VEVENT
DTSTART;TZID=UTC:20211013T080000
DTEND;TZID=UTC:20211016T170000
DTSTAMP:20260423T214158
CREATED:20210825T185635Z
LAST-MODIFIED:20210825T185635Z
UID:3208-1634112000-1634403600@mentoringmondays.xyz
SUMMARY:Maryland: 54th Annual Fall Conference & Exhibition
DESCRIPTION:54th Annual Fall Conference & Exhibition\nOctober 13 – 16\, 2021\nTurf Valley Resort\nEllicott City\, Maryland \nBook Hotel Room Today – CLICK HERE\nExhibitor Registration Open – CLICK HERE\nPurchase a Sponsorship – CLICK HERE
URL:https://mentoringmondays.xyz/event/maryland-54th-annual-fall-conference-exhibition/
CATEGORIES:Maryland
END:VEVENT
BEGIN:VEVENT
DTSTART;VALUE=DATE:20210412
DTEND;VALUE=DATE:20210413
DTSTAMP:20260423T214158
CREATED:20210226T003007Z
LAST-MODIFIED:20210226T003007Z
UID:2685-1618185600-1618271999@mentoringmondays.xyz
SUMMARY:Maryland: 2021 Spring Technical Conference (The NEW 2021 ALTA/NSPS Land Title Survey Standards)
DESCRIPTION:2021 Spring Technical Conference \nWebinar Schedule \n\nMonday\, April 12\, 8:00 AM to 12:00 PM\n\nTo Register – CLICK HERE \nSpeaker Bios \nClick Here To Purchase a 2021 Spring Technical Conference Webinar Sponsorship \nThe NEW 2021 ALTA/NSPS Land Title Survey Standards \nAfter 2 years of work on the part of the Joint ALTA/NSPS Committee and others\, the new 2021 ALTA/NSPS Land Title Survey Standards were adopted by ALTA and NSPS in October\, with an effective date of February 23\, 2021. This program will outline the many changes from the 2016 standards and provide an explanation of what each means to the surveyor. In addition\, an overview of the relationship between land title surveys and title insurance will be provided. Finally\, some common questions that arise in the process of performing a land title survey will be discussed.\n\nPresenter:  Gary R. Kent\, PS\,  Meridian Land Consulting\, LLC \n4 CPC/PDH Awarded\nThis webinar qualifies to meet the requirements of COMAR 09.13.08.03(B) for ethics\, law\, and standards of practice. \nRegistration: $120 MSS Member/$160 Non-Member
URL:https://mentoringmondays.xyz/event/maryland-2021-spring-technical-conference-the-new-2021-alta-nsps-land-title-survey-standards/
CATEGORIES:Maryland
END:VEVENT
BEGIN:VEVENT
DTSTART;VALUE=DATE:20210409
DTEND;VALUE=DATE:20210410
DTSTAMP:20260423T214158
CREATED:20210226T002733Z
LAST-MODIFIED:20210226T002733Z
UID:2683-1617926400-1618012799@mentoringmondays.xyz
SUMMARY:Maryland: 2021 Spring Technical Conference (Action to Quiet Title - What Is It and What Is The Surveyor's Role?)
DESCRIPTION:2021 Spring Technical Conference \nWebinar Schedule\n \nFriday\, April 9\, 8:00 AM to 11:00 AM \n  \nTo Register – CLICK HERE \nSpeaker Bios \n \nClick Here To Purchase a 2021 Spring Technical Conference Webinar Sponsorship \nAction to Quiet Title – What Is It and What Is The Surveyor’s Role? \nThis webinar will address the legal remedy of “quieting the title” to land when its true ownership is in doubt. Often attorneys\, title examiners\, and surveyors find that the title to and ownership of a parcel of land is unclear and confusing from an examination of the public records\, and the ownership is unclear or in dispute. This webinar will explore the judicial method and remedy for determining the true ownership of such land by reviewing Maryland’s statutory law on the subject illustrated by actual case studies and highlighting the surveyor’s important role in this process. \n  \nPresenter:  James J. Demma\, Esq.\, Miles & Stockbridge P.C. \n \n3 CPC/PDH Awarded\nThis webinar qualifies to meet the requirements of COMAR 09.13.08.03(B) for ethics\, law\, and standards of practice.\n\nRegistration: $90 MSS Member/$120 Non-Member
URL:https://mentoringmondays.xyz/event/maryland-2021-spring-technical-conference-action-to-quiet-title-what-is-it-and-what-is-the-surveyors-role/
CATEGORIES:Maryland
END:VEVENT
BEGIN:VEVENT
DTSTART;VALUE=DATE:20210408
DTEND;VALUE=DATE:20210409
DTSTAMP:20260423T214158
CREATED:20210226T002526Z
LAST-MODIFIED:20210226T002552Z
UID:2680-1617840000-1617926399@mentoringmondays.xyz
SUMMARY:Maryland: 2021 Spring Technical Conference (Leveraging Out of the Box Artificial Intelligence and Machine Learning)
DESCRIPTION:2021 Spring Technical Conference \nWebinar Schedule \nThursday\, April 8\, 12:00 PM to 1:00 PM \n\nTo Register – CLICK HERE \nSpeaker Bios \n  \nClick Here To Purchase a 2021 Spring Technical Conference Webinar Sponsorship \nLeveraging Out of the Box Artificial Intelligence and Machine Learning \nArtificial intelligence (AI) is often used as a buzzword and is seen as some futuristic technology that is not available outside big tech firms.  This is no longer true.  Clusters of computing power can be purchased for less than a thousand dollars.  Algorithms that were once proprietary are available for free or relatively little expense.  Anything from computer vision to natural language processing can be added to production workflows by simply dragging and dropping the module into the workflow process.  If you are about to invest in a time-consuming project task that will require significant manual review\, consider if AI or machine learning could be an alternative that will reduce your costs. \nPresenter: Russell Repass\, AECOM\n1 CPC/PDH Awarded\nRegistration: $30 MSS Member/$40 Non-Member \n 
URL:https://mentoringmondays.xyz/event/maryland-2021-spring-technical-conference-leveraging-out-of-the-box-artificial-intelligence-and-machine-learning/
CATEGORIES:Maryland
END:VEVENT
END:VCALENDAR