BEGIN:VCALENDAR
VERSION:2.0
PRODID:-//Mentoring Mondays - ECPv6.15.20//NONSGML v1.0//EN
CALSCALE:GREGORIAN
METHOD:PUBLISH
X-ORIGINAL-URL:https://mentoringmondays.xyz
X-WR-CALDESC:Events for Mentoring Mondays
REFRESH-INTERVAL;VALUE=DURATION:PT1H
X-Robots-Tag:noindex
X-PUBLISHED-TTL:PT1H
BEGIN:VTIMEZONE
TZID:UTC
BEGIN:STANDARD
TZOFFSETFROM:+0000
TZOFFSETTO:+0000
TZNAME:UTC
DTSTART:20240101T000000
END:STANDARD
END:VTIMEZONE
BEGIN:VEVENT
DTSTART;VALUE=DATE:20250130
DTEND;VALUE=DATE:20250201
DTSTAMP:20260425T013040
CREATED:20241114T222730Z
LAST-MODIFIED:20241114T222730Z
UID:6013-1738195200-1738367999@mentoringmondays.xyz
SUMMARY:2025 MSLS Annual Conference
DESCRIPTION:Thursday\, January 30\, 2025 to Friday\, January 31\, 2025\nCategory: Events
URL:https://mentoringmondays.xyz/event/2025-msls-annual-conference/
CATEGORIES:Maine
END:VEVENT
END:VCALENDAR