BEGIN:VCALENDAR
VERSION:2.0
PRODID:-//Mentoring Mondays - ECPv6.15.20//NONSGML v1.0//EN
CALSCALE:GREGORIAN
METHOD:PUBLISH
X-ORIGINAL-URL:https://mentoringmondays.xyz
X-WR-CALDESC:Events for Mentoring Mondays
REFRESH-INTERVAL;VALUE=DURATION:PT1H
X-Robots-Tag:noindex
X-PUBLISHED-TTL:PT1H
BEGIN:VTIMEZONE
TZID:UTC
BEGIN:STANDARD
TZOFFSETFROM:+0000
TZOFFSETTO:+0000
TZNAME:UTC
DTSTART:20200101T000000
END:STANDARD
END:VTIMEZONE
BEGIN:VEVENT
DTSTART;VALUE=DATE:20260415
DTEND;VALUE=DATE:20260418
DTSTAMP:20260423T200004
CREATED:20260105T195226Z
LAST-MODIFIED:20260105T195226Z
UID:6325-1776211200-1776470399@mentoringmondays.xyz
SUMMARY:LSPS 65th Annual Convention
DESCRIPTION:April 15th – April 17th\, 2026 \nGolden Nugget Lake Charles
URL:https://mentoringmondays.xyz/event/lsps-65th-annual-convention/
CATEGORIES:Louisiana
END:VEVENT
BEGIN:VEVENT
DTSTART;VALUE=DATE:20250409
DTEND;VALUE=DATE:20250412
DTSTAMP:20260423T200004
CREATED:20241119T143444Z
LAST-MODIFIED:20241119T143444Z
UID:6023-1744156800-1744415999@mentoringmondays.xyz
SUMMARY:LSPS 64th Annual Convention
DESCRIPTION:When: April 9th-11th\, 2025 \nLocation: Golden Nugget Lake Charles \nOnline registration begins February 2025
URL:https://mentoringmondays.xyz/event/lsps-64th-annual-convention/
CATEGORIES:Louisiana
END:VEVENT
BEGIN:VEVENT
DTSTART;VALUE=DATE:20240410
DTEND;VALUE=DATE:20240413
DTSTAMP:20260423T200004
CREATED:20231024T164858Z
LAST-MODIFIED:20231024T164858Z
UID:5450-1712707200-1712966399@mentoringmondays.xyz
SUMMARY:LSPS 63rd Annual Convention
DESCRIPTION:Save the date \nApril 10-12\, 2024 \nGolden Nugget Lake Charles
URL:https://mentoringmondays.xyz/event/lsps-63rd-annual-convention/
CATEGORIES:Louisiana
END:VEVENT
BEGIN:VEVENT
DTSTART;VALUE=DATE:20231008
DTEND;VALUE=DATE:20231011
DTSTAMP:20260423T200004
CREATED:20230307T161907Z
LAST-MODIFIED:20230307T161907Z
UID:4804-1696723200-1696982399@mentoringmondays.xyz
SUMMARY:2023 LCA Annual Conference
DESCRIPTION:JOIN YOUR FELLOW LOUISIANA COUNSELORS AT OUR EXCITING  ANNUAL CONFERENCE\nPre-Conference Workshops will be held virtually on September 23\, 2023 \nRegistration will also be on the Community Bulletin Board.
URL:https://mentoringmondays.xyz/event/2023-lca-annual-conference/
CATEGORIES:American School Counselor Association (ASCA),Louisiana
END:VEVENT
BEGIN:VEVENT
DTSTART;VALUE=DATE:20230419
DTEND;VALUE=DATE:20230422
DTSTAMP:20260423T200004
CREATED:20230306T171650Z
LAST-MODIFIED:20230306T171650Z
UID:4772-1681862400-1682121599@mentoringmondays.xyz
SUMMARY:LSPS 2023 CONVENTION
DESCRIPTION:Registration is now open for the 62nd Annual LSPS Convention on Wednesday\, April 19\, 2023 – Friday\, April 21\, 2023\, at the Golden Nugget Casino & Resort in Lake Charles\, LA.  We have six speakers offering seminars this year and attendees can earn up to a total of 13 PDHs.
URL:https://mentoringmondays.xyz/event/lsps-2023-convention/
CATEGORIES:Louisiana
END:VEVENT
BEGIN:VEVENT
DTSTART;VALUE=DATE:20220406
DTEND;VALUE=DATE:20220409
DTSTAMP:20260423T200004
CREATED:20220324T170703Z
LAST-MODIFIED:20220324T170804Z
UID:3704-1649203200-1649462399@mentoringmondays.xyz
SUMMARY:LSPS 2022 CONVENTION
DESCRIPTION:Registration is now open for the 61st Annual LSPS Convention on Wednesday\, April 6\, 2022 – Friday\, April 8\, 2022\, at the Golden Nugget Casino & Resort in Lake Charles\, LA.  We have nine speakers offering seminars this year and attendees can earn up to a total of 13 PDHs. \nYou may register online HERE.  \nYou can go directly to the HOTEL to book your rooms HERE \nYou can call the hotel directly at 1-800-642-7777 and use the group code: LSD06A \nPlease let us know if you have any questions by contacting the LSPS office at lsps@lsps.net \nHope to see you there!
URL:https://mentoringmondays.xyz/event/lsps-2022-convention/
CATEGORIES:Louisiana
END:VEVENT
BEGIN:VEVENT
DTSTART;VALUE=DATE:20210414
DTEND;VALUE=DATE:20210417
DTSTAMP:20260423T200004
CREATED:20210226T001854Z
LAST-MODIFIED:20210226T001915Z
UID:2677-1618358400-1618617599@mentoringmondays.xyz
SUMMARY:Louisiana: LSPS 2021 Convention
DESCRIPTION:LSPS 2021 Convention\nApril 14-16\, 2021\nMargaritaville Resort Casino\nBossier\, Louisiana \nLive\, in-person\, with limited attendance.\nOnline virtual options are available following the convention. \nREGISTRATION WILL BE ONLINE ONLY \nRegistration will be March 8th-April 9th\n2 choices: “IN-PERSON” or “VIRTUAL” \nRegistration will reopen after the live convention\nfor individual classes only\, with a price increase.\nCheck back here for price information
URL:https://mentoringmondays.xyz/event/louisiana-lsps-2021-convention/
CATEGORIES:Louisiana
END:VEVENT
END:VCALENDAR