BEGIN:VCALENDAR
VERSION:2.0
PRODID:-//Mentoring Mondays - ECPv6.15.20//NONSGML v1.0//EN
CALSCALE:GREGORIAN
METHOD:PUBLISH
X-ORIGINAL-URL:https://mentoringmondays.xyz
X-WR-CALDESC:Events for Mentoring Mondays
REFRESH-INTERVAL;VALUE=DURATION:PT1H
X-Robots-Tag:noindex
X-PUBLISHED-TTL:PT1H
BEGIN:VTIMEZONE
TZID:UTC
BEGIN:STANDARD
TZOFFSETFROM:+0000
TZOFFSETTO:+0000
TZNAME:UTC
DTSTART:20250101T000000
END:STANDARD
END:VTIMEZONE
BEGIN:VEVENT
DTSTART;VALUE=DATE:20260415
DTEND;VALUE=DATE:20260418
DTSTAMP:20260423T213515
CREATED:20260105T195226Z
LAST-MODIFIED:20260105T195226Z
UID:6325-1776211200-1776470399@mentoringmondays.xyz
SUMMARY:LSPS 65th Annual Convention
DESCRIPTION:April 15th – April 17th\, 2026 \nGolden Nugget Lake Charles
URL:https://mentoringmondays.xyz/event/lsps-65th-annual-convention/
CATEGORIES:Louisiana
END:VEVENT
END:VCALENDAR