BEGIN:VCALENDAR
VERSION:2.0
PRODID:-//Mentoring Mondays - ECPv6.15.20//NONSGML v1.0//EN
CALSCALE:GREGORIAN
METHOD:PUBLISH
X-ORIGINAL-URL:https://mentoringmondays.xyz
X-WR-CALDESC:Events for Mentoring Mondays
REFRESH-INTERVAL;VALUE=DURATION:PT1H
X-Robots-Tag:noindex
X-PUBLISHED-TTL:PT1H
BEGIN:VTIMEZONE
TZID:UTC
BEGIN:STANDARD
TZOFFSETFROM:+0000
TZOFFSETTO:+0000
TZNAME:UTC
DTSTART:20200101T000000
END:STANDARD
END:VTIMEZONE
BEGIN:VEVENT
DTSTART;VALUE=DATE:20250918
DTEND;VALUE=DATE:20250920
DTSTAMP:20260423T184226
CREATED:20241114T204944Z
LAST-MODIFIED:20241114T204944Z
UID:6011-1758153600-1758326399@mentoringmondays.xyz
SUMMARY:2025 KAPS Conference
DESCRIPTION:Start\n09/18/2025\n\nEnd\n09/19/2025\n\nLocation\nHoliday Inn University Plaza\, 1021 Wilkinson Trace\, Bowling Green\, KY 42103
URL:https://mentoringmondays.xyz/event/2025-kaps-conference/
CATEGORIES:Kentucky
END:VEVENT
BEGIN:VEVENT
DTSTART;VALUE=DATE:20250613
DTEND;VALUE=DATE:20250614
DTSTAMP:20260423T184226
CREATED:20250114T174212Z
LAST-MODIFIED:20250114T174212Z
UID:6087-1749772800-1749859199@mentoringmondays.xyz
SUMMARY:KAPS - 2025 Annual Golf Scramble & Family Picnic
DESCRIPTION:Join us for our annual Golf Scramble & Family Picnic \nbenefitting the KAPS Scholarship Fund! \n$75 per player (no refunds)\nIncludes: 18 hole-green fees\, cart\, & lunch\nRegister as four-person team or individually \nBecome a sponsor!\n$100 Hole Sponsor – hole sign\n$200 Hole Contest Sponsor – sponsor sign near contest\n$250 Major Sponsor – sponsor sign; half page ad in The Interior Angle\n$350 Bronze Sponsor – sponsor sign; 4-person team\n$500 Silver Sponsor – sponsor sign; 4-person team; hole contest sponsor\n$1\,000 Gold Sponsor – sponsor sign; (2) 4 person teams; hole contest sponsor; listing as major sponsor \nRegistration deadline: June 7
URL:https://mentoringmondays.xyz/event/kaps-2025-annual-golf-scramble-family-picnic/
CATEGORIES:Kentucky
END:VEVENT
BEGIN:VEVENT
DTSTART;VALUE=DATE:20250405
DTEND;VALUE=DATE:20250406
DTSTAMP:20260423T184226
CREATED:20250325T171216Z
LAST-MODIFIED:20250325T171216Z
UID:6151-1743811200-1743897599@mentoringmondays.xyz
SUMMARY:Spring Seminar Hosted by Northern Kentucky Chapter
DESCRIPTION:When\n04/05/2025\n\n\n\n8:00 AM – 5:00 PM (EDT)\n\n\nLocation\nRiegler Blacktop Training Room\, 165 Weaver Road\, Florence\, KY 41042\n\n\nThe Northern Kentucky Chapter of KAPS will be hosting an in-person spring seminar led by Chris Gephart\, PLS\, Derek Roche\, and Tom Buschelman on April 5\, 2025 at Riegler Blacktop’s Training Room in Florence\, KY.  All times are Eastern.
URL:https://mentoringmondays.xyz/event/spring-seminar-hosted-by-northern-kentucky-chapter/
CATEGORIES:Kentucky
END:VEVENT
BEGIN:VEVENT
DTSTART;VALUE=DATE:20241207
DTEND;VALUE=DATE:20241208
DTSTAMP:20260423T184226
CREATED:20241119T142954Z
LAST-MODIFIED:20241119T142954Z
UID:6021-1733529600-1733615999@mentoringmondays.xyz
SUMMARY:KAPS Fall Seminar Hosted by Jackson Purchase Chapter
DESCRIPTION:When12/07/2024 \nTime: 8:00 AM – 5:00 PM (CST) \nLocationKentucky Dam Village Inn\, 166 Upper Village Dr\, Gilbertsville\, KY 42044 \n\nThe Jackson Purchase Chapter of KAPS will be hosting an in-person fall seminar taught by Stephen Chino\, Jr\, PLS (Bio)\, and Jon Payne\, PLS (Bio) on December 7th\, 2024 at the Kentucky Dam Village Inn. 
URL:https://mentoringmondays.xyz/event/kaps-fall-seminar-hosted-by-jackson-purchase-chapter/
CATEGORIES:Kentucky
END:VEVENT
BEGIN:VEVENT
DTSTART;VALUE=DATE:20240925
DTEND;VALUE=DATE:20240929
DTSTAMP:20260423T184226
CREATED:20230626T132342Z
LAST-MODIFIED:20230626T132342Z
UID:5108-1727222400-1727567999@mentoringmondays.xyz
SUMMARY:2024 KAPS Annual Conference
DESCRIPTION:Start\n09/25/2024\n\nEnd\n09/28/2024\n\nLocation\nMarriott Louisville East\, 1903 Embassy Square Blvd\, Louisville\, KY 40299
URL:https://mentoringmondays.xyz/event/2024-kaps-annual-conference/
CATEGORIES:Kentucky
END:VEVENT
BEGIN:VEVENT
DTSTART;VALUE=DATE:20240614
DTEND;VALUE=DATE:20240615
DTSTAMP:20260423T184226
CREATED:20230718T134952Z
LAST-MODIFIED:20230718T135200Z
UID:5143-1718323200-1718409599@mentoringmondays.xyz
SUMMARY:KAPS-Golf Scramble and Family Picnic
DESCRIPTION:When: 06/14/2024\nTime: 9:30 AM\nLocation\nMy Old Kentucky Home State Park\, 668 Loretto Road\, Bardstown\, KY 40004
URL:https://mentoringmondays.xyz/event/kaps-golf-scramble-and-family-picnic/
CATEGORIES:Kentucky
END:VEVENT
BEGIN:VEVENT
DTSTART;VALUE=DATE:20240614
DTEND;VALUE=DATE:20240615
DTSTAMP:20260423T184226
CREATED:20230626T132210Z
LAST-MODIFIED:20230626T132210Z
UID:5106-1718323200-1718409599@mentoringmondays.xyz
SUMMARY:2024 Golf Scramble and Family Picnic
DESCRIPTION:When\n06/14/2024\n\n\n9:30 AM\n\nLocation\nMy Old Kentucky Home State Park\, 668 Loretto Road\, Bardstown\, KY 40004
URL:https://mentoringmondays.xyz/event/2024-golf-scramble-and-family-picnic/
CATEGORIES:Kentucky
END:VEVENT
BEGIN:VEVENT
DTSTART;VALUE=DATE:20230920
DTEND;VALUE=DATE:20230923
DTSTAMP:20260423T184226
CREATED:20230123T211649Z
LAST-MODIFIED:20230123T211649Z
UID:4500-1695168000-1695427199@mentoringmondays.xyz
SUMMARY:KSCA 2023 Fall Conference Registration
DESCRIPTION:September 20-22\, 2023 \n 
URL:https://mentoringmondays.xyz/event/ksca-2023-fall-conference-registration/
CATEGORIES:American School Counselor Association (ASCA),Kentucky
END:VEVENT
BEGIN:VEVENT
DTSTART;VALUE=DATE:20230919
DTEND;VALUE=DATE:20230921
DTSTAMP:20260423T184226
CREATED:20230117T201800Z
LAST-MODIFIED:20230117T201800Z
UID:4278-1695081600-1695254399@mentoringmondays.xyz
SUMMARY:2023 KAPS Annual Conference
DESCRIPTION:09/19/2023\n\n\n(CDT)\n\nEnd\n09/20/2023\n\n\n(CDT)\n\nLocation\nCenter for Rural Development\, 2292 S Highway 27\, Somerset\, KY 42501
URL:https://mentoringmondays.xyz/event/2023-kaps-annual-conference/
CATEGORIES:Kentucky
END:VEVENT
BEGIN:VEVENT
DTSTART;VALUE=DATE:20230818
DTEND;VALUE=DATE:20230819
DTSTAMP:20260423T184226
CREATED:20230626T132030Z
LAST-MODIFIED:20230626T132030Z
UID:5104-1692316800-1692403199@mentoringmondays.xyz
SUMMARY:KAPS- Falls of the Ohio Survey Truck Show
DESCRIPTION:More information coming soon!
URL:https://mentoringmondays.xyz/event/kaps-falls-of-the-ohio-survey-truck-show/
CATEGORIES:Kentucky
END:VEVENT
BEGIN:VEVENT
DTSTART;VALUE=DATE:20230718
DTEND;VALUE=DATE:20230719
DTSTAMP:20260423T184226
CREATED:20230626T130731Z
LAST-MODIFIED:20230626T130731Z
UID:5102-1689638400-1689724799@mentoringmondays.xyz
SUMMARY:KAPS- Falls of the Ohio Top Golf Drop-in Meeting
DESCRIPTION:More information coming soon!
URL:https://mentoringmondays.xyz/event/kaps-falls-of-the-ohio-top-golf-drop-in-meeting/
CATEGORIES:Kentucky
END:VEVENT
BEGIN:VEVENT
DTSTART;VALUE=DATE:20230616
DTEND;VALUE=DATE:20230617
DTSTAMP:20260423T184226
CREATED:20230213T162722Z
LAST-MODIFIED:20230328T131210Z
UID:4727-1686873600-1686959999@mentoringmondays.xyz
SUMMARY:KAPS Annual Golf Scramble & Family Picnic
DESCRIPTION:When\n06/16/2023\n\n\n9:30 AM\n\nLocation\nMy Old Kentucky Home State Park\, 668 Loretto Rd\, Bardstown\, KY 40004-0323
URL:https://mentoringmondays.xyz/event/kaps-annual-golf-scramble-family-picnic/
CATEGORIES:Kentucky
END:VEVENT
BEGIN:VEVENT
DTSTART;VALUE=DATE:20230519
DTEND;VALUE=DATE:20230520
DTSTAMP:20260423T184226
CREATED:20230428T131220Z
LAST-MODIFIED:20230428T131220Z
UID:4967-1684454400-1684540799@mentoringmondays.xyz
SUMMARY:KAPS Field Crew Olympics Hosted by Falls of the Ohio
DESCRIPTION:When\n05/19/2023\n\n\n8:00 AM – 1:00 PM\n\nLocation\nLouisville Northeast Regional Library\, 15 Bellevoir Cir\, Louisville\, KY 40223\n\n\n\n\nRegistration\n\n1 or 2 Player Team – $110.00\nIncludes one associate membership for the crew chief
URL:https://mentoringmondays.xyz/event/kaps-field-crew-olympics-hosted-by-falls-of-the-ohio/
CATEGORIES:All Events,Kentucky
END:VEVENT
BEGIN:VEVENT
DTSTART;VALUE=DATE:20230422
DTEND;VALUE=DATE:20230423
DTSTAMP:20260423T184226
CREATED:20230420T180104Z
LAST-MODIFIED:20230420T180104Z
UID:4950-1682121600-1682207999@mentoringmondays.xyz
SUMMARY:KAPS- Spring Seminar Hosted by Northern Kentucky Chapter
DESCRIPTION:The Northern Kentucky Chapter of KAPS will be hosting an in-person spring seminar taught by Nicholas Jerdon\, PLS\, Kyle Elliott\, PLS\, Bud Salyer\, Attorney\, and Tim Tong\, PLS on April 22\, 2023 at Riegler Blacktop’s Training Room in Florence\, KY.  All times are Eastern. \n\nWhen\n04/22/2023\n\n\n8:00 AM – 5:00 PM\n\nLocation\nRiegler Blacktop Training Room\, 165 Weaver Road\, Florence\, KY 41042
URL:https://mentoringmondays.xyz/event/kaps-spring-seminar-hosted-by-northern-kentucky-chapter/
CATEGORIES:All Events,Kentucky
END:VEVENT
BEGIN:VEVENT
DTSTART;TZID=UTC:20220929T080000
DTEND;TZID=UTC:20221001T170000
DTSTAMP:20260423T184226
CREATED:20220110T203355Z
LAST-MODIFIED:20220815T182401Z
UID:3538-1664438400-1664643600@mentoringmondays.xyz
SUMMARY:2022 KAPS Annual Conference
DESCRIPTION:29 Sep 2022- 1 Oct 2022 \nLocation \nHoliday Inn University Plaza\, 1021 Wilkinson Trace\, Bowling Green\, KY 42103
URL:https://mentoringmondays.xyz/event/2022-kaps-annual-conference/
CATEGORIES:Kentucky
END:VEVENT
BEGIN:VEVENT
DTSTART;VALUE=DATE:20210929
DTEND;VALUE=DATE:20211003
DTSTAMP:20260423T184226
CREATED:20210226T001443Z
LAST-MODIFIED:20210825T162436Z
UID:2674-1632873600-1633219199@mentoringmondays.xyz
SUMMARY:Kentucky: KAPS Conference
DESCRIPTION:KAPS Conference \nSep 29 – Oct 2\, 2021 \nFor more details please click here.
URL:https://mentoringmondays.xyz/event/kentucky-kaps-conference/
CATEGORIES:Kentucky
ATTACH;FMTTYPE=image/png:https://mentoringmondays.xyz/wp-content/uploads/2021/02/kaps-logo-small-2.png
END:VEVENT
END:VCALENDAR