BEGIN:VCALENDAR
VERSION:2.0
PRODID:-//Mentoring Mondays - ECPv6.15.20//NONSGML v1.0//EN
CALSCALE:GREGORIAN
METHOD:PUBLISH
X-WR-CALNAME:Mentoring Mondays
X-ORIGINAL-URL:https://mentoringmondays.xyz
X-WR-CALDESC:Events for Mentoring Mondays
REFRESH-INTERVAL;VALUE=DURATION:PT1H
X-Robots-Tag:noindex
X-PUBLISHED-TTL:PT1H
BEGIN:VTIMEZONE
TZID:UTC
BEGIN:STANDARD
TZOFFSETFROM:+0000
TZOFFSETTO:+0000
TZNAME:UTC
DTSTART:20250101T000000
END:STANDARD
END:VTIMEZONE
BEGIN:VEVENT
DTSTART;VALUE=DATE:20260916
DTEND;VALUE=DATE:20260919
DTSTAMP:20260423T231632
CREATED:20260105T193550Z
LAST-MODIFIED:20260105T193550Z
UID:6323-1789516800-1789775999@mentoringmondays.xyz
SUMMARY:2026 KAPS Annual Conference
DESCRIPTION:Start\n09/16/2026\n\nEnd\n09/18/2026\n\nLocation\nCenter for Rural Development\, 2292 S Highway 27\, Somerset\, KY 42501
URL:https://mentoringmondays.xyz/event/2026-kaps-annual-conference/
CATEGORIES:Kentucky
END:VEVENT
END:VCALENDAR