BEGIN:VCALENDAR
VERSION:2.0
PRODID:-//Mentoring Mondays - ECPv6.15.20//NONSGML v1.0//EN
CALSCALE:GREGORIAN
METHOD:PUBLISH
X-WR-CALNAME:Mentoring Mondays
X-ORIGINAL-URL:https://mentoringmondays.xyz
X-WR-CALDESC:Events for Mentoring Mondays
REFRESH-INTERVAL;VALUE=DURATION:PT1H
X-Robots-Tag:noindex
X-PUBLISHED-TTL:PT1H
BEGIN:VTIMEZONE
TZID:UTC
BEGIN:STANDARD
TZOFFSETFROM:+0000
TZOFFSETTO:+0000
TZNAME:UTC
DTSTART:20240101T000000
END:STANDARD
END:VTIMEZONE
BEGIN:VEVENT
DTSTART;VALUE=DATE:20250405
DTEND;VALUE=DATE:20250406
DTSTAMP:20260424T190937
CREATED:20250325T171216Z
LAST-MODIFIED:20250325T171216Z
UID:6151-1743811200-1743897599@mentoringmondays.xyz
SUMMARY:Spring Seminar Hosted by Northern Kentucky Chapter
DESCRIPTION:When\n04/05/2025\n\n\n\n8:00 AM – 5:00 PM (EDT)\n\n\nLocation\nRiegler Blacktop Training Room\, 165 Weaver Road\, Florence\, KY 41042\n\n\nThe Northern Kentucky Chapter of KAPS will be hosting an in-person spring seminar led by Chris Gephart\, PLS\, Derek Roche\, and Tom Buschelman on April 5\, 2025 at Riegler Blacktop’s Training Room in Florence\, KY.  All times are Eastern.
URL:https://mentoringmondays.xyz/event/spring-seminar-hosted-by-northern-kentucky-chapter/
CATEGORIES:Kentucky
END:VEVENT
END:VCALENDAR