BEGIN:VCALENDAR
VERSION:2.0
PRODID:-//Mentoring Mondays - ECPv6.15.20//NONSGML v1.0//EN
CALSCALE:GREGORIAN
METHOD:PUBLISH
X-ORIGINAL-URL:https://mentoringmondays.xyz
X-WR-CALDESC:Events for Mentoring Mondays
REFRESH-INTERVAL;VALUE=DURATION:PT1H
X-Robots-Tag:noindex
X-PUBLISHED-TTL:PT1H
BEGIN:VTIMEZONE
TZID:UTC
BEGIN:STANDARD
TZOFFSETFROM:+0000
TZOFFSETTO:+0000
TZNAME:UTC
DTSTART:20200101T000000
END:STANDARD
END:VTIMEZONE
BEGIN:VEVENT
DTSTART;VALUE=DATE:20251016
DTEND;VALUE=DATE:20251018
DTSTAMP:20260423T184913
CREATED:20250325T171015Z
LAST-MODIFIED:20250325T171015Z
UID:6149-1760572800-1760745599@mentoringmondays.xyz
SUMMARY:KSLS 2025 Annual Meeting & Conference
DESCRIPTION:October 16th – 17th\, 2025 \nKansas Crossing Casino\, Pittsburg\, KS \nMore Information Coming Soon!
URL:https://mentoringmondays.xyz/event/ksls-2025-annual-meeting-conference/
CATEGORIES:Kansas
END:VEVENT
BEGIN:VEVENT
DTSTART;VALUE=DATE:20231005
DTEND;VALUE=DATE:20231006
DTSTAMP:20260423T184913
CREATED:20230816T165537Z
LAST-MODIFIED:20230816T171702Z
UID:5293-1696464000-1696550399@mentoringmondays.xyz
SUMMARY:KSLS- 2023 Annual Meeting & Conference
DESCRIPTION:Start\nOctober 05\, 2023 \n1:00 PM\n\nEnd\nOctober 06\, 2023\n5:30 PM\n\nLocation\nRamada by Wyndham Topeka Downtown Hotel & Convention Center\, 420 SE 6th St\, Topeka\, KS 66607\n\n\nFeaturing John Stahl\, P.S.\, CFedS\, UT\, MT with presentations including “Understanding the Risks Associated with Surveys\, Descriptions\, and Plats” (4 hours)\, “Unlocking Boundary Disputes – Who Holds the Keys?” (6 hours)\, and “The Future of the Professional Land Surveying Practice” (2 hours) \nEarn 12 CEUs. Event includes fundraising activities for the Charitable Foundation\, an Exhibitor’s social\, KSLS Board Meetings\, and the KSLS Annual Meeting.  \nKSLS does have a block of rooms setup at the Topeka Ramada. The group rate is $94. Please call the hotel directly at 785-234-5400 and mention your are with the Kansas Society of Land Surveyors to make your reservations. The cutoff date for the group rate is September 13\, 2023. 
URL:https://mentoringmondays.xyz/event/ksls-2023-annual-meeting-conference/
CATEGORIES:Kansas
END:VEVENT
BEGIN:VEVENT
DTSTART;VALUE=DATE:20230308
DTEND;VALUE=DATE:20230311
DTSTAMP:20260423T184913
CREATED:20230123T205855Z
LAST-MODIFIED:20230123T211055Z
UID:4498-1678233600-1678492799@mentoringmondays.xyz
SUMMARY:KCA & KSCA 2023 CONFERENCE
DESCRIPTION:KACES Pre-Conference- Wednesday\, March 8th\, 2023 \nIn-Person Conference: \nThursday\, March 9th & Friday\, March 10th\, 2023 \n 
URL:https://mentoringmondays.xyz/event/kca-ksca-2023-conference/
CATEGORIES:American School Counselor Association (ASCA),Kansas
END:VEVENT
BEGIN:VEVENT
DTSTART;VALUE=DATE:20221013
DTEND;VALUE=DATE:20221015
DTSTAMP:20260423T184913
CREATED:20220324T171237Z
LAST-MODIFIED:20220815T181643Z
UID:3706-1665619200-1665791999@mentoringmondays.xyz
SUMMARY:KSLS: 2022 Annual Conference
DESCRIPTION:2022 Annual Meeting \nSponsored by the South Central Chapter \nWichita\, KS \nOctober 13 & 14\, 2022 \nCheck in later for more information.
URL:https://mentoringmondays.xyz/event/ksls-2022-annual-conference/
CATEGORIES:Kansas
END:VEVENT
BEGIN:VEVENT
DTSTART;VALUE=DATE:20220106
DTEND;VALUE=DATE:20220110
DTSTAMP:20260423T184913
CREATED:20220110T203013Z
LAST-MODIFIED:20220110T203013Z
UID:3536-1641427200-1641772799@mentoringmondays.xyz
SUMMARY:KSLS: 2022 SALINA SEMINAR SERIES
DESCRIPTION:2022 SALINA SEMINAR SERIES \nJanuary  6 – 9\, 2022 – Webster Conference Center\, Salina\, KS \nFeatured Speaker:  Joseph Fenicle\, PS \nGo to:  www.salinaseminarseries.org for more information
URL:https://mentoringmondays.xyz/event/ksls-2022-salina-seminar-series/
CATEGORIES:Kansas
END:VEVENT
BEGIN:VEVENT
DTSTART;VALUE=DATE:20211007
DTEND;VALUE=DATE:20211009
DTSTAMP:20260423T184913
CREATED:20210222T233121Z
LAST-MODIFIED:20210825T163024Z
UID:2622-1633564800-1633737599@mentoringmondays.xyz
SUMMARY:Kansas:  KSLS Annual Meeting & Conference
DESCRIPTION:KSLS Annual Meeting & Conference \nOctober 7-8\, 2021 at the Hoover Pavilion\, 108 4th Avenue\, Dodge City\, KS (In Wright Park) \nRegistration Opens August 6\, 2021\nFeatured Speaker:  Brian Portwood\, PS\nLocation:  Hoover Pavilion\, 108 4th Avenue\, Dodge City\, KS (In Wright Park)\nNOTE:  We don’t have an official hotel this year – please choose from one of the many hotels in Dodge City. \nClick on the Speaker’s name for their bio and class description. \nClick Here for class handouts.  Handouts are posted as they are received from the speaker.  Check your confirmation email for the password. \n\n\n\n Thursday\, October 7\, 2021\n\n\n\n\n 10:00 a.m. – 12:00 p.m.\nFoundation and KSLS Board Meetings\n\n\n\n 12:00 p.m.\nCheck-in\n\n\n\n 1:00 – 5:00 p.m.\nSupreme Court Cases National and Kansas\nBrian Portwood\, PS\n\n\n 5:00 – 7:00 p.m.\nVendor Social\n\n\n\n\n  \n\n\n\n Friday\, October 8\, 2021\n\n\n\n\n 8:00 a.m. – 12:00 p.m.\nSupreme Court Cases National and Kansas  Continued\nBrian Portwood\, PS\n\n\n 12:00 – 1:30 p.m.\nKSLS Annual Meeting and Lunch\n\n\n\n 1:30 – 3:30 p.m.\nMinimum Standards\nBill Haverkamp\, PS\n\n\n 3:30 – 4:30 p.m.\nSurvey Records\nAndy Parker\, Hubtack\n\n\n 4:30 – 5:30 p.m.\nSurvey Review\nBen Rumbaugh\, PS
URL:https://mentoringmondays.xyz/event/kansas-ksls-annual-meeting-conference/
CATEGORIES:Kansas
END:VEVENT
BEGIN:VEVENT
DTSTART;TZID=UTC:20210413T173000
DTEND;TZID=UTC:20210413T210000
DTSTAMP:20260423T184913
CREATED:20210222T233009Z
LAST-MODIFIED:20210222T233009Z
UID:2620-1618335000-1618347600@mentoringmondays.xyz
SUMMARY:Kansas: KSLS & KSLS Charitable Foundation Boards
DESCRIPTION:KSLS & KSLS Charitable Foundation Boards \nApril 13\, 2021\, via Zoom.  Foundation at 5:30 p.m.\, followed by KSLS at 6:15 p.m.
URL:https://mentoringmondays.xyz/event/kansas-ksls-ksls-charitable-foundation-boards/
CATEGORIES:Kansas
END:VEVENT
END:VCALENDAR