BEGIN:VCALENDAR
VERSION:2.0
PRODID:-//Mentoring Mondays - ECPv6.15.20//NONSGML v1.0//EN
CALSCALE:GREGORIAN
METHOD:PUBLISH
X-WR-CALNAME:Mentoring Mondays
X-ORIGINAL-URL:https://mentoringmondays.xyz
X-WR-CALDESC:Events for Mentoring Mondays
REFRESH-INTERVAL;VALUE=DURATION:PT1H
X-Robots-Tag:noindex
X-PUBLISHED-TTL:PT1H
BEGIN:VTIMEZONE
TZID:UTC
BEGIN:STANDARD
TZOFFSETFROM:+0000
TZOFFSETTO:+0000
TZNAME:UTC
DTSTART:20200101T000000
END:STANDARD
END:VTIMEZONE
BEGIN:VEVENT
DTSTART;VALUE=DATE:20260201
DTEND;VALUE=DATE:20260205
DTSTAMP:20260423T230427
CREATED:20260105T184234Z
LAST-MODIFIED:20260105T184234Z
UID:6313-1769904000-1770249599@mentoringmondays.xyz
SUMMARY:2026 ISPLS Conference
DESCRIPTION:Start\n1 Feb 2026\n\n \n\n1:00 PM (MST)\n\n\nEnd\n4 Feb 2026\n\n \n\n11:00 AM (MST)\n\n\nLocation\nRiverside Hotel\, Boise\, Idaho
URL:https://mentoringmondays.xyz/event/2026-ispls-conference/
CATEGORIES:Idaho
END:VEVENT
BEGIN:VEVENT
DTSTART;VALUE=DATE:20250202
DTEND;VALUE=DATE:20250206
DTSTAMP:20260423T230427
CREATED:20241114T182532Z
LAST-MODIFIED:20241114T182532Z
UID:6005-1738454400-1738799999@mentoringmondays.xyz
SUMMARY:2025 ISPLS Conference
DESCRIPTION:Start\n2 Feb 2025 \n\n1:00 PM (MST)\n\n\nEnd\n5 Feb 2025\n11:00 AM (MST)\n\nLocation\nRiverside Hotel\, Boise\, Idaho
URL:https://mentoringmondays.xyz/event/2025-ispls-conference/
CATEGORIES:Idaho
END:VEVENT
BEGIN:VEVENT
DTSTART;VALUE=DATE:20240227
DTEND;VALUE=DATE:20240302
DTSTAMP:20260423T230427
CREATED:20230918T165619Z
LAST-MODIFIED:20230918T165619Z
UID:5376-1708992000-1709337599@mentoringmondays.xyz
SUMMARY:ISPLS Conference 2024
DESCRIPTION:Start\n27 Feb 2024\n\n \n9:00 AM\n\nEnd\n1 Mar 2024\n\n \n12:00 PM\n\nLocation\nShoshone-Bannock Hotel\, Fort Hall\, Idaho
URL:https://mentoringmondays.xyz/event/ispls-conference-2024/
CATEGORIES:Idaho
END:VEVENT
BEGIN:VEVENT
DTSTART;VALUE=DATE:20230313
DTEND;VALUE=DATE:20230317
DTSTAMP:20260423T230427
CREATED:20230110T184744Z
LAST-MODIFIED:20230110T184744Z
UID:4208-1678665600-1679011199@mentoringmondays.xyz
SUMMARY:ISPLS - Conference 2023
DESCRIPTION:The Grove Hotel\n245 S Capitol Blvd\, Boise\, ID 83702\nPhone: (208) 333-8000 \nA guest room block and special rates of $179 per night are being held at the Grove Hotel – the location of the conference. \nPlease call 208-333-8000 mention the Idaho Society of Professional Land Surveyors (or ISPLS). \nTo book your room online: \nhttps://bookings.travelclick.com/76224?groupID=3545619#/guestsandrooms \nFor information on the hotel\, please visit the Grove Hotel. \nReserve by Feb. 17\, 2023. \nThe Hampton Inn\n495 S Capitol Blvd\, Boise\, ID 83702\nPhone: (208) 331-1900 \nA guest room block and special rates of $179 per night are being held at the Hampton Inn Downtown Boise. \nPlease call 208-331-1900 mention the Idaho Society of Professional Land Surveyors (or ISPLS). \nTo book your room online: \nhttps://www.hilton.com/en/attend-my-event/idahoassociationofprofessionallandsurveyors/ \nFor information on the hotel\, please visit the Hampton Inn Downtown Boise. \nReserve by Feb. 20\, 2023.
URL:https://mentoringmondays.xyz/event/ispls-conference-2023/
CATEGORIES:Idaho
END:VEVENT
BEGIN:VEVENT
DTSTART;VALUE=DATE:20220215
DTEND;VALUE=DATE:20220219
DTSTAMP:20260423T230427
CREATED:20220110T185144Z
LAST-MODIFIED:20220110T185223Z
UID:3487-1644883200-1645228799@mentoringmondays.xyz
SUMMARY:2022 ISPLS Annual Conference
DESCRIPTION:2022 ISPLS Annual Conference\nSurveying the Future\n\n\n\n\nFebruary 15-18\, 2022 \nParticipants attending all sessions and completing a program evaluation may be awarded up to 21 professional development hours upon registration\, attendance in the classes they are seeking PDH credit for and completion of all required forms. \nAttendance sheets for both live and virtual attendance needed for credit will be uploaded to the ISPLS website for those who complete all requirements within 2 weeks of the conference. If you need a certificate of credit those will be issued upon individual request.
URL:https://mentoringmondays.xyz/event/2022-ispls-annual-conference/
CATEGORIES:Idaho
ATTACH;FMTTYPE=image/png:https://mentoringmondays.xyz/wp-content/uploads/2022/01/ispls-logo-4.png
END:VEVENT
BEGIN:VEVENT
DTSTART;VALUE=DATE:20210217
DTEND;VALUE=DATE:20210220
DTSTAMP:20260423T230427
CREATED:20210222T220323Z
LAST-MODIFIED:20210222T220400Z
UID:2567-1613520000-1613779199@mentoringmondays.xyz
SUMMARY:Idaho: 2021 Annual Conference
DESCRIPTION:For more information please go to https://www.idahospls.org/events/
URL:https://mentoringmondays.xyz/event/idaho-2021-annual-conference/
CATEGORIES:Idaho
END:VEVENT
END:VCALENDAR