BEGIN:VCALENDAR
VERSION:2.0
PRODID:-//Mentoring Mondays - ECPv6.15.20//NONSGML v1.0//EN
CALSCALE:GREGORIAN
METHOD:PUBLISH
X-WR-CALNAME:Mentoring Mondays
X-ORIGINAL-URL:https://mentoringmondays.xyz
X-WR-CALDESC:Events for Mentoring Mondays
REFRESH-INTERVAL;VALUE=DURATION:PT1H
X-Robots-Tag:noindex
X-PUBLISHED-TTL:PT1H
BEGIN:VTIMEZONE
TZID:UTC
BEGIN:STANDARD
TZOFFSETFROM:+0000
TZOFFSETTO:+0000
TZNAME:UTC
DTSTART:20200101T000000
END:STANDARD
END:VTIMEZONE
BEGIN:VEVENT
DTSTART;VALUE=DATE:20240222
DTEND;VALUE=DATE:20240224
DTSTAMP:20260424T020823
CREATED:20231220T194538Z
LAST-MODIFIED:20231220T200305Z
UID:5574-1708560000-1708732799@mentoringmondays.xyz
SUMMARY:2024 HAWAII LAND SURVEYORS ASSOCIATION CONFERENCE
DESCRIPTION:Location: \nJapanese Cultural Center of Hawaii\n2454 S Beretania St.\nHonolulu\, HI 96826\nVenue website \n\n\n\n\nHLSA will be holding a two-day conference on Thursday\, February 22\, 2024 and Friday\, February 23\, 2024.
URL:https://mentoringmondays.xyz/event/2024-hawaii-land-surveyors-association-conference/
CATEGORIES:Hawaii
END:VEVENT
BEGIN:VEVENT
DTSTART;VALUE=DATE:20231103
DTEND;VALUE=DATE:20231104
DTSTAMP:20260424T020823
CREATED:20231024T145323Z
LAST-MODIFIED:20231024T145323Z
UID:5439-1698969600-1699055999@mentoringmondays.xyz
SUMMARY:HLSA - Annual Dinner Meeting
DESCRIPTION:November 03\, 2023\n4:30 PM – 8:00 PM \nKe’ehi Lagoon Memorial Park\, Tommy Kakesako Pavilion\n2685 N Nimitz Hwy\nHonolulu\, HI 96819 \nenjoy an afternoon and evening with fellow Hawaii surveyors\, with cold refreshments\, plenty of bbq\, and old-fashioned yard games under the trees.  Leave your stress behind.   Food and drink donated by HLSA member organizations.  There is plenty of free parking and beautiful grounds. \n 
URL:https://mentoringmondays.xyz/event/hlsa-annual-dinner-meeting/
CATEGORIES:Hawaii
END:VEVENT
BEGIN:VEVENT
DTSTART;VALUE=DATE:20230317
DTEND;VALUE=DATE:20230318
DTSTAMP:20260424T020823
CREATED:20230117T172419Z
LAST-MODIFIED:20230117T214019Z
UID:4264-1679011200-1679097599@mentoringmondays.xyz
SUMMARY:HLSA 2023 PACIFIC RIM GEOSPATIAL CONFERENCE - DAY 2
DESCRIPTION:Date/TimeMarch 17\, 2023\n8:00 AM – 5:00 PM\nAdd to Calendar \n\n\n\n\nLocation: Ala Moana Hotel\n410 Atkinson Dr\nHonolulu\, HI 96814\nDirections \nPartnering with Alaska Society of Professional Land Surveyors (ASPLS) and Hawaii Geographic Information Coordinating Council (HIGICC)\, Hawaii Land Surveyors Association (HLSA) is holding a joint conference with the theme “Legacy- Past\, Present\, Future” on all matters Surveying and GIS related. \nFor more details click here to visit 2023 Pacific Rim Geospatial Conference website. \nInterested in presenting at the 2023 Pacific Rim Geospatial Conference?  Please click here for inquiry.
URL:https://mentoringmondays.xyz/event/2023-pacific-rim-geospatial-conference-day-2/
CATEGORIES:Hawaii
END:VEVENT
BEGIN:VEVENT
DTSTART;VALUE=DATE:20230316
DTEND;VALUE=DATE:20230317
DTSTAMP:20260424T020823
CREATED:20230117T172146Z
LAST-MODIFIED:20230117T214038Z
UID:4261-1678924800-1679011199@mentoringmondays.xyz
SUMMARY:HLSA 2023 INSTALLATION BANQUET
DESCRIPTION:Date/Time: March 16\, 2023\n6:00 PM – 8:00 PM\nAdd to Calendar \n\n\n\n\nLocation: Ala Moana Hotel\n410 Atkinson Dr\nHonolulu\, HI 96814\nDirections \nInstallation of 2023 HLSA Board of Directors.  Honoring Newly Licenced Surveyors\, Surveyor of the Year\, Associate of the Year\, and the Lifetime Achievement Award.
URL:https://mentoringmondays.xyz/event/2023-installation-banquet/
CATEGORIES:Hawaii
END:VEVENT
BEGIN:VEVENT
DTSTART;VALUE=DATE:20230316
DTEND;VALUE=DATE:20230317
DTSTAMP:20260424T020823
CREATED:20230117T171851Z
LAST-MODIFIED:20230117T213958Z
UID:4259-1678924800-1679011199@mentoringmondays.xyz
SUMMARY:HLSA PACIFIC RIM GEOSPATIAL CONFERENCE - DAY 1
DESCRIPTION:  \n\n\nDate/TimeMarch 16\, 2023\n8:00 AM – 5:00 PM\nAdd to Calendar \n\n\n\n\nLocation: Ala Moana Hotel\n410 Atkinson Dr\nHonolulu\, HI 96814\nVenue website\nDirections \n\n\n\n\n\nPartnering with Alaska Society of Professional Land Surveyors (ASPLS) and Hawaii Geographic Information Coordinating Council (HIGICC)\, Hawaii Land Surveyors Association (HLSA) is holding a joint conference with the theme “Legacy- Past\, Present\, Future” on all matters Surveying and GIS related. \nFor more details click here to visit 2023 Pacific Rim Geospatial Conference website. \nInterested in presenting at the 2023 Pacific Rim Geospatial Conference?  Please click here for inquiry. \n 
URL:https://mentoringmondays.xyz/event/2023-pacific-rim-geospatial-conference-day-1/
CATEGORIES:Hawaii
END:VEVENT
BEGIN:VEVENT
DTSTART;VALUE=DATE:20230210
DTEND;VALUE=DATE:20230211
DTSTAMP:20260424T020823
CREATED:20230123T193315Z
LAST-MODIFIED:20230123T193315Z
UID:4494-1675987200-1676073599@mentoringmondays.xyz
SUMMARY:HSCA State Counselor Conference
DESCRIPTION:HSCA State Counselor Conference \nHawaii Okinawa Center – Legacy Ballroom \nWaipio\, Hawaii \n7:45am – 2:45pm
URL:https://mentoringmondays.xyz/event/hsca-state-counselor-conference/
CATEGORIES:American School Counselor Association (ASCA),Hawaii
END:VEVENT
BEGIN:VEVENT
DTSTART;VALUE=DATE:20230127
DTEND;VALUE=DATE:20230129
DTSTAMP:20260424T020823
CREATED:20230120T175820Z
LAST-MODIFIED:20230120T175829Z
UID:4400-1674777600-1674950399@mentoringmondays.xyz
SUMMARY:2023 Hawaii ACTE Conference
DESCRIPTION:“Reunited – and it feels so good”\nJanuary 27 -28\, 2023\nWindward Community College
URL:https://mentoringmondays.xyz/event/2023-hawaii-acte-conference/
CATEGORIES:Association for Career & Technical Education (ACTE),Hawaii
END:VEVENT
BEGIN:VEVENT
DTSTART;VALUE=DATE:20220428
DTEND;VALUE=DATE:20220501
DTSTAMP:20260424T020823
CREATED:20220324T145603Z
LAST-MODIFIED:20220324T145603Z
UID:3659-1651104000-1651363199@mentoringmondays.xyz
SUMMARY:Alaska - Hawaii Land Virtual Land Surveying Conference
DESCRIPTION:We are pleased to announce that the Alaska Society of Professional Land Surveyors (ASPLS) and the Hawaii Land Surveyors Association (HLSA) are partnering to host a Virtual Land Surveying Conference. The Conference will be held April 28 – 30\, 2022 via Zoom. All the details can be found in the News Section of the ASPLS website.
URL:https://mentoringmondays.xyz/event/alaska-hawaii-land-virtual-land-surveying-conference/
CATEGORIES:Alaska,Hawaii
END:VEVENT
BEGIN:VEVENT
DTSTART;TZID=UTC:20210304T070000
DTEND;TZID=UTC:20210304T213000
DTSTAMP:20260424T020823
CREATED:20210225T235751Z
LAST-MODIFIED:20210225T235751Z
UID:2668-1614841200-1614893400@mentoringmondays.xyz
SUMMARY:Hawaii: 2021 Hawaii Floodplain Management Virtual Training (Reviewing an Elevation Certificate)
DESCRIPTION:2021 Hawaii Floodplain Management Virtual Training \nReviewing an Elevation Certificate\nThursday\, March 4—9am HST—2.5 hours \nReviewing an Elevation Certificate\nRegistration Link (requires knowledge of the EC form—see EC Basics)\nIntermediate-level training on how to review ECs submitted during the development process. Common errors\, attachments\, how to make corrections.\nTools for Determining BFE\, LOMA Basics\, FEMA
URL:https://mentoringmondays.xyz/event/hawaii-2021-hawaii-floodplain-management-virtual-training-reviewing-an-elevation-certificate/
CATEGORIES:Hawaii
END:VEVENT
BEGIN:VEVENT
DTSTART;TZID=UTC:20210303T070000
DTEND;TZID=UTC:20210303T093000
DTSTAMP:20260424T020823
CREATED:20210225T235253Z
LAST-MODIFIED:20210225T235328Z
UID:2663-1614754800-1614763800@mentoringmondays.xyz
SUMMARY:Hawaii: 2021 Hawaii Floodplain Management Virtual Training (Permitting Floodplain Development)
DESCRIPTION:2021 Hawaii Floodplain Management Virtual Training \nPermitting Floodplain Development\nWednesday\, March 3—9am HST—90 mins \nPermitting Floodplain Development\nRegistration Link\nEight basic steps to reviewing development in the Special Flood Hazard Area.
URL:https://mentoringmondays.xyz/event/hawaii-2021-hawaii-floodplain-management-virtual-training/
CATEGORIES:Hawaii
END:VEVENT
BEGIN:VEVENT
DTSTART;TZID=UTC:20210226T090000
DTEND;TZID=UTC:20210226T220000
DTSTAMP:20260424T020823
CREATED:20210226T000353Z
LAST-MODIFIED:20210226T000353Z
UID:2672-1614330000-1614376800@mentoringmondays.xyz
SUMMARY:Hawaii: 2021 Hawaii Floodplain Management Virtual Training (Construction Certificates)
DESCRIPTION:2021 Hawaii Floodplain Management Virtual Training \nConstruction Certificates\nThursday\, March 11—11am HST—1 hour \nRegistration Link: \nLearn the types of supporting documents that must accompany certain floodplain development construction certificates\, such as V-zone breakaway walls\,\nengineered flood openings\, floodproofing and EC certificates.
URL:https://mentoringmondays.xyz/event/hawaii-2021-hawaii-floodplain-management-virtual-training-construction-certificates/
CATEGORIES:Hawaii
END:VEVENT
BEGIN:VEVENT
DTSTART;TZID=UTC:20210225T110000
DTEND;TZID=UTC:20210225T123000
DTSTAMP:20260424T020823
CREATED:20210225T235525Z
LAST-MODIFIED:20210225T235525Z
UID:2666-1614250800-1614256200@mentoringmondays.xyz
SUMMARY:Hawaii: 2021 Hawaii Floodplain Management Virtual Training (Inspecting Floodplain Development)
DESCRIPTION:Inspecting Floodplain Development\nWednesday\, March 3—1pm HST—90 mins \nInspecting Floodplain Development\nRegistration Link\nSpecial considerations for plan reviewers and building code officials when evaluating and inspecting development inside the SFHA\, minimum construction\nstandards (from the I-Codes)\, and conducting inspections.
URL:https://mentoringmondays.xyz/event/hawaii-2021-hawaii-floodplain-management-virtual-training-inspecting-floodplain-development/
CATEGORIES:Hawaii
END:VEVENT
BEGIN:VEVENT
DTSTART;TZID=UTC:20210225T070000
DTEND;TZID=UTC:20210225T213000
DTSTAMP:20260424T020823
CREATED:20210225T235119Z
LAST-MODIFIED:20210225T235119Z
UID:2661-1614236400-1614288600@mentoringmondays.xyz
SUMMARY:Hawaii: 2021 Hawaii Floodplain Management Virtual Training (Elevation Certificate Basics)
DESCRIPTION:2021 Hawaii Floodplain Management Virtual Training \nElevation Certificate Basics \nThursday\, February 25—9 am HST—2.5 hours \nElevation Certificate Basics\nRegistration Link\nSection-by-section basics of the FEMA Elevation Certificate form\, including\nbuilding diagram selection\, the lowest floor\, and common errors.
URL:https://mentoringmondays.xyz/event/hawaii-2021-hawaii-floodplain-management-virtual-training-elevation-certificate-basics/
CATEGORIES:Hawaii
END:VEVENT
BEGIN:VEVENT
DTSTART;TZID=UTC:20210225T070000
DTEND;TZID=UTC:20210225T093000
DTSTAMP:20260424T020823
CREATED:20210225T235952Z
LAST-MODIFIED:20210226T000209Z
UID:2670-1614236400-1614245400@mentoringmondays.xyz
SUMMARY:Hawaii: 2021 Hawaii Floodplain Management Virtual Training (Tools for BFE\, LOMA Basics\, MSC)
DESCRIPTION:Tools for BFE\, LOMA Basics\, MSC\nWednesday\, March 10—9am HST—2.5 hours \nTools for Determining BFE\, LOMA Basics\, FEMA\nMap Service Center\nRegistration Link \n 
URL:https://mentoringmondays.xyz/event/hawaii-2021-hawaii-floodplain-management-virtual-training-tools-for-bfe-loma-basics-msc/
CATEGORIES:Hawaii
END:VEVENT
END:VCALENDAR