BEGIN:VCALENDAR
VERSION:2.0
PRODID:-//Mentoring Mondays - ECPv6.15.20//NONSGML v1.0//EN
CALSCALE:GREGORIAN
METHOD:PUBLISH
X-WR-CALNAME:Mentoring Mondays
X-ORIGINAL-URL:https://mentoringmondays.xyz
X-WR-CALDESC:Events for Mentoring Mondays
REFRESH-INTERVAL;VALUE=DURATION:PT1H
X-Robots-Tag:noindex
X-PUBLISHED-TTL:PT1H
BEGIN:VTIMEZONE
TZID:UTC
BEGIN:STANDARD
TZOFFSETFROM:+0000
TZOFFSETTO:+0000
TZNAME:UTC
DTSTART:20200101T000000
END:STANDARD
END:VTIMEZONE
BEGIN:VEVENT
DTSTART;VALUE=DATE:20251112
DTEND;VALUE=DATE:20251114
DTSTAMP:20260424T020715
CREATED:20250707T134441Z
LAST-MODIFIED:20250707T134441Z
UID:6236-1762905600-1763078399@mentoringmondays.xyz
SUMMARY:2025 DAS Conference
DESCRIPTION:The 2025 Conference & Expo will be held on November 12 & 13\nat the Atlantic Sands Hotel & Conference Center\, Rehoboth Beach\, DE \nWe are very excited to have great speakers and courses for the 2025 conference!\nOnce everyone is confirmed\, we will email the DAS membership and then post registration information online. \nVendors – it’s not too early to request a vendor packet and secure your booth. The 2024 Conference saw many new vendors/exhibitors which filled the hall up quickly.  We hope to have them back next year as well as several new businesses
URL:https://mentoringmondays.xyz/event/2025-das-conference/
CATEGORIES:Delaware
END:VEVENT
BEGIN:VEVENT
DTSTART;VALUE=DATE:20241113
DTEND;VALUE=DATE:20241115
DTSTAMP:20260424T020715
CREATED:20240918T173621Z
LAST-MODIFIED:20240918T173621Z
UID:5949-1731456000-1731628799@mentoringmondays.xyz
SUMMARY:Delaware - Survey Conference & Expo
DESCRIPTION:Wednesday – Thursday\nNovember 13 & 14\, 2024\nAtlantic Sands Hotel & Conference Center Rehoboth Beach\, D \nSurvey 2024 will be held at the Atlantic Sands Hotel & Conference Center in Rehoboth Beach\, DE. The two-day conference\nwill once again be filled with informative sessions\, lunches and breaks\, and a cocktail reception on Wednesday\, all held in and around\nthe Exhibit Hall. Each class this year will be two hours\, giving registrants 2 pdh credits per course.. The category listing\, “Unlicensed\nTechnician” will again be available for anyone in the surveying field\, who is not licensed in any state and therefore will not require PDH\ncredits. Attending two (2) of Jeff Lucas’s legal-related sessions satisfies Maryland COMAR Regulation 09.13.08.03.\nThe conference opens at 7:30 am on Wednesday with a continental breakfast in the Exhibit Hall. The morning session begins\npromptly at 8:00 am and ends at noon. Lunch will be served from noon until 1:00 pm. The afternoon session begins at 1:00 pm and will\nconclude at 5:00 pm. There will be two breaks\, one in the morning and one in the afternoon\, held in the Exhibit Hall to provide\nregistrants and exhibitors several chances to network. At the conclusion of the day on Wednesday\, there will be a cocktail reception\nheld in the Exhibit Hall.
URL:https://mentoringmondays.xyz/event/delaware-survey-conference-expo/
CATEGORIES:Delaware
END:VEVENT
BEGIN:VEVENT
DTSTART;VALUE=DATE:20241113
DTEND;VALUE=DATE:20241115
DTSTAMP:20260424T020715
CREATED:20240729T131757Z
LAST-MODIFIED:20240729T131757Z
UID:5840-1731456000-1731628799@mentoringmondays.xyz
SUMMARY:DAS 2024 Survey Conference
DESCRIPTION:Survey 2024 will be held at the Atlantic Sands Hotel & Conference Center in Rehoboth Beach\, DE. The two-day conference\nwill once again be filled with informative sessions\, lunches and breaks\, and a cocktail reception on Wednesday\, all held in and around\nthe Exhibit Hall. \nEach class this year will be two hours\, giving registrants 2 pdh credits per course.. The category listing\, “Unlicensed\nTechnician” will again be available for anyone in the surveying field\, who is not licensed in any state and therefore will not require PDH\ncredits. Attending two (2) of Jeff Lucas’s legal-related sessions satisfies Maryland COMAR Regulation 09.13.08.03.\nThe conference opens at 7:30 am on Wednesday with a continental breakfast in the Exhibit Hall. The morning session begins\npromptly at 8:00 am and ends at noon. Lunch will be served from noon until 1:00 pm. The afternoon session begins at 1:00 pm and will\nconclude at 5:00 pm. There will be two breaks\, one in the morning and one in the afternoon\, held in the Exhibit Hall to provide\nregistrants and exhibitors several chances to network. At the conclusion of the day on Wednesday\, there will be a cocktail reception\nheld in the Exhibit Hall. \nThursday begins again at 7:30 am with a continental breakfast in the Exhibit Hall. The format for the day is the same as\nWednesday with the morning session beginning at 8:00 am and ending at noon\, and the afternoon session beginning at 1:00 pm and\nending at 5:00 pm. Lunch will be served at noon. The conference concludes with the end of the afternoon classes at 5:00 pm. Continuing\nEducation Units (CEU) will be computed from signatures on sign-in sheets in each of the classrooms and certificates will be formulated\nfrom those sheets and mailed to the registrants.
URL:https://mentoringmondays.xyz/event/das-2024-survey-conference/
CATEGORIES:Delaware
END:VEVENT
BEGIN:VEVENT
DTSTART;VALUE=DATE:20240516
DTEND;VALUE=DATE:20240517
DTSTAMP:20260424T020715
CREATED:20240327T200639Z
LAST-MODIFIED:20240327T200639Z
UID:5761-1715817600-1715903999@mentoringmondays.xyz
SUMMARY:DAS - 6th Annual Golf Tournament
DESCRIPTION:On Thursday\, May 16\, 2024\, the Delaware Association of Surveyors (DAS) will hold its 6th Annual Chuck Surguy\nMemorial Golf Tournament\, In Honor of Danny Simmons at Jonathan’s Landing in Magnolia\, DE. A 9:00 am start will\nfeature a four-person scramble. The cost\, which includes a cart\, is $100 per person. \nALL PROCEEDS WILL BENEFIT THE DAS EDUCATION FUND.\nThis golf tournament is open to everyone—you do not have to be a DAS member to play!\nSponsorships are available for $100. Names of sponsors will be placed prominently on tee boxes throughout the course.\nIndividuals and businesses are invited to become sponsors of this event! If you would like to be a sponsor\, please\nemail your company logo\, as you would like it displayed on the sign\, preferably in .pdf or .png format to\ndesurveyors@gmail.com as soon as possible\, together with this form and payment.\nWe invite you to join us on May 16th\, either individually or with a foursome. It is a time for good-natured rivalries to be\nsettled\, and new ones are to be formed!!
URL:https://mentoringmondays.xyz/event/das-6th-annual-golf-tournament/
CATEGORIES:Delaware
END:VEVENT
BEGIN:VEVENT
DTSTART;VALUE=DATE:20231108
DTEND;VALUE=DATE:20231110
DTSTAMP:20260424T020715
CREATED:20230117T162802Z
LAST-MODIFIED:20230117T162802Z
UID:4254-1699401600-1699574399@mentoringmondays.xyz
SUMMARY:DAS 2023 Conference & Expo
DESCRIPTION:The dates for the 2023 Conference have been set. Mark your calendar so you can join everyone on November 8 & 9\, 2023 at the Atlantic Sands Hotel & Conference Center in Rehoboth Beach\, DE \nWe have limited space for exhibitors so if you are a vendor and would like registration information and a place in our Exhibit Hall\, please contact DAS at desurveyors@gmail.com.
URL:https://mentoringmondays.xyz/event/das-2023-conference-expo/
CATEGORIES:Delaware
END:VEVENT
BEGIN:VEVENT
DTSTART;VALUE=DATE:20230518
DTEND;VALUE=DATE:20230519
DTSTAMP:20260424T020715
CREATED:20230327T140310Z
LAST-MODIFIED:20230327T140310Z
UID:4847-1684368000-1684454399@mentoringmondays.xyz
SUMMARY:DAS 5th Annual Chuck Surguy Memorial Golf Tournament\, In Honor of Danny Simmons
DESCRIPTION:at Jonathan’s Landing in Magnolia\, DE. A 9:00 am start will feature a four-person scramble. The cost\, which includes a cart\, is $100 per person \nALL PROCEEDS WILL BENEFIT THE DAS EDUCATION FUND. \nThis golf tournament is open to everyone—you do not have to be a DAS member to play!\nSponsorships are also available for $100. Names of sponsors will be placed prominently on tee boxes throughout the\ncourse. Individuals\, as well as businesses\, are invited to become sponsors of this event! If you would like to be a sponsor\,\nplease email your company logo\, as you would like it displayed on the sign\, preferably in .pdf or .png format to\ndesurveyors@gmail.com as soon as possible\, together with this form and payment.\nWe invite you to join us on May 18th\, either individually or with a foursome. It is a time for good-natured rivalries to be\nsettled as well as new ones to be formed!!
URL:https://mentoringmondays.xyz/event/das-5th-annual-chuck-surguy-memorial-golf-tournament-in-honor-of-danny-simmons/
CATEGORIES:Delaware
END:VEVENT
BEGIN:VEVENT
DTSTART;VALUE=DATE:20230426
DTEND;VALUE=DATE:20230427
DTSTAMP:20260424T020715
CREATED:20230418T143159Z
LAST-MODIFIED:20230418T143159Z
UID:4871-1682467200-1682553599@mentoringmondays.xyz
SUMMARY:DAS April Annual Meeting
DESCRIPTION:Wednesday\, April 26\, 2023\, at Skipjack Dining\, 401 Louviers Dr.\, Newark\, DE \nCost: $45 per person \nTo make reservations\, please either Phone/Text 302-462-5293 or Email desurveyors@gmail.com
URL:https://mentoringmondays.xyz/event/das-april-annual-meeting/
CATEGORIES:All Events,Delaware
END:VEVENT
BEGIN:VEVENT
DTSTART;VALUE=DATE:20221109
DTEND;VALUE=DATE:20221111
DTSTAMP:20260424T020715
CREATED:20220324T170204Z
LAST-MODIFIED:20220324T170204Z
UID:3700-1667952000-1668124799@mentoringmondays.xyz
SUMMARY:DAS: 2022 Conference
DESCRIPTION:The date for the 2022 Conference has been set!\nNovember 9 & 10 (Wednesday & Thursday this year!)\nAtlantic Sands Hotel Rehoboth Beach\, DE\nLimited vendor space so call now to reserve your booth!
URL:https://mentoringmondays.xyz/event/das-2022-conference/
CATEGORIES:Delaware
END:VEVENT
BEGIN:VEVENT
DTSTART;VALUE=DATE:20211111
DTEND;VALUE=DATE:20211113
DTSTAMP:20260424T020715
CREATED:20210225T233242Z
LAST-MODIFIED:20210825T181943Z
UID:2652-1636588800-1636761599@mentoringmondays.xyz
SUMMARY:Delaware: Annual Conference
DESCRIPTION:November 11-12\, 2021 \nAtlantic Sands Hotel &Conference Center \nRehoboth Beach\, DE \nInformation will be available ​soon.  Please check back often.
URL:https://mentoringmondays.xyz/event/delaware-annual-conference/
CATEGORIES:Delaware
ATTACH;FMTTYPE=image/png:https://mentoringmondays.xyz/wp-content/uploads/2021/02/delaware.png
END:VEVENT
END:VCALENDAR