BEGIN:VCALENDAR
VERSION:2.0
PRODID:-//Mentoring Mondays - ECPv6.15.20//NONSGML v1.0//EN
CALSCALE:GREGORIAN
METHOD:PUBLISH
X-ORIGINAL-URL:https://mentoringmondays.xyz
X-WR-CALDESC:Events for Mentoring Mondays
REFRESH-INTERVAL;VALUE=DURATION:PT1H
X-Robots-Tag:noindex
X-PUBLISHED-TTL:PT1H
BEGIN:VTIMEZONE
TZID:UTC
BEGIN:STANDARD
TZOFFSETFROM:+0000
TZOFFSETTO:+0000
TZNAME:UTC
DTSTART:20250101T000000
END:STANDARD
END:VTIMEZONE
BEGIN:VEVENT
DTSTART;VALUE=DATE:20260201
DTEND;VALUE=DATE:20260205
DTSTAMP:20260423T195304
CREATED:20260105T184234Z
LAST-MODIFIED:20260105T184234Z
UID:6313-1769904000-1770249599@mentoringmondays.xyz
SUMMARY:2026 ISPLS Conference
DESCRIPTION:Start\n1 Feb 2026\n\n \n\n1:00 PM (MST)\n\n\nEnd\n4 Feb 2026\n\n \n\n11:00 AM (MST)\n\n\nLocation\nRiverside Hotel\, Boise\, Idaho
URL:https://mentoringmondays.xyz/event/2026-ispls-conference/
CATEGORIES:Idaho
END:VEVENT
END:VCALENDAR