BEGIN:VCALENDAR
VERSION:2.0
PRODID:-//Mentoring Mondays - ECPv6.15.20//NONSGML v1.0//EN
CALSCALE:GREGORIAN
METHOD:PUBLISH
X-WR-CALNAME:Mentoring Mondays
X-ORIGINAL-URL:https://mentoringmondays.xyz
X-WR-CALDESC:Events for Mentoring Mondays
REFRESH-INTERVAL;VALUE=DURATION:PT1H
X-Robots-Tag:noindex
X-PUBLISHED-TTL:PT1H
BEGIN:VTIMEZONE
TZID:UTC
BEGIN:STANDARD
TZOFFSETFROM:+0000
TZOFFSETTO:+0000
TZNAME:UTC
DTSTART:20240101T000000
END:STANDARD
END:VTIMEZONE
BEGIN:VEVENT
DTSTART;VALUE=DATE:20250123
DTEND;VALUE=DATE:20250125
DTSTAMP:20260425T015317
CREATED:20250114T140340Z
LAST-MODIFIED:20250114T140340Z
UID:6085-1737590400-1737763199@mentoringmondays.xyz
SUMMARY:Fresno State - 64th Annual Geomatics Engineering Conference
DESCRIPTION:Thursday\, January 23\, 2025to Friday\, January 24\, 2025\nCategory: Conferences\n\n\n\n\nThe 64th Annual Geomatics Conference is going to be held on January 23rd and 24th. This is a great opportunity for students to network\, and try for their first internship. We’ll have many professionals present to talk to and give advice on what you need to do before graduation.
URL:https://mentoringmondays.xyz/event/fresno-state-64th-annual-geomatics-engineering-conference/
CATEGORIES:California
END:VEVENT
END:VCALENDAR