BEGIN:VCALENDAR
VERSION:2.0
PRODID:-//Mentoring Mondays - ECPv6.15.20//NONSGML v1.0//EN
CALSCALE:GREGORIAN
METHOD:PUBLISH
X-ORIGINAL-URL:https://mentoringmondays.xyz
X-WR-CALDESC:Events for Mentoring Mondays
REFRESH-INTERVAL;VALUE=DURATION:PT1H
X-Robots-Tag:noindex
X-PUBLISHED-TTL:PT1H
BEGIN:VTIMEZONE
TZID:UTC
BEGIN:STANDARD
TZOFFSETFROM:+0000
TZOFFSETTO:+0000
TZNAME:UTC
DTSTART:20220101T000000
END:STANDARD
END:VTIMEZONE
BEGIN:VEVENT
DTSTART;VALUE=DATE:20230724
DTEND;VALUE=DATE:20230727
DTSTAMP:20260424T010157
CREATED:20230123T153636Z
LAST-MODIFIED:20230123T153636Z
UID:4457-1690156800-1690415999@mentoringmondays.xyz
SUMMARY:OH ACTE Conference
DESCRIPTION:July 24 @ 8:00 am – July 26 @ 5:00 pm
URL:https://mentoringmondays.xyz/event/oh-acte-conference/
CATEGORIES:Association for Career & Technical Education (ACTE)
END:VEVENT
BEGIN:VEVENT
DTSTART;VALUE=DATE:20230718
DTEND;VALUE=DATE:20230722
DTSTAMP:20260424T010157
CREATED:20230123T153443Z
LAST-MODIFIED:20230123T153443Z
UID:4455-1689638400-1689983999@mentoringmondays.xyz
SUMMARY:NV ACTE Summer Conference
DESCRIPTION:July 18 @ 8:00 am – July 21 @ 5:00 pm
URL:https://mentoringmondays.xyz/event/nv-acte-summer-conference/
CATEGORIES:Association for Career & Technical Education (ACTE)
END:VEVENT
BEGIN:VEVENT
DTSTART;VALUE=DATE:20230718
DTEND;VALUE=DATE:20230722
DTSTAMP:20260424T010157
CREATED:20230123T152354Z
LAST-MODIFIED:20230123T152354Z
UID:4453-1689638400-1689983999@mentoringmondays.xyz
SUMMARY:KY ACTE Conference
DESCRIPTION:July 18 @ 8:00 am – July 21 @ 5:00 pm
URL:https://mentoringmondays.xyz/event/ky-acte-conference/
CATEGORIES:Association for Career & Technical Education (ACTE)
END:VEVENT
BEGIN:VEVENT
DTSTART;VALUE=DATE:20230717
DTEND;VALUE=DATE:20230722
DTSTAMP:20260424T010157
CREATED:20230123T152237Z
LAST-MODIFIED:20230123T152237Z
UID:4451-1689552000-1689983999@mentoringmondays.xyz
SUMMARY:NC ACTE Summer Conference
DESCRIPTION:July 17 @ 8:00 am – July 21 @ 5:00 pm
URL:https://mentoringmondays.xyz/event/nc-acte-summer-conference/
CATEGORIES:Association for Career & Technical Education (ACTE)
END:VEVENT
BEGIN:VEVENT
DTSTART;VALUE=DATE:20230717
DTEND;VALUE=DATE:20230720
DTSTAMP:20260424T010157
CREATED:20230123T151814Z
LAST-MODIFIED:20230123T151814Z
UID:4449-1689552000-1689811199@mentoringmondays.xyz
SUMMARY:FL ACTE Conference
DESCRIPTION:July 17 @ 8:00 am – July 19 @ 5:00 pm
URL:https://mentoringmondays.xyz/event/fl-acte-conference/
CATEGORIES:Association for Career & Technical Education (ACTE)
END:VEVENT
BEGIN:VEVENT
DTSTART;VALUE=DATE:20230717
DTEND;VALUE=DATE:20230720
DTSTAMP:20260424T010157
CREATED:20230123T151523Z
LAST-MODIFIED:20230123T151523Z
UID:4447-1689552000-1689811199@mentoringmondays.xyz
SUMMARY:MS ACTE Summer Conference
DESCRIPTION:July 17 @ 8:00 am – July 19 @ 5:00 pm
URL:https://mentoringmondays.xyz/event/ms-acte-summer-conference/
CATEGORIES:Association for Career & Technical Education (ACTE)
END:VEVENT
BEGIN:VEVENT
DTSTART;VALUE=DATE:20230716
DTEND;VALUE=DATE:20230722
DTSTAMP:20260424T010157
CREATED:20230123T151354Z
LAST-MODIFIED:20230123T151354Z
UID:4445-1689465600-1689983999@mentoringmondays.xyz
SUMMARY:TIVA Summer Professional Development Conference
DESCRIPTION:July 16 @ 8:00 am – July 21 @ 5:00 pm
URL:https://mentoringmondays.xyz/event/tiva-summer-professional-development-conference/
CATEGORIES:Association for Career & Technical Education (ACTE)
END:VEVENT
BEGIN:VEVENT
DTSTART;VALUE=DATE:20230716
DTEND;VALUE=DATE:20230721
DTSTAMP:20260424T010157
CREATED:20230123T150658Z
LAST-MODIFIED:20230123T150658Z
UID:4443-1689465600-1689897599@mentoringmondays.xyz
SUMMARY:CACTE CareerTech Summit
DESCRIPTION:July 16 @ 8:00 am – July 20 @ 5:00 pm
URL:https://mentoringmondays.xyz/event/cacte-careertech-summit/
CATEGORIES:Association for Career & Technical Education (ACTE)
END:VEVENT
BEGIN:VEVENT
DTSTART;VALUE=DATE:20230716
DTEND;VALUE=DATE:20230721
DTSTAMP:20260424T010157
CREATED:20230123T150426Z
LAST-MODIFIED:20230123T150426Z
UID:4441-1689465600-1689897599@mentoringmondays.xyz
SUMMARY:2023 Colorado ACTE CareerTech Summit
DESCRIPTION:July 16 @ 8:00 am – July 20 @ 5:00 pm \nVENUE\nEmbassy Suites\, Loveland\, CO4705 Clydesdale Pkwy Loveland\, CO 80538 United States \n 
URL:https://mentoringmondays.xyz/event/2023-colorado-acte-careertech-summit/
CATEGORIES:Association for Career & Technical Education (ACTE),Colorado
END:VEVENT
BEGIN:VEVENT
DTSTART;VALUE=DATE:20230714
DTEND;VALUE=DATE:20230720
DTSTAMP:20260424T010157
CREATED:20230123T150220Z
LAST-MODIFIED:20230123T150220Z
UID:4439-1689292800-1689811199@mentoringmondays.xyz
SUMMARY:ACTE AZ Summer Conference
DESCRIPTION:July 14 @ 8:00 am – July 19 @ 5:00 pm
URL:https://mentoringmondays.xyz/event/acte-az-summer-conference/
CATEGORIES:Arizona,Association for Career & Technical Education (ACTE)
END:VEVENT
BEGIN:VEVENT
DTSTART;VALUE=DATE:20230712
DTEND;VALUE=DATE:20230716
DTSTAMP:20260424T010157
CREATED:20230123T150036Z
LAST-MODIFIED:20230123T150036Z
UID:4437-1689120000-1689465599@mentoringmondays.xyz
SUMMARY:CTEI Summer Conference
DESCRIPTION:July 12 @ 8:00 am – July 15 @ 5:00 pm
URL:https://mentoringmondays.xyz/event/ctei-summer-conference/
CATEGORIES:Association for Career & Technical Education (ACTE)
END:VEVENT
BEGIN:VEVENT
DTSTART;VALUE=DATE:20230711
DTEND;VALUE=DATE:20230713
DTSTAMP:20260424T010157
CREATED:20230123T145914Z
LAST-MODIFIED:20230123T145914Z
UID:4435-1689033600-1689206399@mentoringmondays.xyz
SUMMARY:Arkansas ACTE Summer Conference
DESCRIPTION:July 11 @ 8:00 am – July 12 @ 5:00 pm
URL:https://mentoringmondays.xyz/event/arkansas-acte-summer-conference/
CATEGORIES:Arkansas,Association for Career & Technical Education (ACTE)
END:VEVENT
BEGIN:VEVENT
DTSTART;VALUE=DATE:20230710
DTEND;VALUE=DATE:20230714
DTSTAMP:20260424T010157
CREATED:20230123T145422Z
LAST-MODIFIED:20230123T145422Z
UID:4433-1688947200-1689292799@mentoringmondays.xyz
SUMMARY:CTAT Summer Conference
DESCRIPTION:July 10 @ 8:00 am – July 13 @ 5:00 pm
URL:https://mentoringmondays.xyz/event/ctat-summer-conference/
CATEGORIES:Association for Career & Technical Education (ACTE)
END:VEVENT
BEGIN:VEVENT
DTSTART;VALUE=DATE:20230628
DTEND;VALUE=DATE:20230630
DTSTAMP:20260424T010157
CREATED:20230123T144020Z
LAST-MODIFIED:20230123T144020Z
UID:4430-1687910400-1688083199@mentoringmondays.xyz
SUMMARY:MAVA Conference
DESCRIPTION:June 28 @ 8:00 am – June 29 @ 5:00 pm
URL:https://mentoringmondays.xyz/event/mava-conference/
CATEGORIES:Association for Career & Technical Education (ACTE)
END:VEVENT
BEGIN:VEVENT
DTSTART;VALUE=DATE:20230626
DTEND;VALUE=DATE:20230630
DTSTAMP:20260424T010157
CREATED:20230123T143558Z
LAST-MODIFIED:20230123T143558Z
UID:4428-1687737600-1688083199@mentoringmondays.xyz
SUMMARY:SC ACTE Education and Business Summit
DESCRIPTION:June 26 @ 8:00 am – June 29 @ 5:00 pm
URL:https://mentoringmondays.xyz/event/sc-acte-education-and-business-summit/
CATEGORIES:Association for Career & Technical Education (ACTE)
END:VEVENT
BEGIN:VEVENT
DTSTART;VALUE=DATE:20230613
DTEND;VALUE=DATE:20230617
DTSTAMP:20260424T010157
CREATED:20230123T143001Z
LAST-MODIFIED:20230123T143001Z
UID:4424-1686614400-1686959999@mentoringmondays.xyz
SUMMARY:76th Annual GACTE Summer Conference
DESCRIPTION:The Classic Center\nAthens\, Georgia\nJune 13-16\, 2023
URL:https://mentoringmondays.xyz/event/76th-annual-gacte-summer-conference/
CATEGORIES:Association for Career & Technical Education (ACTE),Georgia
END:VEVENT
BEGIN:VEVENT
DTSTART;VALUE=DATE:20230612
DTEND;VALUE=DATE:20230615
DTSTAMP:20260424T010157
CREATED:20230120T164714Z
LAST-MODIFIED:20230120T164714Z
UID:4388-1686528000-1686787199@mentoringmondays.xyz
SUMMARY:ACTE’s Region III Leadership Conference
DESCRIPTION:June 12-14\, 2023\nDoubleTree by Hilton\nSpringfield\, Missouri
URL:https://mentoringmondays.xyz/event/actes-region-iii-leadership-conference/
CATEGORIES:Association for Career & Technical Education (ACTE),Missouri
END:VEVENT
BEGIN:VEVENT
DTSTART;VALUE=DATE:20230605
DTEND;VALUE=DATE:20230609
DTSTAMP:20260424T010157
CREATED:20230123T142830Z
LAST-MODIFIED:20230123T142830Z
UID:4422-1685923200-1686268799@mentoringmondays.xyz
SUMMARY:NE ACTE Conference
DESCRIPTION:Start: June 5 @ 8:00 am   End: June 8 @ 5:00 pm
URL:https://mentoringmondays.xyz/event/ne-acte-conference/
CATEGORIES:Association for Career & Technical Education (ACTE)
END:VEVENT
BEGIN:VEVENT
DTSTART;VALUE=DATE:20230503
DTEND;VALUE=DATE:20230506
DTSTAMP:20260424T010157
CREATED:20230120T155808Z
LAST-MODIFIED:20230120T155841Z
UID:4384-1683072000-1683331199@mentoringmondays.xyz
SUMMARY:ACTE’s Region I and Pennsylvania Leadership Conference 2023
DESCRIPTION:May 3-5\nBucks County Community College\nNewtown\, Pennsylvania
URL:https://mentoringmondays.xyz/event/actes-region-i-and-pennsylvania-leadership-conference-2023/
CATEGORIES:Association for Career & Technical Education (ACTE),Pennsylvania
END:VEVENT
BEGIN:VEVENT
DTSTART;VALUE=DATE:20230426
DTEND;VALUE=DATE:20230429
DTSTAMP:20260424T010157
CREATED:20230123T142527Z
LAST-MODIFIED:20230123T142527Z
UID:4420-1682467200-1682726399@mentoringmondays.xyz
SUMMARY:2023 National Work-based Learning Conference
DESCRIPTION:Start: April 26 @ 8:00 am End: April 28 @ 5:00 pm \nVENUE\nAtlanta Marriott Buckhead Hotel & Conference Center \n3405 Lenox Road NE Atlanta\, GA 30326 United States +
URL:https://mentoringmondays.xyz/event/2023-national-work-based-learning-conference/
CATEGORIES:Association for Career & Technical Education (ACTE),Georgia
END:VEVENT
BEGIN:VEVENT
DTSTART;VALUE=DATE:20230412
DTEND;VALUE=DATE:20230415
DTSTAMP:20260424T010157
CREATED:20230123T142207Z
LAST-MODIFIED:20230123T142207Z
UID:4418-1681257600-1681516799@mentoringmondays.xyz
SUMMARY:Oregon ACTE Annual Conference
DESCRIPTION:April 12-14\, 2023\nBend\, Oregon
URL:https://mentoringmondays.xyz/event/oregon-acte-annual-conference/
CATEGORIES:Association for Career & Technical Education (ACTE),Oregon
END:VEVENT
BEGIN:VEVENT
DTSTART;VALUE=DATE:20230412
DTEND;VALUE=DATE:20230416
DTSTAMP:20260424T010157
CREATED:20230120T172211Z
LAST-MODIFIED:20230120T172211Z
UID:4392-1681257600-1681603199@mentoringmondays.xyz
SUMMARY:2023 Region V Leadership Conference
DESCRIPTION:April 12-15\, 2023\nFargo\, North Dakota \nThe Region V Conference Committee is seeking presenters for the ACTE Region V Leadership Conference to be held at the Delta Hotels in Fargo\, ND on April 12-15\, 2023. Share your knowledge and program highlights with attendees! Strands to include Leadership and Advocacy\, Equity in the Classroom\, Assessment\, Career Ready Practice Integration Strategies\, Instructional Strategies\, and Business / Community partnerships.
URL:https://mentoringmondays.xyz/event/2023-region-v-leadership-conference/
CATEGORIES:Association for Career & Technical Education (ACTE),North Dakota
END:VEVENT
BEGIN:VEVENT
DTSTART;VALUE=DATE:20230329
DTEND;VALUE=DATE:20230401
DTSTAMP:20260424T010157
CREATED:20230120T165644Z
LAST-MODIFIED:20230120T165644Z
UID:4390-1680048000-1680307199@mentoringmondays.xyz
SUMMARY:ACTE REGION IV CONFERENCE 2023
DESCRIPTION:March 29-31\, 2023\nBeau Rivage Resort and Casino\nBiloxi\, Mississippi
URL:https://mentoringmondays.xyz/event/acte-region-iv-conference-2023/
CATEGORIES:Association for Career & Technical Education (ACTE),Mississippi
END:VEVENT
BEGIN:VEVENT
DTSTART;VALUE=DATE:20230319
DTEND;VALUE=DATE:20230323
DTSTAMP:20260424T010157
CREATED:20230123T141810Z
LAST-MODIFIED:20230123T141810Z
UID:4416-1679184000-1679529599@mentoringmondays.xyz
SUMMARY:NATIONAL POLICY SEMINAR 2023
DESCRIPTION:National Policy Seminar 2023​\nCrystal Gateway Marriott​\nArlington\, VA​\nMarch 19-22​ \n\n\nEngage on key federal education policy priorities ​\nInfluence federal policies related to CTE advocacy & messaging​\nParticipate in Capitol Hill visits
URL:https://mentoringmondays.xyz/event/national-policy-seminar-2023-2/
CATEGORIES:Association for Career & Technical Education (ACTE),Virginia
END:VEVENT
BEGIN:VEVENT
DTSTART;VALUE=DATE:20230319
DTEND;VALUE=DATE:20230323
DTSTAMP:20260424T010157
CREATED:20230120T155348Z
LAST-MODIFIED:20230120T155605Z
UID:4382-1679184000-1679529599@mentoringmondays.xyz
SUMMARY:National Policy Seminar 2023
DESCRIPTION:Crystal Gateway Marriott​\nArlington\, VA​\nMarch 19-22​ \n\n\nEngage on key federal education policy priorities ​\nInfluence federal policies related to CTE advocacy & messaging​\nParticipate in Capitol Hill visits
URL:https://mentoringmondays.xyz/event/national-policy-seminar-2023/
CATEGORIES:Association for Career & Technical Education (ACTE),Virginia
END:VEVENT
BEGIN:VEVENT
DTSTART;VALUE=DATE:20230306
DTEND;VALUE=DATE:20230307
DTSTAMP:20260424T010157
CREATED:20230123T141630Z
LAST-MODIFIED:20230123T141630Z
UID:4414-1678060800-1678147199@mentoringmondays.xyz
SUMMARY:Wisconsin State Conference 2023
DESCRIPTION:Date: March 6
URL:https://mentoringmondays.xyz/event/wisconsin-state-conference-2023/
CATEGORIES:Association for Career & Technical Education (ACTE)
END:VEVENT
BEGIN:VEVENT
DTSTART;VALUE=DATE:20230216
DTEND;VALUE=DATE:20230218
DTSTAMP:20260424T010157
CREATED:20230120T202913Z
LAST-MODIFIED:20230120T202913Z
UID:4411-1676505600-1676678399@mentoringmondays.xyz
SUMMARY:IL ACTE Conference
DESCRIPTION:Join us for the 93rdAnnual Conference and IACTE Annual Meeting on February 16-17\, 2023 at the Bloomington-Normal Marriott Hotel and Conference Center.  The theme of the 2023 conference is:  Connecting Passion to Opportunity
URL:https://mentoringmondays.xyz/event/il-acte-conference/
CATEGORIES:Association for Career & Technical Education (ACTE),Illinois
END:VEVENT
BEGIN:VEVENT
DTSTART;VALUE=DATE:20230215
DTEND;VALUE=DATE:20230218
DTSTAMP:20260424T010157
CREATED:20230120T202024Z
LAST-MODIFIED:20230120T202412Z
UID:4408-1676419200-1676678399@mentoringmondays.xyz
SUMMARY:West Virginia CTE Administrators Conference
DESCRIPTION:  \n\n\n\n\n\n\n\n\nStart:\nFebruary 15 @ 8:00 am\nEnd:\nFebruary 17 @ 5:00 pm\n\n\n\n\n\n\n\n\n\n\n  \n\n\n\n\n\n  \n 
URL:https://mentoringmondays.xyz/event/west-virginia-cte-administrators-conference/
CATEGORIES:Association for Career & Technical Education (ACTE),West Virgina
END:VEVENT
BEGIN:VEVENT
DTSTART;VALUE=DATE:20230203
DTEND;VALUE=DATE:20230205
DTSTAMP:20260424T010157
CREATED:20230120T195723Z
LAST-MODIFIED:20230120T195723Z
UID:4406-1675382400-1675555199@mentoringmondays.xyz
SUMMARY:UT ACTE Conference
DESCRIPTION:Utah ACTE conference will be February 3rd & 4th at Bingham High School in South Jordan\, Utah. Registration and Hotel information are coming. \nAll registration is on-site from this point forward. Onsite registration is $80 for non-members and $60 for members\, $25 for students.
URL:https://mentoringmondays.xyz/event/ut-acte-conference/
CATEGORIES:Association for Career & Technical Education (ACTE),Utah
END:VEVENT
BEGIN:VEVENT
DTSTART;VALUE=DATE:20230130
DTEND;VALUE=DATE:20230202
DTSTAMP:20260424T010157
CREATED:20230120T195443Z
LAST-MODIFIED:20230120T195443Z
UID:4404-1675036800-1675295999@mentoringmondays.xyz
SUMMARY:Texas Career Education Winter Conference (CTAT)
DESCRIPTION:January 30 @ 8:00 am – February 1 @ 5:00 pm
URL:https://mentoringmondays.xyz/event/texas-career-education-winter-conference-ctat/
CATEGORIES:Association for Career & Technical Education (ACTE),Texas
END:VEVENT
END:VCALENDAR