BEGIN:VCALENDAR
VERSION:2.0
PRODID:-//Mentoring Mondays - ECPv6.15.20//NONSGML v1.0//EN
CALSCALE:GREGORIAN
METHOD:PUBLISH
X-WR-CALNAME:Mentoring Mondays
X-ORIGINAL-URL:https://mentoringmondays.xyz
X-WR-CALDESC:Events for Mentoring Mondays
REFRESH-INTERVAL;VALUE=DURATION:PT1H
X-Robots-Tag:noindex
X-PUBLISHED-TTL:PT1H
BEGIN:VTIMEZONE
TZID:UTC
BEGIN:STANDARD
TZOFFSETFROM:+0000
TZOFFSETTO:+0000
TZNAME:UTC
DTSTART:20200101T000000
END:STANDARD
END:VTIMEZONE
BEGIN:VEVENT
DTSTART;VALUE=DATE:20260305
DTEND;VALUE=DATE:20260307
DTSTAMP:20260423T213200
CREATED:20260105T181540Z
LAST-MODIFIED:20260105T181540Z
UID:6303-1772668800-1772841599@mentoringmondays.xyz
SUMMARY:2026 ASPS Spring Conference & Expo
DESCRIPTION:When:\nMarch 5 & 6\, 2026\n8:00 AM\n\n\nWhere:\nEmbassy Suites Northwest Arkansas – Hotel\, Spa & Convention Center\n3303 Pinnacle Hills Pkwy\nRogers\, Arkansas  72758\nUnited States\n\n\nContact:\nS. Amber Weida\narsurv@sbcglobal.net\n5013210958
URL:https://mentoringmondays.xyz/event/2026-asps-spring-conference-expo/
CATEGORIES:Arkansas
END:VEVENT
BEGIN:VEVENT
DTSTART;VALUE=DATE:20251030
DTEND;VALUE=DATE:20251101
DTSTAMP:20260423T213200
CREATED:20250325T124326Z
LAST-MODIFIED:20250325T124326Z
UID:6146-1761782400-1761955199@mentoringmondays.xyz
SUMMARY:2025 ASPS Fall Conference
DESCRIPTION:When:\nOctober 30 & 31\, 2025\n\n\nWhere:\nMount Magazine Lodge\n577 Lodge Drive\nParis\, Arkansas  72855\nUnited States\n\n\nContact:\nS. Amber Weida\narsurv@sbcglobal.net\n501-321-0958
URL:https://mentoringmondays.xyz/event/2025-asps-fall-conference/
CATEGORIES:Arkansas
END:VEVENT
BEGIN:VEVENT
DTSTART;VALUE=DATE:20250403
DTEND;VALUE=DATE:20250405
DTSTAMP:20260423T213200
CREATED:20241114T143708Z
LAST-MODIFIED:20241114T143735Z
UID:5999-1743638400-1743811199@mentoringmondays.xyz
SUMMARY:2025 ASPS Spring Conference & Expo
DESCRIPTION:When:\nApril 3 & 4\, 2025\n8:00 AM\n\n\nWhere:\nOaklawn Racing Casino Resort\n2705 Central Avenue\nHot Springs\, Arkansas  71901\nUnited States\n\n\nContact:\nS. Amber Weida\narsurv@sbcglobal.net\n5013210958\n\n\n\n  \nCHECK BACK HERE IN JANUARY 2025 FOR PROGRAM AND REGISTRATION INFORMATION. \nOaklawn Racing Casino Resort lodging reservations \nDiscounted room rate: $155/night for King Rooms\nTo receive the discount\, you will need the group code below. \nGroup ID: BKG755 \n 
URL:https://mentoringmondays.xyz/event/2025-asps-spring-conference-expo/
CATEGORIES:Arkansas
END:VEVENT
BEGIN:VEVENT
DTSTART;VALUE=DATE:20241024
DTEND;VALUE=DATE:20241026
DTSTAMP:20260423T213200
CREATED:20240729T130246Z
LAST-MODIFIED:20240729T130246Z
UID:5838-1729728000-1729900799@mentoringmondays.xyz
SUMMARY:2024 ASPS Fall Conference
DESCRIPTION:When:\nOctober 24 & 25\, 2024\n\n\nWhere:\nMount Magazine Lodge\n577 Lodge Drive\nParis\, Arkansas  72855\nUnited States\n\n\nContact:\nS. Amber Weida\narsurv@sbcglobal.net\n501-321-0958
URL:https://mentoringmondays.xyz/event/2024-asps-fall-conference/
CATEGORIES:Arkansas
END:VEVENT
BEGIN:VEVENT
DTSTART;VALUE=DATE:20240328
DTEND;VALUE=DATE:20240330
DTSTAMP:20260423T213200
CREATED:20230814T183129Z
LAST-MODIFIED:20240102T145828Z
UID:5275-1711584000-1711756799@mentoringmondays.xyz
SUMMARY:2024 ASPS Spring Conference & Expo
DESCRIPTION:3/28/2024 » 3/29/2024 \nLocation: Hot Springs\, Arkansas    Time: 8:00 AM\n\n\nOaklawn Racing Casino Resort lodging reservations \nDiscounted room rate: $155/night for King Rooms\nTo receive the discount\, you will need the codes below. \nGroup ID: BKG328 \nPassword: 13453785
URL:https://mentoringmondays.xyz/event/2024-asps-spring-conference-expo/
CATEGORIES:Arkansas
END:VEVENT
BEGIN:VEVENT
DTSTART;VALUE=DATE:20231026
DTEND;VALUE=DATE:20231028
DTSTAMP:20260423T213200
CREATED:20230117T160913Z
LAST-MODIFIED:20230117T161716Z
UID:4244-1698278400-1698451199@mentoringmondays.xyz
SUMMARY:2023 ASPS Fall Conference
DESCRIPTION:When:\nOctober 26 & 27\, 2023\n\n\nWhere:\nMount Magazine Lodge\n577 Lodge Drive\nParis\, Arkansas  72855\nUnited States\n\n\nContact:\nS. Amber Weida\narsurv@sbcglobal.net\n501-321-0958
URL:https://mentoringmondays.xyz/event/asps-fall-conference/
CATEGORIES:Arkansas
END:VEVENT
BEGIN:VEVENT
DTSTART;VALUE=DATE:20230711
DTEND;VALUE=DATE:20230713
DTSTAMP:20260423T213200
CREATED:20230123T145914Z
LAST-MODIFIED:20230123T145914Z
UID:4435-1689033600-1689206399@mentoringmondays.xyz
SUMMARY:Arkansas ACTE Summer Conference
DESCRIPTION:July 11 @ 8:00 am – July 12 @ 5:00 pm
URL:https://mentoringmondays.xyz/event/arkansas-acte-summer-conference/
CATEGORIES:Arkansas,Association for Career & Technical Education (ACTE)
END:VEVENT
BEGIN:VEVENT
DTSTART;VALUE=DATE:20230427
DTEND;VALUE=DATE:20230429
DTSTAMP:20260423T213200
CREATED:20230117T160803Z
LAST-MODIFIED:20230117T161805Z
UID:4242-1682553600-1682726399@mentoringmondays.xyz
SUMMARY:2023 ASPS Spring Conference & Expo
DESCRIPTION:When:\nApril 27 & 28\, 2023\n8:00 AM\n\n\nWhere:\nOaklawn Racing Casino Resort\n2705 Central Avenue\nHot Springs\, Arkansas  71901\nUnited States\n\n\nContact:\nS. Amber Weida\narsurv@sbcglobal.net\n5013210958
URL:https://mentoringmondays.xyz/event/asps-spring-conference-expo/
CATEGORIES:Arkansas
END:VEVENT
BEGIN:VEVENT
DTSTART;VALUE=DATE:20221006
DTEND;VALUE=DATE:20221008
DTSTAMP:20260423T213200
CREATED:20220324T165643Z
LAST-MODIFIED:20220324T165643Z
UID:3696-1665014400-1665187199@mentoringmondays.xyz
SUMMARY:ASPS 2022 Fall Conference
DESCRIPTION:ASPS 2022 Fall Conference will be held October 6 & 7 at the Mount Magazine Lodge
URL:https://mentoringmondays.xyz/event/asps-2022-fall-conference/
CATEGORIES:Arkansas
END:VEVENT
BEGIN:VEVENT
DTSTART;VALUE=DATE:20220428
DTEND;VALUE=DATE:20220430
DTSTAMP:20260423T213200
CREATED:20220324T165734Z
LAST-MODIFIED:20220324T165734Z
UID:3698-1651104000-1651276799@mentoringmondays.xyz
SUMMARY:ASPS 2022 Spring Conference & Expo
DESCRIPTION:ASPS 2022 Spring Conference & Expo
URL:https://mentoringmondays.xyz/event/asps-2022-spring-conference-expo/
CATEGORIES:Arkansas
END:VEVENT
BEGIN:VEVENT
DTSTART;VALUE=DATE:20211028
DTEND;VALUE=DATE:20211030
DTSTAMP:20260423T213200
CREATED:20210825T181128Z
LAST-MODIFIED:20210825T181128Z
UID:3175-1635379200-1635551999@mentoringmondays.xyz
SUMMARY:ASPS: 2021 Fall Conference & Expo
DESCRIPTION:We are excited to begin planning for our first in-person conference in two years. This facility provides plenty of open space for professional inspiration and networking. Our program topics will be posted late this summer. \nHoliday Inn® Little Rock Conference Center\n201 Bankhead Drive\nLittle Rock\, AR 72206 \nGroup rate: $94.00\nReservation cutoff date: October 13\, 2021\nCall direct to reserve: 501-490-1000\nLet the reservation clerk know you are with ASPS.
URL:https://mentoringmondays.xyz/event/asps-2021-fall-conference-expo/
CATEGORIES:Arkansas
ATTACH;FMTTYPE=image/png:https://mentoringmondays.xyz/wp-content/uploads/2021/08/asps.png
END:VEVENT
BEGIN:VEVENT
DTSTART;VALUE=DATE:20210319
DTEND;VALUE=DATE:20210320
DTSTAMP:20260423T213200
CREATED:20210315T155656Z
LAST-MODIFIED:20210315T155656Z
UID:2719-1616112000-1616198399@mentoringmondays.xyz
SUMMARY:The USPLSS For Missouri And Arkansas
DESCRIPTION:Date And Time\n\n\n\n\n\nFriday\, March 19\, 2021\nVirtual Live Stream\n9 a.m. – Training Begins \n\n\n\n\n\nWebinar Information\n\n\n\n\n\nThis webinar is well suited for LSIT’s\, comity applicants for a Missouri or Arkansas PLS license\, or PLS’s who wish to earn PDU’s and expand their knowledge of the USPLSS as applied in the two states.\nThe seminar content will be web-streamed from a studio setting with a smartboard.\nThe schedule will be 9:00 am – 3:15 pm. There will be a break for lunch from 11:30 – 12:15 pm only. The webinar will have an interface for submitting questions to Dr. Elgin throughout the session. \n\n\n\n\n\nSystem Requirements\n\n\n\n\n\nTo participate virtually\, you will log in and register for the webinar using a link provided by MSPs; an “admission” link will then be sent to you. Connect using this link before the webinar. Your device must have a reliable Internet connection to ensure no disruptions. MSPs does not take responsibility for inadequate service or outages. We recommend having 20 Mbps internet speed; this is a safety factor. Actual demand from the system will only be around 5-7 Mbps. \n\n\n\n\n\nCourse Reference Manual\n\n\n\n\n\nHandouts will be emailed before the webinar. Still\, much of the lecture materials will be from Dr. Elgin’s books “The US Public Land Survey System for Missouri” and “The US Public Land Survey System for Arkansas.” You may wish to purchase one of these before the webinar. Both books are available here:  www.missourisurveyor.org. \n\n\n\n\n\nCancellation Policy For The Virtual Event\n\n\n\n\n\nIf there are not sufficient virtual registrations\, we will cancel and notify you on March 15\, 2021. The program\, in four modules\, will be available for purchase through the learning portal on the MSPS website at a later time. \n\n\n\n\n\nContinuing Education\n\n\n\n\n\nThe Missouri Board for Architects\, Professional Engineers\, Professional Land Surveyors\, and Professional Landscape Architects has reviewed and approved this course for 5.0 PDU’s (2.0 of which approved as Missouri Standards Education Credits). \n\n\nSee Agenda\n\n\n\n\n\nInterested in seeing what we have scheduled for the re-certification and tech training? Look here: https://bit.ly/37nMhN1
URL:https://mentoringmondays.xyz/event/the-usplss-for-missouri-and-arkansas/
CATEGORIES:Arkansas,Missouri
END:VEVENT
BEGIN:VEVENT
DTSTART;VALUE=DATE:20210318
DTEND;VALUE=DATE:20210416
DTSTAMP:20260423T213200
CREATED:20210225T232013Z
LAST-MODIFIED:20210225T232529Z
UID:2648-1616025600-1618531199@mentoringmondays.xyz
SUMMARY:Arkansas: 2021 ASPS Spring Conference
DESCRIPTION:All states have a story about how their state boundaries were determined. But few have the complex situation that comprised the state of Alabama. From being part of Georgia\, then the Mississippi Territory\, before becoming its own Territory\, then a state of its own. Throw in being part of England\, Spain\, and France and you have a great story. Some boundaries are on the water\, some old Indian treaties\, some by agreement between state leaders\, and some being latitudes or Meridians.\n\n\n\n\n\n\n\n\n\n\n\n\n\n\n\n\n\n\n\n\n\n\n\n\n\nSpend some time with Milton Denny as he spins this tale of the history of the great State of Alabama. Learn the status of the current corners and the effort of the Alabama Society of Professional Land Surveyors working to perpetuate this Alabama history. This work gives ASPLS meaning. \n3.5 Professional Development Hours (PDHs) \nApproved for Alabama & Florida. \nPresented by Milton Denny
URL:https://mentoringmondays.xyz/event/2021-asps-spring-conference/
CATEGORIES:Arkansas
END:VEVENT
END:VCALENDAR