BEGIN:VCALENDAR
VERSION:2.0
PRODID:-//Mentoring Mondays - ECPv6.15.20//NONSGML v1.0//EN
CALSCALE:GREGORIAN
METHOD:PUBLISH
X-WR-CALNAME:Mentoring Mondays
X-ORIGINAL-URL:https://mentoringmondays.xyz
X-WR-CALDESC:Events for Mentoring Mondays
REFRESH-INTERVAL;VALUE=DURATION:PT1H
X-Robots-Tag:noindex
X-PUBLISHED-TTL:PT1H
BEGIN:VTIMEZONE
TZID:UTC
BEGIN:STANDARD
TZOFFSETFROM:+0000
TZOFFSETTO:+0000
TZNAME:UTC
DTSTART:20200101T000000
END:STANDARD
END:VTIMEZONE
BEGIN:VEVENT
DTSTART;VALUE=DATE:20231011
DTEND;VALUE=DATE:20231015
DTSTAMP:20260424T161142
CREATED:20230120T155946Z
LAST-MODIFIED:20230120T163722Z
UID:4386-1696982400-1697327999@mentoringmondays.xyz
SUMMARY:ACTE REGION II 2023 LEADERSHIP CONFERENCE
DESCRIPTION:October 11-14\nHuntsville\, Alabama
URL:https://mentoringmondays.xyz/event/acte-region-ii-2023-leadership-conference/
CATEGORIES:Alabama,Association for Career & Technical Education (ACTE)
END:VEVENT
BEGIN:VEVENT
DTSTART;VALUE=DATE:20230627
DTEND;VALUE=DATE:20230630
DTSTAMP:20260424T161142
CREATED:20230117T160145Z
LAST-MODIFIED:20230427T154928Z
UID:4236-1687824000-1688083199@mentoringmondays.xyz
SUMMARY:ASPLS 2023 Summer Conference
DESCRIPTION:ASPLS 2023 Summer Conference\nHilton Pensacola Beach\nJune 27-29 \nBook your rooms early for the best options. Room rates start at $209 per night. Click this link to view room availability: \nhttps://www.my-event.hilton.com/alabamasocietyofprofessionallandsurveyors/ \nSession and registration details coming soon.  \nBasic schedule:  \nJune 27: 4:00 pm Board Meeting & Registration \nJune 28: 7:00 am – 5:00 pm Sessions \nJune 29: 7:00 am – 5:00 pm Sessions
URL:https://mentoringmondays.xyz/event/aspls-2023-summer-conference/
CATEGORIES:Alabama
END:VEVENT
BEGIN:VEVENT
DTSTART;VALUE=DATE:20230223
DTEND;VALUE=DATE:20230225
DTSTAMP:20260424T161142
CREATED:20230123T190342Z
LAST-MODIFIED:20230123T190342Z
UID:4488-1677110400-1677283199@mentoringmondays.xyz
SUMMARY:ALSCA 8th Annual Critical Issues for Alabama Schools Conference
DESCRIPTION:February 23 – February 24\n\n\n\nSchools are dealing with increasingly complex matters pertaining to students’ mental health and social/emotional well-being. Through the delivery of a comprehensive school counseling program\, with equitable access for all students\, school counselors can be influential in promoting student resilience and positive mental health outcomes.
URL:https://mentoringmondays.xyz/event/alsca-8th-annual-critical-issues-for-alabama-schools-conference/
CATEGORIES:Alabama,American School Counselor Association (ASCA)
END:VEVENT
BEGIN:VEVENT
DTSTART;VALUE=DATE:20221024
DTEND;VALUE=DATE:20221028
DTSTAMP:20260424T161142
CREATED:20220712T174616Z
LAST-MODIFIED:20220712T174616Z
UID:3844-1666569600-1666915199@mentoringmondays.xyz
SUMMARY:ASPLS Annual Conference and Tech Expo
DESCRIPTION:ASPLS Annual Conference and Tech Expo\nFor 2022\, ASPLS will be returning to the beautiful Lake Guntersville State Park Lodge as our 2021 attendees enjoyed it so much. \nThe dates are October 24-27 (seminars all-day October 25 and 26 and the morning of October 27). \nMore information coming soon.
URL:https://mentoringmondays.xyz/event/aspls-annual-conference-and-tech-expo/
CATEGORIES:Alabama
END:VEVENT
BEGIN:VEVENT
DTSTART;VALUE=DATE:20220629
DTEND;VALUE=DATE:20220701
DTSTAMP:20260424T161142
CREATED:20220110T200421Z
LAST-MODIFIED:20220110T200421Z
UID:3515-1656460800-1656633599@mentoringmondays.xyz
SUMMARY:ASPLS 2022 Summer Conference
DESCRIPTION:ASPLS 2022 Summer Conference\nDetails coming soon. Save the Date: The ASPLS 2022 Summer Conference will be held at the beautiful Lodge at Gulf State Park in Gulf Shores\, June 29 & 30\, 2022. \nThanks to our Break Sponsors: Lengemann and Transit & Level!
URL:https://mentoringmondays.xyz/event/aspls-2022-summer-conference/
CATEGORIES:Alabama
ATTACH;FMTTYPE=image/png:https://mentoringmondays.xyz/wp-content/uploads/2022/01/header_logo.png
END:VEVENT
BEGIN:VEVENT
DTSTART;TZID=UTC:20211018T100000
DTEND;TZID=UTC:20211018T160000
DTSTAMP:20260424T161142
CREATED:20210825T180242Z
LAST-MODIFIED:20210825T180308Z
UID:3168-1634551200-1634572800@mentoringmondays.xyz
SUMMARY:ASPLS: 2021 Scholarship Golf Tournament
DESCRIPTION:2021 Alabama Society of Professional Land Surveyors\nSCHOLARSHIP GOLF TOURNAMENT\nAll Surveyors\, Engineers\, Members\, Non-Members\, Vendors\, and Friends are invited to join the fun!\nAll proceeds from the Golf Tournament will go to the ASPLS Scholarship Fund.\nMonday\, October 18\, 2021 – Eagle Nest Golf Course at Lake Guntersville State Park\nTee Time: 10:00 a.m. – Modified Shotgun \n4 – Player Scramble (you do not need a handicap)\nAwards as follows: Longest Drive\, Longest Putt\, and Closest to the Pin
URL:https://mentoringmondays.xyz/event/aspls-2021-scholarship-golf-tournament/
CATEGORIES:Alabama
ATTACH;FMTTYPE=image/png:https://mentoringmondays.xyz/wp-content/uploads/2021/08/ASPLS.png
END:VEVENT
BEGIN:VEVENT
DTSTART;VALUE=DATE:20211018
DTEND;VALUE=DATE:20211022
DTSTAMP:20260424T161142
CREATED:20210825T180541Z
LAST-MODIFIED:20210825T180541Z
UID:3172-1634515200-1634860799@mentoringmondays.xyz
SUMMARY:ASPLS: 2021 Fall Individual Sessions
DESCRIPTION:ASPLS 58th Annual Fall Conference & Tech Expo \nOctober 18-21\, 2021 \nLake Guntersville State Park Lodge \nGuntersville\, Alabama \n  \nIndividual Session Registration \nIndividual session registration is the preferred option for surveyors or guests interested in only 1 or 2 sessions. If you are attending more than 2 sessions\, you should do the full registration for the best value. \nHotel & Meeting Information: \nFor Hotel Room Reservations and the complete schedule\, visit https://www.aspls.org/2021-Fall \nKey Dates and Times \nOctober 18\, 8:00 pm: Social Hour \nOctober 19\, 8:00 am: Breakfast and Exhibits followed by the Opening Session \nOctober 19\, 6:00 pm: ASPLS Awards Dinner \nOctober 20\, 7:30 pm: S’Mores for attendees and their families \nCancellations Fees: Full refunds with 10% cancellation fee until 4:00 pm October 11. No refunds will be given for cancellations received AFTER 4:00 pm Central time on October 11.
URL:https://mentoringmondays.xyz/event/aspls-2021-fall-individual-sessions/
CATEGORIES:Alabama
END:VEVENT
END:VCALENDAR