BEGIN:VCALENDAR
VERSION:2.0
PRODID:-//Mentoring Mondays - ECPv6.15.20//NONSGML v1.0//EN
CALSCALE:GREGORIAN
METHOD:PUBLISH
X-WR-CALNAME:Mentoring Mondays
X-ORIGINAL-URL:https://mentoringmondays.xyz
X-WR-CALDESC:Events for Mentoring Mondays
REFRESH-INTERVAL;VALUE=DURATION:PT1H
X-Robots-Tag:noindex
X-PUBLISHED-TTL:PT1H
BEGIN:VTIMEZONE
TZID:UTC
BEGIN:STANDARD
TZOFFSETFROM:+0000
TZOFFSETTO:+0000
TZNAME:UTC
DTSTART:20250101T000000
END:STANDARD
END:VTIMEZONE
BEGIN:VEVENT
DTSTART;VALUE=DATE:20260111
DTEND;VALUE=DATE:20260115
DTSTAMP:20260423T230240
CREATED:20260105T214856Z
LAST-MODIFIED:20260105T214856Z
UID:6363-1768089600-1768435199@mentoringmondays.xyz
SUMMARY:PSLS 2026 Survey Conference
DESCRIPTION:The Pennsylvania Society of Land Surveyors (PSLS)\, a statewide professional organization\, exists for the purpose of supporting\, improving and enhancing the profession\, its members\, and the practice of land surveying. PSLS focuses on providing education\, legislative involvement\, enhancing public awareness\, and the promulgation of the ethics of the profession.
URL:https://mentoringmondays.xyz/event/psls-2026-survey-conference/
CATEGORIES:Pennsylvania
END:VEVENT
BEGIN:VEVENT
DTSTART;VALUE=DATE:20260114
DTEND;VALUE=DATE:20260117
DTSTAMP:20260423T230240
CREATED:20260105T182023Z
LAST-MODIFIED:20260105T182023Z
UID:6307-1768348800-1768607999@mentoringmondays.xyz
SUMMARY:NSPS Certified Floodplain Surveyor (CFS) Training and Certification Program
DESCRIPTION: January 14\, 2026 – January 16\, 2026\n 8:00 am – 5:00 pm\n Heritage Hotel\, Golf\, Spa\, Conference Center\, 522 Heritage Road\, Southbury\, CT
URL:https://mentoringmondays.xyz/event/nsps-certified-floodplain-surveyor-cfs-training-and-certification-program/
CATEGORIES:Connecticut
END:VEVENT
BEGIN:VEVENT
DTSTART;VALUE=DATE:20260114
DTEND;VALUE=DATE:20260117
DTSTAMP:20260423T230240
CREATED:20260105T214455Z
LAST-MODIFIED:20260105T214455Z
UID:6361-1768348800-1768607999@mentoringmondays.xyz
SUMMARY:2026 PLSO Conference in Salem
DESCRIPTION:Attend In-Person\nJanuary 14 – 16\, 2026 \nAnnual Membership Meeting & Awards Ceremony: January 15\, 2026
URL:https://mentoringmondays.xyz/event/2026-plso-conference-in-salem/
CATEGORIES:Oregon
END:VEVENT
END:VCALENDAR